BEGIN:VCALENDAR
VERSION:2.0
PRODID:-//St. Clair County Community College - ECPv6.15.20//NONSGML v1.0//EN
CALSCALE:GREGORIAN
METHOD:PUBLISH
X-ORIGINAL-URL:https://sc4.edu
X-WR-CALDESC:Events for St. Clair County Community College
REFRESH-INTERVAL;VALUE=DURATION:PT1H
X-Robots-Tag:noindex
X-PUBLISHED-TTL:PT1H
BEGIN:VTIMEZONE
TZID:America/Detroit
BEGIN:DAYLIGHT
TZOFFSETFROM:-0500
TZOFFSETTO:-0400
TZNAME:EDT
DTSTART:20220313T070000
END:DAYLIGHT
BEGIN:STANDARD
TZOFFSETFROM:-0400
TZOFFSETTO:-0500
TZNAME:EST
DTSTART:20221106T060000
END:STANDARD
BEGIN:DAYLIGHT
TZOFFSETFROM:-0500
TZOFFSETTO:-0400
TZNAME:EDT
DTSTART:20230312T070000
END:DAYLIGHT
BEGIN:STANDARD
TZOFFSETFROM:-0400
TZOFFSETTO:-0500
TZNAME:EST
DTSTART:20231105T060000
END:STANDARD
BEGIN:DAYLIGHT
TZOFFSETFROM:-0500
TZOFFSETTO:-0400
TZNAME:EDT
DTSTART:20240310T070000
END:DAYLIGHT
BEGIN:STANDARD
TZOFFSETFROM:-0400
TZOFFSETTO:-0500
TZNAME:EST
DTSTART:20241103T060000
END:STANDARD
END:VTIMEZONE
BEGIN:VEVENT
DTSTART;TZID=America/Detroit:20230123T090000
DTEND;TZID=America/Detroit:20230201T190000
DTSTAMP:20260419T181612
CREATED:20221228T180500Z
LAST-MODIFIED:20221228T180501Z
UID:10001021-1674464400-1675278000@sc4.edu
SUMMARY:Beatrice Thornton Student Art Exhibition: Elementary Students’ Show
DESCRIPTION:Art teachers from all St. Clair County K-12 schools have been invited to choose student work for the exhibition. The 55th annual elementary show runs from Jan. 23 to Feb. 1. An opening ceremony is 6 to 6:30 p.m. Monday\, Jan. 23\, in the SC4 Fine Arts Theatre. \n\n\n\nLOCATION: SC4 Fine Arts Building GalleryGalleries closed Saturday and Sunday.
URL:https://sc4.edu/event/beatrice-thornton-student-art-exhibition-elementary-students-show-2/
LOCATION:MI
CATEGORIES:Arts,Community
END:VEVENT
BEGIN:VEVENT
DTSTART;TZID=America/Detroit:20230201T100000
DTEND;TZID=America/Detroit:20230201T110000
DTSTAMP:20260419T181612
CREATED:20230131T135529Z
LAST-MODIFIED:20230131T135531Z
UID:10001035-1675245600-1675249200@sc4.edu
SUMMARY:Radiologic Technology program information session
DESCRIPTION:Attend this virtual information session to ask questions and learn about the program\, course schedule\, any prerequisites\, and more. Join the meeting here:  https://sc4.edu/programs/health-human-services/radiologic-technology/
URL:https://sc4.edu/event/radiologic-technology-program-information-session-36/
LOCATION:MI
CATEGORIES:Academics,Admissions,Community
END:VEVENT
BEGIN:VEVENT
DTSTART;TZID=America/Detroit:20230201T173000
DTEND;TZID=America/Detroit:20230201T213000
DTSTAMP:20260419T181612
CREATED:20221110T202013Z
LAST-MODIFIED:20221110T202015Z
UID:10001146-1675272600-1675287000@sc4.edu
SUMMARY:Skippers Basketball home games
DESCRIPTION:The Skippers basketball teams take on Henry Ford College at the SC4 Fieldhouse. Women’s game tips off at 5:30 p.m. and the men’s at 7:30 p.m. \n\n\n\nBuy tickets in advance online at https://sc4skippers.com/fanzone/hometownTicketing
URL:https://sc4.edu/event/skippers-basketball-home-games-12/
LOCATION:MI
CATEGORIES:Athletics,Community
END:VEVENT
BEGIN:VEVENT
DTSTART;TZID=America/Detroit:20230202T100000
DTEND;TZID=America/Detroit:20230202T110000
DTSTAMP:20260419T181612
CREATED:20230131T135741Z
LAST-MODIFIED:20230131T135744Z
UID:10001168-1675332000-1675335600@sc4.edu
SUMMARY:Radiologic Technology program information session
DESCRIPTION:Attend this virtual information session to ask questions and learn about the program\, course schedule\, any prerequisites\, and more. Join the meeting here:  https://sc4.edu/programs/health-human-services/radiologic-technology/
URL:https://sc4.edu/event/radiologic-technology-program-information-session-37/
LOCATION:MI
CATEGORIES:Academics,Admissions,Community
END:VEVENT
BEGIN:VEVENT
DTSTART;TZID=America/Detroit:20230204T103000
DTEND;TZID=America/Detroit:20230204T120000
DTSTAMP:20260419T181612
CREATED:20230104T165353Z
LAST-MODIFIED:20230104T165443Z
UID:10001025-1675506600-1675512000@sc4.edu
SUMMARY:Black History Month Read-In Event
DESCRIPTION:In honor of Black History Month\, SC4’s Office of Diversity\, Equity and Inclusion in hosting a Read-In Event with guest author Solomon Johnson. This event is open to the public\, and we encourage K-12 students\, SC4 students\, faculty\, staff and the community to attend. \n\n\n\nThe National African American Read-In was created in 1990 by the Black Caucus of the National Council of Teachers of English to make literacy a significant part of Black History Month.  \n\n\n\nJoin us as we bring the community together to listen to poems\, stories and book excerpts from favorite Black authors. \n\n\n\nRegister to attend the event by filling out the event registration form or email dei@sc4.edu. \n\n\n\nLOCATION: SC4 Fine Arts Theatre
URL:https://sc4.edu/event/black-history-month-read-in-event-2/
LOCATION:MI
CATEGORIES:Community,Diversity Equity Inclusion
END:VEVENT
BEGIN:VEVENT
DTSTART;TZID=America/Detroit:20230205T120000
DTEND;TZID=America/Detroit:20230205T150000
DTSTAMP:20260419T181612
CREATED:20230203T144631Z
LAST-MODIFIED:20230203T144633Z
UID:10001171-1675598400-1675609200@sc4.edu
SUMMARY:SC4 Softball Camp
DESCRIPTION:SC4 athletics is offering a winter softball camp for players in grades 6 to 12. Instruction by SC4 softball coaches and team. \n\n\n\nRegistration and waivers must be completed by 4 p.m. Saturday\, Feb. 4. No registration at camp. \n\n\n\nDetails and registration info: https://stclair.nbsstore.net/2023-sc4-winter-softball-camp
URL:https://sc4.edu/event/sc4-softball-camp/
LOCATION:MI
CATEGORIES:Athletics,Community
END:VEVENT
END:VCALENDAR