BEGIN:VCALENDAR
VERSION:2.0
PRODID:-//St. Clair County Community College - ECPv6.15.20//NONSGML v1.0//EN
CALSCALE:GREGORIAN
METHOD:PUBLISH
X-WR-CALNAME:St. Clair County Community College
X-ORIGINAL-URL:https://sc4.edu
X-WR-CALDESC:Events for St. Clair County Community College
REFRESH-INTERVAL;VALUE=DURATION:PT1H
X-Robots-Tag:noindex
X-PUBLISHED-TTL:PT1H
BEGIN:VTIMEZONE
TZID:America/Detroit
BEGIN:DAYLIGHT
TZOFFSETFROM:-0500
TZOFFSETTO:-0400
TZNAME:EDT
DTSTART:20220313T070000
END:DAYLIGHT
BEGIN:STANDARD
TZOFFSETFROM:-0400
TZOFFSETTO:-0500
TZNAME:EST
DTSTART:20221106T060000
END:STANDARD
BEGIN:DAYLIGHT
TZOFFSETFROM:-0500
TZOFFSETTO:-0400
TZNAME:EDT
DTSTART:20230312T070000
END:DAYLIGHT
BEGIN:STANDARD
TZOFFSETFROM:-0400
TZOFFSETTO:-0500
TZNAME:EST
DTSTART:20231105T060000
END:STANDARD
BEGIN:DAYLIGHT
TZOFFSETFROM:-0500
TZOFFSETTO:-0400
TZNAME:EDT
DTSTART:20240310T070000
END:DAYLIGHT
BEGIN:STANDARD
TZOFFSETFROM:-0400
TZOFFSETTO:-0500
TZNAME:EST
DTSTART:20241103T060000
END:STANDARD
END:VTIMEZONE
BEGIN:VEVENT
DTSTART;TZID=America/Detroit:20230213T090000
DTEND;TZID=America/Detroit:20230222T190000
DTSTAMP:20260419T205303
CREATED:20221228T180701Z
LAST-MODIFIED:20221228T180704Z
UID:10001022-1676278800-1677092400@sc4.edu
SUMMARY:Beatrice Thornton Art Exhibition: Middle and High School Show
DESCRIPTION:Art teachers from all St. Clair County K-12 schools have been invited to choose student work for the exhibition. The 55th annual middle and high school show runs from Feb. 13 to 22. An opening ceremony is 6 to 6:30 p.m. Monday\, Feb. 13\, in the SC4 Fine Arts Theatre. \n\n\n\nLOCATION: SC4 Fine Arts Building GalleryFine Arts Building will be closed Friday\, Feb. 18.Galleries are closed Saturday and Sunday.
URL:https://sc4.edu/event/beatrice-thornton-art-exhibition-middle-and-high-school-show/
LOCATION:MI
CATEGORIES:Arts,Community
END:VEVENT
BEGIN:VEVENT
DTSTART;TZID=America/Detroit:20230218T103000
DTEND;TZID=America/Detroit:20230218T120000
DTSTAMP:20260419T205303
CREATED:20230105T203418Z
LAST-MODIFIED:20230105T203420Z
UID:10001030-1676716200-1676721600@sc4.edu
SUMMARY:Challenger Learning Center at SC4 Mission: Lunar Quest
DESCRIPTION:The Challenger Learning Center at SC4 will launch visitors to the moon with Mission Lunar Quest on Saturday\, Feb. 18. The mission date is open to the public and limited to the first 34 registrants. \n\n\n\nMission participants will launch to the moon in search of a long-term human habitat\, command and assist Mission Control\, or board the Spacecraft as an astronaut\, serving on teams like biology\, geology\, weather\, robotics\, life support and more. They will help deploy a Lunar Exploration Rover to investigate areas of the lunar surface and make critical decisions to turn a potential catastrophe into NASA’s finest hour. \n\n\n\nSeats on the mission are $25 per person and those ages 10-99+ are welcome! \n\n\n\nRegister at https://stclair.nbsstore.net/community-missions \n\n\n\nComplete details at https://sc4.edu/news/challenger-learning-center-at-sc4-announces-jan-21-and-feb-18-public-mission-dates/
URL:https://sc4.edu/event/challenger-learning-center-at-sc4-mission-lunar-quest-4/
LOCATION:MI
CATEGORIES:Community,Experience Center
END:VEVENT
BEGIN:VEVENT
DTSTART;TZID=America/Detroit:20230219T120000
DTEND;TZID=America/Detroit:20230219T150000
DTSTAMP:20260419T205303
CREATED:20230203T145017Z
LAST-MODIFIED:20230203T145019Z
UID:10001174-1676808000-1676818800@sc4.edu
SUMMARY:SC4 Baseball Camp
DESCRIPTION:SC4 athletics is offering a two-day winter baseball camp for players in grades 3 to 12. The camp is scheduled for noon to 3 p.m. Sunday\, Feb. 19 and 26. Instruction by SC4 baseball coaches and team. \n\n\n\nRegistration and waivers must be completed by 4 p.m. Friday\, Feb. 17. No registration at camp. \n\n\n\nDetails and registration information: https://stclair.nbsstore.net/2023-sc4-winter-baseball-camp
URL:https://sc4.edu/event/sc4-baseball-camp/
LOCATION:MI
CATEGORIES:Athletics,Community
END:VEVENT
END:VCALENDAR