BEGIN:VCALENDAR
VERSION:2.0
PRODID:-//St. Clair County Community College - ECPv6.15.20//NONSGML v1.0//EN
CALSCALE:GREGORIAN
METHOD:PUBLISH
X-WR-CALNAME:St. Clair County Community College
X-ORIGINAL-URL:https://sc4.edu
X-WR-CALDESC:Events for St. Clair County Community College
REFRESH-INTERVAL;VALUE=DURATION:PT1H
X-Robots-Tag:noindex
X-PUBLISHED-TTL:PT1H
BEGIN:VTIMEZONE
TZID:America/Detroit
BEGIN:DAYLIGHT
TZOFFSETFROM:-0500
TZOFFSETTO:-0400
TZNAME:EDT
DTSTART:20220313T070000
END:DAYLIGHT
BEGIN:STANDARD
TZOFFSETFROM:-0400
TZOFFSETTO:-0500
TZNAME:EST
DTSTART:20221106T060000
END:STANDARD
BEGIN:DAYLIGHT
TZOFFSETFROM:-0500
TZOFFSETTO:-0400
TZNAME:EDT
DTSTART:20230312T070000
END:DAYLIGHT
BEGIN:STANDARD
TZOFFSETFROM:-0400
TZOFFSETTO:-0500
TZNAME:EST
DTSTART:20231105T060000
END:STANDARD
BEGIN:DAYLIGHT
TZOFFSETFROM:-0500
TZOFFSETTO:-0400
TZNAME:EDT
DTSTART:20240310T070000
END:DAYLIGHT
BEGIN:STANDARD
TZOFFSETFROM:-0400
TZOFFSETTO:-0500
TZNAME:EST
DTSTART:20241103T060000
END:STANDARD
END:VTIMEZONE
BEGIN:VEVENT
DTSTART;TZID=America/Detroit:20230228T173000
DTEND;TZID=America/Detroit:20230228T213000
DTSTAMP:20260420T030054
CREATED:20221110T202356Z
LAST-MODIFIED:20221110T202358Z
UID:10001149-1677605400-1677619800@sc4.edu
SUMMARY:Skippers Basketball home games
DESCRIPTION:The Skippers basketball teams take on Schoolcraft College at the SC4 Fieldhouse. Women’s game tips off at 5:30 p.m. and the men’s at 7:30 p.m. \n\n\n\nBuy tickets in advance online at https://sc4skippers.com/fanzone/hometownTicketing
URL:https://sc4.edu/event/skippers-basketball-home-games-15/
LOCATION:MI
CATEGORIES:Athletics,Community
END:VEVENT
BEGIN:VEVENT
DTSTART;TZID=America/Detroit:20230301T170000
DTEND;TZID=America/Detroit:20230301T180000
DTSTAMP:20260420T030054
CREATED:20221228T125324Z
LAST-MODIFIED:20221228T125325Z
UID:10001163-1677690000-1677693600@sc4.edu
SUMMARY:Respiratory Therapy program information session
DESCRIPTION:The respiratory therapy program at St. Clair County Community College uses an integration of classroom and practicum experiences in hospitals\, outpatient testing facilities and physician offices. Students graduating from the program will obtain an Associate in Applied Arts and Science degree\, and become eligible to take the National Board of Respiratory Care (NBRC) credentialing examinations. \n\n\n\nAttend this virtual information session to ask questions and learn about the program\, course schedule\, any prerequisites\, and more. \n\n\n\nJoin the meeting here:  https://sc4.edu/programs/health-human-services/respiratory-therapy/.
URL:https://sc4.edu/event/respiratory-therapy-program-information-session-34/
LOCATION:MI
CATEGORIES:Academics,Admissions,Community
END:VEVENT
END:VCALENDAR