BEGIN:VCALENDAR
VERSION:2.0
PRODID:-//St. Clair County Community College - ECPv6.15.20//NONSGML v1.0//EN
CALSCALE:GREGORIAN
METHOD:PUBLISH
X-WR-CALNAME:St. Clair County Community College
X-ORIGINAL-URL:https://sc4.edu
X-WR-CALDESC:Events for St. Clair County Community College
REFRESH-INTERVAL;VALUE=DURATION:PT1H
X-Robots-Tag:noindex
X-PUBLISHED-TTL:PT1H
BEGIN:VTIMEZONE
TZID:America/Detroit
BEGIN:DAYLIGHT
TZOFFSETFROM:-0500
TZOFFSETTO:-0400
TZNAME:EDT
DTSTART:20220313T070000
END:DAYLIGHT
BEGIN:STANDARD
TZOFFSETFROM:-0400
TZOFFSETTO:-0500
TZNAME:EST
DTSTART:20221106T060000
END:STANDARD
BEGIN:DAYLIGHT
TZOFFSETFROM:-0500
TZOFFSETTO:-0400
TZNAME:EDT
DTSTART:20230312T070000
END:DAYLIGHT
BEGIN:STANDARD
TZOFFSETFROM:-0400
TZOFFSETTO:-0500
TZNAME:EST
DTSTART:20231105T060000
END:STANDARD
BEGIN:DAYLIGHT
TZOFFSETFROM:-0500
TZOFFSETTO:-0400
TZNAME:EDT
DTSTART:20240310T070000
END:DAYLIGHT
BEGIN:STANDARD
TZOFFSETFROM:-0400
TZOFFSETTO:-0500
TZNAME:EST
DTSTART:20241103T060000
END:STANDARD
END:VTIMEZONE
BEGIN:VEVENT
DTSTART;TZID=America/Detroit:20230321T000000
DTEND;TZID=America/Detroit:20230325T235959
DTSTAMP:20260420T030025
CREATED:20230203T151240Z
LAST-MODIFIED:20230321T175236Z
UID:10001172-1679356800-1679788799@sc4.edu
SUMMARY:NJCAA DII Women’s Basketball Championship
DESCRIPTION:SC4 is hosting the National Junior College Athletic Association (NJCAA) Division II Women’s Basketball National Championship March 21 to 25 at the SC4 Fieldhouse. The championship tournament will bring the best 16 teams from across America to the Blue Water Area to compete for a national title. Tournament website link: https://www.njcaa.org/championships/sports/wbkb/div2/index \n\n\n\nPurchase tickets online at: https://sc4skippers.com/fanzone/ticketing \n\n\n\nAdvanced tickets: $10 (online)Week-long pass (only available online): $40Tickets at the door: $15 \n\n\n\nSchedule: \n\n\n\nTuesday\, March 21Games at 9 a.m.\, 11 a.m.\, 1 p.m.\, 3 p.m.\, 6 p.m. and 8 p.m. \n\n\n\nWednesday\, March 22Games at 11 a.m.\, 1 p.m.\, 3 p.m.\, 6 p.m. and 8 p.m. \n\n\n\nThursday\, March 23Games at 9 a.m.\, 11 a.m.\, 1 p.m.\, 3 p.m.\, 6 p.m. and 8 p.m. \n\n\n\nFriday\, March 24Games at 11 a.m.\, 1 p.m.\, 3 p.m.\, 6 p.m. and 8 p.m. \n\n\n\nSaturday\, March 25Games at noon\, 2 p.m.\, 5 p.m.Championship game at 7:30 p.m.
URL:https://sc4.edu/event/njcaa-dii-womens-basketball-championship-2/
LOCATION:MI
CATEGORIES:Athletics,Community
END:VEVENT
BEGIN:VEVENT
DTSTART;TZID=America/Detroit:20230321T120000
DTEND;TZID=America/Detroit:20230321T130000
DTSTAMP:20260420T030025
CREATED:20230131T143320Z
LAST-MODIFIED:20230320T165456Z
UID:10001169-1679400000-1679403600@sc4.edu
SUMMARY:Panel discussion with author Andrew Maraniss and pioneering women athletes Juliene Simpson and Carolyn Bush Roddy
DESCRIPTION:In celebration of Women’s History Month\, SC4’s Office of Diversity\, Equity and Inclusion is sponsoring a panel discussion with New York Times best-selling author Andrew Maraniss at noon Tuesday\, March 21\, in SC4’s Fine Arts Theatre.  \n\n\n\nThe discussion will highlight his latest book\, “Inaugural Ballers\,” an inspirational true story of the first U.S. Women’s Olympic Basketball team and their unlikely rise to the top. \n\n\n\nPresent for the panel discussion will be Juliene Simpson\, Women’s Basketball Hall of Fame member and Team USA co-captain\, and Carolyn Bush Roddy\, a two-time NJCAA All-American\, Women’s Basketball Hall of Fame member and Team USA member prior to the Olympics.  \n\n\n\nThis event will pay tribute to pioneering women athletes and present-day gamechangers during Women’s History Month as SC4 hosts the National Junior College Athletic Association (NJCAA) Division II Women’s Basketball National Championship March 21 to 25. Simpson and Bush Roddy also will help open the tournament with a ceremonial tip-off before the first game. \n\n\n\nThe panel discussion is free and open to the public. Register to attend the event by filling out the event registration form or email dei@sc4.edu.
URL:https://sc4.edu/event/panel-discussion-with-andrew-maraniss/
LOCATION:MI
CATEGORIES:Athletics,Community,Diversity Equity Inclusion
END:VEVENT
END:VCALENDAR