BEGIN:VCALENDAR
VERSION:2.0
PRODID:-//St. Clair County Community College - ECPv6.15.20//NONSGML v1.0//EN
CALSCALE:GREGORIAN
METHOD:PUBLISH
X-ORIGINAL-URL:https://sc4.edu
X-WR-CALDESC:Events for St. Clair County Community College
REFRESH-INTERVAL;VALUE=DURATION:PT1H
X-Robots-Tag:noindex
X-PUBLISHED-TTL:PT1H
BEGIN:VTIMEZONE
TZID:America/Detroit
BEGIN:DAYLIGHT
TZOFFSETFROM:-0500
TZOFFSETTO:-0400
TZNAME:EDT
DTSTART:20220313T070000
END:DAYLIGHT
BEGIN:STANDARD
TZOFFSETFROM:-0400
TZOFFSETTO:-0500
TZNAME:EST
DTSTART:20221106T060000
END:STANDARD
BEGIN:DAYLIGHT
TZOFFSETFROM:-0500
TZOFFSETTO:-0400
TZNAME:EDT
DTSTART:20230312T070000
END:DAYLIGHT
BEGIN:STANDARD
TZOFFSETFROM:-0400
TZOFFSETTO:-0500
TZNAME:EST
DTSTART:20231105T060000
END:STANDARD
BEGIN:DAYLIGHT
TZOFFSETFROM:-0500
TZOFFSETTO:-0400
TZNAME:EDT
DTSTART:20240310T070000
END:DAYLIGHT
BEGIN:STANDARD
TZOFFSETFROM:-0400
TZOFFSETTO:-0500
TZNAME:EST
DTSTART:20241103T060000
END:STANDARD
END:VTIMEZONE
BEGIN:VEVENT
DTSTART;TZID=America/Detroit:20230403T090000
DTEND;TZID=America/Detroit:20230407T190000
DTSTAMP:20260422T045721
CREATED:20230302T180731Z
LAST-MODIFIED:20230302T180732Z
UID:10001170-1680512400-1680894000@sc4.edu
SUMMARY:Gallery show: Design 2023 Student Portfolio Exhibition
DESCRIPTION:Take a walk through the SC4 Fine Arts Galleries to view artwork from SC4 Design 2023 students. \n\n\n\nParticipating students include Tyler Bark\, Evan Crawford\, Hanna Teeple\, Leatha Smith\, Bryce Hurd\, Brandi Schmitz\, Ashley Cleland and Jasmine Skaggs. \n\n\n\nAn opening reception will be held at 7 p.m. Tuesday\, April 4\, in the SC4 Fine Arts Building.
URL:https://sc4.edu/event/gallery-show-design-2023-student-portfolio-exhibition/
LOCATION:MI
CATEGORIES:Arts,Community
END:VEVENT
BEGIN:VEVENT
DTSTART;TZID=America/Detroit:20230403T090000
DTEND;TZID=America/Detroit:20230428T190000
DTSTAMP:20260422T045721
CREATED:20221228T175621Z
LAST-MODIFIED:20221228T175623Z
UID:10001019-1680512400-1682708400@sc4.edu
SUMMARY:Gallery show: Patterns Exhibition & Student Portfolio Exhibition
DESCRIPTION:The SC4 Fine Arts Gallery will be filled with student artwork as featured in the 65th edition of Patterns Magazine. \n\n\n\nThe show also includes a showcase of artwork created by SC4 design students. \n\n\n\nLOCATION: SC4 Fine Arts Building
URL:https://sc4.edu/event/gallery-show-patterns-exhibition-student-portfolio-exhibition/
LOCATION:MI
CATEGORIES:Arts,Community
END:VEVENT
BEGIN:VEVENT
DTSTART;TZID=America/Detroit:20230404T190000
DTEND;TZID=America/Detroit:20230404T200000
DTSTAMP:20260422T045721
CREATED:20230302T182015Z
LAST-MODIFIED:20230302T182016Z
UID:10001179-1680634800-1680638400@sc4.edu
SUMMARY:Student Portfolio Exhibition Reception
DESCRIPTION:Join us at an opening reception to view works created by Design 2023 students Tyler Bark\, Evan Crawford\, Hanna Teeple\, Leatha Smith\, Bryce Hurd\, Brandi Schmitz\, Ashley Cleland and Jasmine Skaggs. \n\n\n\nRefreshments will be served. \n\n\n\nLOCATION: SC4 Fine Arts Building\,
URL:https://sc4.edu/event/student-portfolio-exhibition-reception/
LOCATION:MI
CATEGORIES:Arts,Community
END:VEVENT
BEGIN:VEVENT
DTSTART;TZID=America/Detroit:20230405T170000
DTEND;TZID=America/Detroit:20230405T180000
DTSTAMP:20260422T045721
CREATED:20221228T125445Z
LAST-MODIFIED:20221228T125455Z
UID:10001164-1680714000-1680717600@sc4.edu
SUMMARY:Respiratory Therapy program information session
DESCRIPTION:The respiratory therapy program at St. Clair County Community College uses an integration of classroom and practicum experiences in hospitals\, outpatient testing facilities and physician offices. Students graduating from the program will obtain an Associate in Applied Arts and Science degree\, and become eligible to take the National Board of Respiratory Care (NBRC) credentialing examinations. \n\n\n\nAttend this virtual information session to ask questions and learn about the program\, course schedule\, any prerequisites\, and more. \n\n\n\nJoin the meeting here:  https://sc4.edu/programs/health-human-services/respiratory-therapy/.
URL:https://sc4.edu/event/respiratory-therapy-program-information-session-35/
LOCATION:MI
CATEGORIES:Academics,Admissions,Community
END:VEVENT
BEGIN:VEVENT
DTSTART;TZID=America/Detroit:20230406T120000
DTEND;TZID=America/Detroit:20230406T130000
DTSTAMP:20260422T045721
CREATED:20230328T125342Z
LAST-MODIFIED:20230328T125344Z
UID:10001182-1680782400-1680786000@sc4.edu
SUMMARY:Global Diversity Advisory Council Open House
DESCRIPTION:SC4’s Office of Diversity\, Equity and Inclusion invites the community\, SC4 students\, faculty and staff to the Global Diversity Advisory Council (GDAC) Open House. \n\n\n\nThe event is from noon to 1 p.m. Thursday\, April 6\, in Room 206\, Welcome Center on the campus of St. Clair County Community College. \n\n\n\nAttendees will learn more about GDAC and its mission to advise the college on actions to bring together the college-served communities\, SC4 faculty\, staff and students in support of the DEI office and initiatives that will promote diversity\, equity and inclusion. \n\n\n\nRegister by emailing dei@sc4.edu.
URL:https://sc4.edu/event/global-diversity-advisory-council-open-house/
LOCATION:MI
CATEGORIES:Community,Diversity Equity Inclusion
END:VEVENT
BEGIN:VEVENT
DTSTART;TZID=America/Detroit:20230408T100000
DTEND;TZID=America/Detroit:20230408T123000
DTSTAMP:20260422T045721
CREATED:20230328T124247Z
LAST-MODIFIED:20230328T124800Z
UID:10001181-1680948000-1680957000@sc4.edu
SUMMARY:Mission Lunar Quest
DESCRIPTION:Challenger Learning Center at SC4 will launch visitors to the moon with Mission: Lunar Quest at 10 a.m. to 12:30 p.m. on Saturday\, April 8\, and Saturday\, May 20. \n\n\n\nMission participants will launch to the moon in search of a long-term human habitat\, command and assist in Mission Control\, or board the Spacecraft as an astronaut\, serving on teams like biology\, geology\, weather\, robotics\, life support and more. They will help deploy a Lunar Exploration Rover to investigate areas of the lunar surface and make critical decisions to turn a potential catastrophe into NASA’s finest hour. \n\n\n\nThe mission dates are open to the public and limited to the first 34 registrants. Seats on the mission are $25 per person and those ages 10-99+ are welcome! \n\n\n\nRegister for the April 8 and May 20 missions at stclair.nbsstore.net/community-missions. Mission: Lunar Quest is open to learners in 5th grade and beyond. Support may be available. Contact us with inquiries and questions at experiencecenter@sc4.edu or (810) 989-5789.
URL:https://sc4.edu/event/mission-lunar-quest/
LOCATION:MI
CATEGORIES:Community,Experience Center
END:VEVENT
END:VCALENDAR