BEGIN:VCALENDAR
VERSION:2.0
PRODID:-//St. Clair County Community College - ECPv6.15.20//NONSGML v1.0//EN
CALSCALE:GREGORIAN
METHOD:PUBLISH
X-WR-CALNAME:St. Clair County Community College
X-ORIGINAL-URL:https://sc4.edu
X-WR-CALDESC:Events for St. Clair County Community College
REFRESH-INTERVAL;VALUE=DURATION:PT1H
X-Robots-Tag:noindex
X-PUBLISHED-TTL:PT1H
BEGIN:VTIMEZONE
TZID:America/Detroit
BEGIN:DAYLIGHT
TZOFFSETFROM:-0500
TZOFFSETTO:-0400
TZNAME:EDT
DTSTART:20220313T070000
END:DAYLIGHT
BEGIN:STANDARD
TZOFFSETFROM:-0400
TZOFFSETTO:-0500
TZNAME:EST
DTSTART:20221106T060000
END:STANDARD
BEGIN:DAYLIGHT
TZOFFSETFROM:-0500
TZOFFSETTO:-0400
TZNAME:EDT
DTSTART:20230312T070000
END:DAYLIGHT
BEGIN:STANDARD
TZOFFSETFROM:-0400
TZOFFSETTO:-0500
TZNAME:EST
DTSTART:20231105T060000
END:STANDARD
BEGIN:DAYLIGHT
TZOFFSETFROM:-0500
TZOFFSETTO:-0400
TZNAME:EDT
DTSTART:20240310T070000
END:DAYLIGHT
BEGIN:STANDARD
TZOFFSETFROM:-0400
TZOFFSETTO:-0500
TZNAME:EST
DTSTART:20241103T060000
END:STANDARD
END:VTIMEZONE
BEGIN:VEVENT
DTSTART;TZID=America/Detroit:20230617T180000
DTEND;TZID=America/Detroit:20230617T200000
DTSTAMP:20260420T150028
CREATED:20230602T141647Z
LAST-MODIFIED:20230607T130642Z
UID:10001186-1687024800-1687032000@sc4.edu
SUMMARY:Free concert: SC4 Symphonic Band Twilight Concert
DESCRIPTION:SC4’s Symphonic Band kicks of a free summer Twilight Concert Series at 6 p.m. Saturday\, June 17\, featuring light and popular music. Bring a lawn chair to enjoy this concert. \n\n\n\nMark your calendar for upcoming performance dates of July 8 and August 6. For questions\, call the SC4 Visual and Performing Arts Office at (810) 989-5709. \n\n\n\nLocation: River Street Marina Pavilion adjacent to the college along the Black River
URL:https://sc4.edu/event/symphonic-band-twilight-concert/
LOCATION:MI
CATEGORIES:Arts,Community
END:VEVENT
END:VCALENDAR