BEGIN:VCALENDAR
VERSION:2.0
PRODID:-//St. Clair County Community College - ECPv6.15.20//NONSGML v1.0//EN
CALSCALE:GREGORIAN
METHOD:PUBLISH
X-WR-CALNAME:St. Clair County Community College
X-ORIGINAL-URL:https://sc4.edu
X-WR-CALDESC:Events for St. Clair County Community College
REFRESH-INTERVAL;VALUE=DURATION:PT1H
X-Robots-Tag:noindex
X-PUBLISHED-TTL:PT1H
BEGIN:VTIMEZONE
TZID:America/Detroit
BEGIN:DAYLIGHT
TZOFFSETFROM:-0500
TZOFFSETTO:-0400
TZNAME:EDT
DTSTART:20220313T070000
END:DAYLIGHT
BEGIN:STANDARD
TZOFFSETFROM:-0400
TZOFFSETTO:-0500
TZNAME:EST
DTSTART:20221106T060000
END:STANDARD
BEGIN:DAYLIGHT
TZOFFSETFROM:-0500
TZOFFSETTO:-0400
TZNAME:EDT
DTSTART:20230312T070000
END:DAYLIGHT
BEGIN:STANDARD
TZOFFSETFROM:-0400
TZOFFSETTO:-0500
TZNAME:EST
DTSTART:20231105T060000
END:STANDARD
BEGIN:DAYLIGHT
TZOFFSETFROM:-0500
TZOFFSETTO:-0400
TZNAME:EDT
DTSTART:20240310T070000
END:DAYLIGHT
BEGIN:STANDARD
TZOFFSETFROM:-0400
TZOFFSETTO:-0500
TZNAME:EST
DTSTART:20241103T060000
END:STANDARD
END:VTIMEZONE
BEGIN:VEVENT
DTSTART;TZID=America/Detroit:20230918T090000
DTEND;TZID=America/Detroit:20231020T190000
DTSTAMP:20260421T013155
CREATED:20230815T185707Z
LAST-MODIFIED:20230815T185709Z
UID:10001215-1695027600-1697828400@sc4.edu
SUMMARY:Gallery: Collectively Independent Faculty Exhibition
DESCRIPTION:Stop by the SC4 Fine Arts Building galleries to view original artwork created by SC4 faculty. \n\n\n\nGallery hours: 9 a.m. to 7 p.m. Monday to Friday. \n\n\n\nExhibition dates: Sept. 18 to Oct. 20.
URL:https://sc4.edu/event/gallery-collectively-independent-faculty-exhibition/
LOCATION:MI
CATEGORIES:Arts,Campus life,Community
END:VEVENT
BEGIN:VEVENT
DTSTART;TZID=America/Detroit:20231021T160000
DTEND;TZID=America/Detroit:20231021T180000
DTSTAMP:20260421T013155
CREATED:20230807T154641Z
LAST-MODIFIED:20230807T162722Z
UID:10001206-1697904000-1697911200@sc4.edu
SUMMARY:Soccer: Skippers home game
DESCRIPTION:The Skippers take on Owens Community College. \n\n\n\nLocation: Skippers Soccer Field at Morton Park\, 560 Busha Hwy.\, Marysville \n\n\n\nFall schedule for the Skippers Soccer team.
URL:https://sc4.edu/event/soccer-skippers-home-match-16/
LOCATION:MI
CATEGORIES:Athletics,Campus life,Community
END:VEVENT
BEGIN:VEVENT
DTSTART;TZID=America/Detroit:20231022T190000
DTEND;TZID=America/Detroit:20231022T210000
DTSTAMP:20260421T013155
CREATED:20230815T190305Z
LAST-MODIFIED:20230817T204402Z
UID:10001218-1698001200-1698008400@sc4.edu
SUMMARY:Free concert: SC4 Symphonic Band
DESCRIPTION:SC4’s Symphonic Band\, conducted by Erick Senkmajer\, is set to perform an entertaining night of music for audiences of all ages. Join us for “The Colors of Fall” concert. \n\n\n\nAdmission is free. \n\n\n\nLocation: SC4 Fine Arts Theatre.
URL:https://sc4.edu/event/free-concert-sc4-symphonic-band/
LOCATION:MI
CATEGORIES:Arts,Campus life,Community
END:VEVENT
END:VCALENDAR