BEGIN:VCALENDAR
VERSION:2.0
PRODID:-//St. Clair County Community College - ECPv6.15.20//NONSGML v1.0//EN
CALSCALE:GREGORIAN
METHOD:PUBLISH
X-WR-CALNAME:St. Clair County Community College
X-ORIGINAL-URL:https://sc4.edu
X-WR-CALDESC:Events for St. Clair County Community College
REFRESH-INTERVAL;VALUE=DURATION:PT1H
X-Robots-Tag:noindex
X-PUBLISHED-TTL:PT1H
BEGIN:VTIMEZONE
TZID:America/Detroit
BEGIN:DAYLIGHT
TZOFFSETFROM:-0500
TZOFFSETTO:-0400
TZNAME:EDT
DTSTART:20220313T070000
END:DAYLIGHT
BEGIN:STANDARD
TZOFFSETFROM:-0400
TZOFFSETTO:-0500
TZNAME:EST
DTSTART:20221106T060000
END:STANDARD
BEGIN:DAYLIGHT
TZOFFSETFROM:-0500
TZOFFSETTO:-0400
TZNAME:EDT
DTSTART:20230312T070000
END:DAYLIGHT
BEGIN:STANDARD
TZOFFSETFROM:-0400
TZOFFSETTO:-0500
TZNAME:EST
DTSTART:20231105T060000
END:STANDARD
BEGIN:DAYLIGHT
TZOFFSETFROM:-0500
TZOFFSETTO:-0400
TZNAME:EDT
DTSTART:20240310T070000
END:DAYLIGHT
BEGIN:STANDARD
TZOFFSETFROM:-0400
TZOFFSETTO:-0500
TZNAME:EST
DTSTART:20241103T060000
END:STANDARD
END:VTIMEZONE
BEGIN:VEVENT
DTSTART;TZID=America/Detroit:20231102T170000
DTEND;TZID=America/Detroit:20231102T190000
DTSTAMP:20260420T202446
CREATED:20230815T190626Z
LAST-MODIFIED:20231023T171318Z
UID:10001221-1698944400-1698951600@sc4.edu
SUMMARY:Theatrical Performance: “Kodachrome” by Adam Szymkowicz
DESCRIPTION:St. Clair County Community College (SC4) thespians will take the SC4 Fine Arts Theatre stage Nov. 2-4 as they present “KODACHROME” by Adam Szymkowicz. \n\n\n\n“Kodachrome\,” a “play about love\, nostalgia\, the seasons and how we learn to say goodbye\,” is presented by arrangement with Concord Theatricals on behalf of Samuel French\, Inc. (concordtheatricals.com). \n\n\n\nJoin SC4 Theatre Director Jay McCulloch and his cast and crew for three outstanding performances. Performances are scheduled for 5 p.m. on Thursday\, Nov. 2\, 7 p.m. on Friday\, Nov. 3\, and 7 p.m. on Saturday\, Nov. 4. \n\n\n\nCast list: \n\n\n\nPhotographer — Jaime CollickGravedigger — Hannah MontgomeryYoung Man/Policeman — Isaac BeasleyHardware Store Owner — Jeff SchultzLibrarian/Waitress — May KehoeMarjory/Friend — Ivy PurdomHistory Professor/EMT 2 — Quaid McCullochPerfume Maker/EMT 1 — Josh SerranoMystery Novelist/Florist — Madeline JonesYoung Woman — Samantha Pietrangelo \n\n\n\n“Kodachrome” performances are free as an SC4 Community Arts offering to encourage and support the arts in our community. No tickets are needed. SC4’s Fine Arts Theatre seats 295. For the most current list of upcoming events\, visit sc4.edu/events. Please note that additional programming may be added and event information may change.
URL:https://sc4.edu/event/theatrical-performance-kodachrome/
LOCATION:MI
CATEGORIES:Arts,Campus life,Community,Theatre
END:VEVENT
BEGIN:VEVENT
DTSTART;TZID=America/Detroit:20231103T190000
DTEND;TZID=America/Detroit:20231103T210000
DTSTAMP:20260420T202446
CREATED:20230815T191828Z
LAST-MODIFIED:20231023T173745Z
UID:10001226-1699038000-1699045200@sc4.edu
SUMMARY:Theatrical Performance: “Kodachrome” by Adam Szymkowicz
DESCRIPTION:St. Clair County Community College (SC4) thespians will take the SC4 Fine Arts Theatre stage Nov. 2-4 as they present “KODACHROME” by Adam Szymkowicz. \n\n\n\n“Kodachrome\,” a “play about love\, nostalgia\, the seasons and how we learn to say goodbye\,” is presented by arrangement with Concord Theatricals on behalf of Samuel French\, Inc. (concordtheatricals.com). \n\n\n\nJoin SC4 Theatre Director Jay McCulloch and his cast and crew for three outstanding performances. Performances are scheduled for 5 p.m. on Thursday\, Nov. 2\, 7 p.m. on Friday\, Nov. 3\, and 7 p.m. on Saturday\, Nov. 4. \n\n\n\nCast list: \n\n\n\nPhotographer — Jaime CollickGravedigger — Hannah MontgomeryYoung Man/Policeman — Isaac BeasleyHardware Store Owner — Jeff SchultzLibrarian/Waitress — May KehoeMarjory/Friend — Ivy PurdomHistory Professor/EMT 2 — Quaid McCullochPerfume Maker/EMT 1 — Josh SerranoMystery Novelist/Florist — Madeline JonesYoung Woman — Samantha Pietrangelo \n\n\n\n“Kodachrome” performances are free as an SC4 Community Arts offering to encourage and support the arts in our community. No tickets are needed. SC4’s Fine Arts Theatre seats 295. For the most current list of upcoming events\, visit sc4.edu/events. Please note that additional programming may be added and event information may change.
URL:https://sc4.edu/event/theatrical-performance-kodachrome-4/
LOCATION:MI
CATEGORIES:Arts,Campus life,Community,Theatre
END:VEVENT
BEGIN:VEVENT
DTSTART;TZID=America/Detroit:20231104T190000
DTEND;TZID=America/Detroit:20231104T210000
DTSTAMP:20260420T202446
CREATED:20230815T191646Z
LAST-MODIFIED:20231023T173751Z
UID:10001225-1699124400-1699131600@sc4.edu
SUMMARY:Theatrical Performance: “Kodachrome” by Adam Szymkowicz
DESCRIPTION:St. Clair County Community College (SC4) thespians will take the SC4 Fine Arts Theatre stage Nov. 2-4 as they present “KODACHROME” by Adam Szymkowicz. \n\n\n\n“Kodachrome\,” a “play about love\, nostalgia\, the seasons and how we learn to say goodbye\,” is presented by arrangement with Concord Theatricals on behalf of Samuel French\, Inc. (concordtheatricals.com). \n\n\n\nJoin SC4 Theatre Director Jay McCulloch and his cast and crew for three outstanding performances. Performances are scheduled for 5 p.m. on Thursday\, Nov. 2\, 7 p.m. on Friday\, Nov. 3\, and 7 p.m. on Saturday\, Nov. 4. \n\n\n\nCast list: \n\n\n\nPhotographer — Jaime CollickGravedigger — Hannah MontgomeryYoung Man/Policeman — Isaac BeasleyHardware Store Owner — Jeff SchultzLibrarian/Waitress — May KehoeMarjory/Friend — Ivy PurdomHistory Professor/EMT 2 — Quaid McCullochPerfume Maker/EMT 1 — Josh SerranoMystery Novelist/Florist — Madeline JonesYoung Woman — Samantha Pietrangelo \n\n\n\n“Kodachrome” performances are free as an SC4 Community Arts offering to encourage and support the arts in our community. No tickets are needed. SC4’s Fine Arts Theatre seats 295. For the most current list of upcoming events\, visit sc4.edu/events. Please note that additional programming may be added and event information may change.
URL:https://sc4.edu/event/theatrical-performance-kodachrome-3/
LOCATION:MI
CATEGORIES:Arts,Campus life,Community
END:VEVENT
END:VCALENDAR