BEGIN:VCALENDAR
VERSION:2.0
PRODID:-//St. Clair County Community College - ECPv6.15.20//NONSGML v1.0//EN
CALSCALE:GREGORIAN
METHOD:PUBLISH
X-WR-CALNAME:St. Clair County Community College
X-ORIGINAL-URL:https://sc4.edu
X-WR-CALDESC:Events for St. Clair County Community College
REFRESH-INTERVAL;VALUE=DURATION:PT1H
X-Robots-Tag:noindex
X-PUBLISHED-TTL:PT1H
BEGIN:VTIMEZONE
TZID:America/Detroit
BEGIN:DAYLIGHT
TZOFFSETFROM:-0500
TZOFFSETTO:-0400
TZNAME:EDT
DTSTART:20220313T070000
END:DAYLIGHT
BEGIN:STANDARD
TZOFFSETFROM:-0400
TZOFFSETTO:-0500
TZNAME:EST
DTSTART:20221106T060000
END:STANDARD
BEGIN:DAYLIGHT
TZOFFSETFROM:-0500
TZOFFSETTO:-0400
TZNAME:EDT
DTSTART:20230312T070000
END:DAYLIGHT
BEGIN:STANDARD
TZOFFSETFROM:-0400
TZOFFSETTO:-0500
TZNAME:EST
DTSTART:20231105T060000
END:STANDARD
BEGIN:DAYLIGHT
TZOFFSETFROM:-0500
TZOFFSETTO:-0400
TZNAME:EDT
DTSTART:20240310T070000
END:DAYLIGHT
BEGIN:STANDARD
TZOFFSETFROM:-0400
TZOFFSETTO:-0500
TZNAME:EST
DTSTART:20241103T060000
END:STANDARD
END:VTIMEZONE
BEGIN:VEVENT
DTSTART;TZID=America/Detroit:20231106T090000
DTEND;TZID=America/Detroit:20231208T190000
DTSTAMP:20260420T153052
CREATED:20230815T190746Z
LAST-MODIFIED:20230817T130931Z
UID:10001222-1699261200-1702062000@sc4.edu
SUMMARY:Gallery: Detroit Historical Society WWII Propaganda Posters Traveling Exhibit
DESCRIPTION:Gallery hours: 9 a.m. to 7 p.m. Monday to Friday.Gallery closed: Nov. 22 to 24 \n\n\n\nStop by the SC4 Fine Arts Building galleries to view WWII Propaganda Posters\, a Detroit Historical Society Traveling Exhibit. \n\n\n\nBefore television\, visual advertising was dominated by talented illustrators. During World War II\, the U.S. Government leveraged these artists’ talents to create posters that delivered important messages in a single glance. \n\n\n\nViewed both as art and as historical artifacts; these posters had a very real job during the war. They encouraged and informed the average American on how he or she could help win the war. Posters promoted the purchasing of war bonds\, growing and canning food\, and taking jobs to aid in wartime production. The posters in this exhibition were chosen for their diverse themes and messages\, as well as their graphic appeal. They reflect the themes of recruitment\, patriotism\, conservation and security.  Everyone could do their part to win the war\, and these posters illustrated how.
URL:https://sc4.edu/event/gallery-detroit-historical-society-wwii-propaganda-posters-traveling-exhibit/
LOCATION:MI
CATEGORIES:Arts,Campus life,Community
END:VEVENT
BEGIN:VEVENT
DTSTART;TZID=America/Detroit:20231207T120000
DTEND;TZID=America/Detroit:20231207T130000
DTSTAMP:20260420T153052
CREATED:20230829T165725Z
LAST-MODIFIED:20231204T154915Z
UID:10001228-1701950400-1701954000@sc4.edu
SUMMARY:Free Concert: Lisa Marie Rogali\, mezzo-soprano\, and Nathalie Doucet\, concert pianist
DESCRIPTION:Join us for performances by award-winning American mezzo-soprano Lisa Marie Rogali and Head of Music and the Director of the Resident Artist Program at the Detroit Opera Nathalie Doucet. \n\n\n\nPerformances are scheduled from noon to 1 p.m. and 5 to 6:30 p.m. in the SC4 Fine Arts Theatre. \n\n\n\nSeats are general admission and no reservations are needed. Doors open 15 minutes prior to showtime.
URL:https://sc4.edu/event/free-concert-lisa-marie-rogali-mezzo-soprano/
LOCATION:MI
CATEGORIES:Arts,Theatre,Thursday concert series
END:VEVENT
BEGIN:VEVENT
DTSTART;TZID=America/Detroit:20231207T170000
DTEND;TZID=America/Detroit:20231207T183000
DTSTAMP:20260420T153052
CREATED:20230829T165858Z
LAST-MODIFIED:20231204T154847Z
UID:10001229-1701968400-1701973800@sc4.edu
SUMMARY:Free Concert: Lisa Marie Rogali\, mezzo-soprano\, and Nathalie Doucet\, concert pianist
DESCRIPTION:Join us for performances by award-winning American mezzo-soprano Lisa Marie Rogali and Head of Music and the Director of the Resident Artist Program at the Detroit Opera Nathalie Doucet.  \n\n\n\nPerformances are scheduled from noon to 1 p.m. and 5 to 6:30 p.m. in the SC4 Fine Arts Theatre. \n\n\n\nSeats are general admission and no reservations are needed. Doors open 15 minutes prior to showtime.
URL:https://sc4.edu/event/free-concert-lisa-marie-rogali-mezzo-soprano-2/
LOCATION:MI
CATEGORIES:Arts,Theatre,Thursday concert series
END:VEVENT
BEGIN:VEVENT
DTSTART;TZID=America/Detroit:20231209T190000
DTEND;TZID=America/Detroit:20231209T210000
DTSTAMP:20260420T153052
CREATED:20230815T191016Z
LAST-MODIFIED:20230815T191018Z
UID:10001223-1702148400-1702155600@sc4.edu
SUMMARY:Free concert: SC4 Symphonic Band
DESCRIPTION:SC4’s Symphonic Band\, conducted by Erick Senkmajer\, is set to perform an entertaining night of music for audiences of all ages. Join us for the “Sounds of the Holiday” concert. \n\n\n\nAdmission is free. \n\n\n\nLocation: SC4 Fine Arts Theatre.
URL:https://sc4.edu/event/free-concert-sc4-symphonic-band-2/
LOCATION:MI
CATEGORIES:Arts,Campus life,Community
END:VEVENT
END:VCALENDAR