BEGIN:VCALENDAR
VERSION:2.0
PRODID:-//St. Clair County Community College - ECPv6.15.20//NONSGML v1.0//EN
CALSCALE:GREGORIAN
METHOD:PUBLISH
X-ORIGINAL-URL:https://sc4.edu
X-WR-CALDESC:Events for St. Clair County Community College
REFRESH-INTERVAL;VALUE=DURATION:PT1H
X-Robots-Tag:noindex
X-PUBLISHED-TTL:PT1H
BEGIN:VTIMEZONE
TZID:America/Detroit
BEGIN:DAYLIGHT
TZOFFSETFROM:-0500
TZOFFSETTO:-0400
TZNAME:EDT
DTSTART:20230312T070000
END:DAYLIGHT
BEGIN:STANDARD
TZOFFSETFROM:-0400
TZOFFSETTO:-0500
TZNAME:EST
DTSTART:20231105T060000
END:STANDARD
BEGIN:DAYLIGHT
TZOFFSETFROM:-0500
TZOFFSETTO:-0400
TZNAME:EDT
DTSTART:20240310T070000
END:DAYLIGHT
BEGIN:STANDARD
TZOFFSETFROM:-0400
TZOFFSETTO:-0500
TZNAME:EST
DTSTART:20241103T060000
END:STANDARD
BEGIN:DAYLIGHT
TZOFFSETFROM:-0500
TZOFFSETTO:-0400
TZNAME:EDT
DTSTART:20250309T070000
END:DAYLIGHT
BEGIN:STANDARD
TZOFFSETFROM:-0400
TZOFFSETTO:-0500
TZNAME:EST
DTSTART:20251102T060000
END:STANDARD
END:VTIMEZONE
BEGIN:VEVENT
DTSTART;TZID=America/Detroit:20240212T090000
DTEND;TZID=America/Detroit:20240223T190000
DTSTAMP:20260420T032746
CREATED:20240110T021409Z
LAST-MODIFIED:20240122T225114Z
UID:10001244-1707728400-1708714800@sc4.edu
SUMMARY:Beatrice Thornton Art Exhibition: Middle and High School Show
DESCRIPTION:Art teachers from all St. Clair County K-12 schools have been invited to choose student work for the exhibition. The 56th annual middle and high school show runs from Feb. 12 to 23.  \n\n\n\n\nGallery Hours\n\nMonday thru Thursday – 9 a.m. to 7 p.m.\n\n\n\nFriday – 9 a.m. to 4 p.m.\n\n\n\n\n\n\nLOCATION: SC4 Fine Arts Building GalleryGalleries are closed Saturday and Sunday.
URL:https://sc4.edu/event/beatrice-thornton-art-exhibition-middle-and-high-school-show-2/
LOCATION:MI
CATEGORIES:Arts,Community
END:VEVENT
BEGIN:VEVENT
DTSTART;TZID=America/Detroit:20240215T120000
DTEND;TZID=America/Detroit:20240215T130000
DTSTAMP:20260420T032746
CREATED:20240118T185958Z
LAST-MODIFIED:20240118T190000Z
UID:10001252-1707998400-1708002000@sc4.edu
SUMMARY:Rodney Page Full Engagement Experience
DESCRIPTION:Join us for a performance by composer\, recording artist\, conductor\, and performer Rodney Lamar Page. Page has a unique\, energetic style ranging from classical to pop music. For more than 20 years\, he has touched countless audiences with his passion and artistic drive for music. \n\n\n\nSouthfield\, Michigan native Page began studying violin at age 10. Upon high school graduation\, he was awarded a music scholarship to Michigan State University\, where he subsequently earned both bachelor’s and master’s degrees in music education. Throughout his secondary school and collegiate career\, Rodney also studied piano\, developing into an accomplished pianist. \n\n\n\nAs a violinist\, Mr. Page has performed in the Midland Symphony Orchestra (7 years)\, Michigan State University Symphony Orchestra (4 years)\, Livingston Symphony Orchestra (1 year)\, and as a 2nd violinist in the South Shore Symphony Orchestra in China. \n\n\n\nA passionate teacher who inspires students to appreciate all forms of music\, Page has been involved in music education for over 20 years. In addition to the orchestras he directed in the St. Johns and East Lansing (Michigan) public school systems\, Rodney engaged teenage musicians at the Blue Lake Fine Arts Camp in Michigan as the Symphony Orchestra conductor and violin instructor over 4 summers. During his college career\, he founded and directed a summer string camp for middle and high school students in Southfield. Rodney cultivates talent in aspiring musicians and believes children’s musical experiences in school impact the future of music. As a national conductor and clinician\, Mr. Page has guest-conducted student orchestras throughout the United States. \n\n\n\nPerformances are scheduled at noon and 6 p.m. in the SC4 Fine Arts Theatre. \n\n\n\nSeats are general admission and no reservations are needed. Doors open 15 minutes prior to showtime.
URL:https://sc4.edu/event/rodney-page-full-engagement-experience-2/
LOCATION:MI
CATEGORIES:Arts,Community,Diversity Equity Inclusion,Thursday concert series
END:VEVENT
BEGIN:VEVENT
DTSTART;TZID=America/Detroit:20240215T180000
DTEND;TZID=America/Detroit:20240215T193000
DTSTAMP:20260420T032746
CREATED:20240111T010420Z
LAST-MODIFIED:20240118T190048Z
UID:10001251-1708020000-1708025400@sc4.edu
SUMMARY:Rodney Page Full Engagement Experience
DESCRIPTION:Join us for a performance by composer\, recording artist\, conductor\, and performer Rodney Lamar Page. Page has a unique\, energetic style ranging from classical to pop music. For more than 20 years\, he has touched countless audiences with his passion and artistic drive for music. \n\n\n\nSouthfield\, Michigan native Page began studying violin at age 10. Upon high school graduation\, he was awarded a music scholarship to Michigan State University\, where he subsequently earned both bachelor’s and master’s degrees in music education. Throughout his secondary school and collegiate career\, Rodney also studied piano\, developing into an accomplished pianist. \n\n\n\nAs a violinist\, Mr. Page has performed in the Midland Symphony Orchestra (7 years)\, Michigan State University Symphony Orchestra (4 years)\, Livingston Symphony Orchestra (1 year)\, and as a 2nd violinist in the South Shore Symphony Orchestra in China. \n\n\n\nA passionate teacher who inspires students to appreciate all forms of music\, Page has been involved in music education for over 20 years. In addition to the orchestras he directed in the St. Johns and East Lansing (Michigan) public school systems\, Rodney engaged teenage musicians at the Blue Lake Fine Arts Camp in Michigan as the Symphony Orchestra conductor and violin instructor over 4 summers. During his college career\, he founded and directed a summer string camp for middle and high school students in Southfield. Rodney cultivates talent in aspiring musicians and believes children’s musical experiences in school impact the future of music. As a national conductor and clinician\, Mr. Page has guest-conducted student orchestras throughout the United States. \n\n\n\nPerformances are scheduled at noon and 6 p.m. in the SC4 Fine Arts Theatre. \n\n\n\nSeats are general admission and no reservations are needed. Doors open 15 minutes prior to showtime.
URL:https://sc4.edu/event/rodney-page-full-engagement-experience/
LOCATION:MI
CATEGORIES:Arts,Community,Diversity Equity Inclusion,Thursday concert series
END:VEVENT
END:VCALENDAR