BEGIN:VCALENDAR
VERSION:2.0
PRODID:-//St. Clair County Community College - ECPv6.15.20//NONSGML v1.0//EN
CALSCALE:GREGORIAN
METHOD:PUBLISH
X-ORIGINAL-URL:https://sc4.edu
X-WR-CALDESC:Events for St. Clair County Community College
REFRESH-INTERVAL;VALUE=DURATION:PT1H
X-Robots-Tag:noindex
X-PUBLISHED-TTL:PT1H
BEGIN:VTIMEZONE
TZID:America/Detroit
BEGIN:DAYLIGHT
TZOFFSETFROM:-0500
TZOFFSETTO:-0400
TZNAME:EDT
DTSTART:20230312T070000
END:DAYLIGHT
BEGIN:STANDARD
TZOFFSETFROM:-0400
TZOFFSETTO:-0500
TZNAME:EST
DTSTART:20231105T060000
END:STANDARD
BEGIN:DAYLIGHT
TZOFFSETFROM:-0500
TZOFFSETTO:-0400
TZNAME:EDT
DTSTART:20240310T070000
END:DAYLIGHT
BEGIN:STANDARD
TZOFFSETFROM:-0400
TZOFFSETTO:-0500
TZNAME:EST
DTSTART:20241103T060000
END:STANDARD
BEGIN:DAYLIGHT
TZOFFSETFROM:-0500
TZOFFSETTO:-0400
TZNAME:EDT
DTSTART:20250309T070000
END:DAYLIGHT
BEGIN:STANDARD
TZOFFSETFROM:-0400
TZOFFSETTO:-0500
TZNAME:EST
DTSTART:20251102T060000
END:STANDARD
END:VTIMEZONE
BEGIN:VEVENT
DTSTART;TZID=America/Detroit:20240312T134500
DTEND;TZID=America/Detroit:20240312T150000
DTSTAMP:20260420T013652
CREATED:20240311T195948Z
LAST-MODIFIED:20240311T200050Z
UID:10001689-1710251100-1710255600@sc4.edu
SUMMARY:NJCAA Division II Men’s Basketball Tournament Selection Show 
DESCRIPTION:Please join us at 1:45 p.m.\, Tuesday\, March 12 in the Welcome Center\, room 150 for the NJCAA Division II Men’s Basketball selection show for the NJCAA National Tournament.  \n\n\n\nOver the weekend the men’s basketball team won the NJCAA Great Lakes District tournament and qualified for the National Tournament. The selection show will announce their seed and game time for the tournament. \n\n\n\nThe show will start at 2 p.m. and light snacks and drinks will be available.  
URL:https://sc4.edu/event/njcaa-division-ii-mens-basketball-tournament-selection-show/
LOCATION:MI
CATEGORIES:Athletics
END:VEVENT
BEGIN:VEVENT
DTSTART;TZID=America/Detroit:20240312T170000
DTEND;TZID=America/Detroit:20240312T220000
DTSTAMP:20260420T013652
CREATED:20240304T201710Z
LAST-MODIFIED:20240304T202552Z
UID:10001683-1710262800-1710280800@sc4.edu
SUMMARY:MHSAA Boys Basketball Quarterfinals – Divisions 3 and 4
DESCRIPTION:
URL:https://sc4.edu/event/mhsaa-boys-basketball-quarterfinals-divisions-3-and-4/
LOCATION:SC4 Fieldhouse\, 400 Erie Street\, Port Huron\, MI\, 48060\, United States
CATEGORIES:Community
END:VEVENT
BEGIN:VEVENT
DTSTART;TZID=America/Detroit:20240316T120000
DTEND;TZID=America/Detroit:20240316T160000
DTSTAMP:20260420T013652
CREATED:20240304T203339Z
LAST-MODIFIED:20240304T203619Z
UID:10001686-1710590400-1710604800@sc4.edu
SUMMARY:SC4 Softball VS Mid-Michigan
DESCRIPTION:
URL:https://sc4.edu/event/sc4-softball-vs-mid-michigan/
LOCATION:Marysville Park Softball Field\, 801 E. Huron Blvd\, Port Huron\, MI\, 48060\, United States
CATEGORIES:Athletics
END:VEVENT
BEGIN:VEVENT
DTSTART;TZID=America/Detroit:20240316T120000
DTEND;TZID=America/Detroit:20240316T170000
DTSTAMP:20260420T013652
CREATED:20240304T202956Z
LAST-MODIFIED:20240304T203625Z
UID:10001685-1710590400-1710608400@sc4.edu
SUMMARY:SC4 Baseball VS Mid-Michigan
DESCRIPTION:
URL:https://sc4.edu/event/sc4-baseball-vs-mid-michigan/
LOCATION:Sanborn Baseball Field\, 1801 Sanborn Street\, Port Huron\, MI\, 48060\, United States
CATEGORIES:Athletics
END:VEVENT
END:VCALENDAR