BEGIN:VCALENDAR
VERSION:2.0
PRODID:-//St. Clair County Community College - ECPv6.15.20//NONSGML v1.0//EN
CALSCALE:GREGORIAN
METHOD:PUBLISH
X-WR-CALNAME:St. Clair County Community College
X-ORIGINAL-URL:https://sc4.edu
X-WR-CALDESC:Events for St. Clair County Community College
REFRESH-INTERVAL;VALUE=DURATION:PT1H
X-Robots-Tag:noindex
X-PUBLISHED-TTL:PT1H
BEGIN:VTIMEZONE
TZID:America/Detroit
BEGIN:DAYLIGHT
TZOFFSETFROM:-0500
TZOFFSETTO:-0400
TZNAME:EDT
DTSTART:20230312T070000
END:DAYLIGHT
BEGIN:STANDARD
TZOFFSETFROM:-0400
TZOFFSETTO:-0500
TZNAME:EST
DTSTART:20231105T060000
END:STANDARD
BEGIN:DAYLIGHT
TZOFFSETFROM:-0500
TZOFFSETTO:-0400
TZNAME:EDT
DTSTART:20240310T070000
END:DAYLIGHT
BEGIN:STANDARD
TZOFFSETFROM:-0400
TZOFFSETTO:-0500
TZNAME:EST
DTSTART:20241103T060000
END:STANDARD
BEGIN:DAYLIGHT
TZOFFSETFROM:-0500
TZOFFSETTO:-0400
TZNAME:EDT
DTSTART:20250309T070000
END:DAYLIGHT
BEGIN:STANDARD
TZOFFSETFROM:-0400
TZOFFSETTO:-0500
TZNAME:EST
DTSTART:20251102T060000
END:STANDARD
END:VTIMEZONE
BEGIN:VEVENT
DTSTART;TZID=America/Detroit:20240318T100000
DTEND;TZID=America/Detroit:20240318T110000
DTSTAMP:20260420T032723
CREATED:20240314T210650Z
LAST-MODIFIED:20240314T210652Z
UID:10001690-1710756000-1710759600@sc4.edu
SUMMARY:Associate Degree Nursing Information Session
DESCRIPTION:Attend this virtual information session to ask questions and learn about the program\, course schedule\, any prerequisites\, and more. Join the meeting on Teams.
URL:https://sc4.edu/event/associate-degree-nursing-information-session-9/
LOCATION:MI
CATEGORIES:Academics,Admissions
END:VEVENT
BEGIN:VEVENT
DTSTART;TZID=America/Detroit:20240319T170000
DTEND;TZID=America/Detroit:20240319T210000
DTSTAMP:20260420T032723
CREATED:20240304T203422Z
LAST-MODIFIED:20240304T203640Z
UID:10001687-1710867600-1710882000@sc4.edu
SUMMARY:MHSAA Girls Basketball Quarterfinals – Division 3
DESCRIPTION:
URL:https://sc4.edu/event/mhsaa-girls-basketball-quarterfinals-division-3/
LOCATION:SC4 Fieldhouse\, 400 Erie Street\, Port Huron\, MI\, 48060\, United States
CATEGORIES:Athletics
END:VEVENT
BEGIN:VEVENT
DTSTART;TZID=America/Detroit:20240320T120000
DTEND;TZID=America/Detroit:20240320T170000
DTSTAMP:20260420T032723
CREATED:20240304T203508Z
LAST-MODIFIED:20240304T203543Z
UID:10001688-1710936000-1710954000@sc4.edu
SUMMARY:SC4 Baseball VS Alpena CC
DESCRIPTION:
URL:https://sc4.edu/event/sc4-baseball-vs-alpena-cc/
LOCATION:Sanborn Baseball Field\, 1801 Sanborn Street\, Port Huron\, MI\, 48060\, United States
CATEGORIES:Athletics
END:VEVENT
BEGIN:VEVENT
DTSTART;TZID=America/Detroit:20240320T180000
DTEND;TZID=America/Detroit:20240320T200000
DTSTAMP:20260420T032723
CREATED:20240219T180951Z
LAST-MODIFIED:20240219T181046Z
UID:10001259-1710957600-1710964800@sc4.edu
SUMMARY:Women’s Panel
DESCRIPTION:Please join us for a wonderful discussion with these amazing community Leaders \n\n\n\nMarch 20\, at 6:00 pm. Fine Arts Theatre \n\n\n\nIn recognition of March Women’s Month\, the DEI office will host a panel on the Theme: Women Who Advocate for Equity\, Diversity\, and Inclusion. The theme recognizes women who speak up and lead change in their field. \n\n\n\nThe Panelists are \n\n\n\n\nBrenda Tenniswood- Superintendent of RESA\n\n\n\nKanchan Wankhede- Director of Entrepreneurial Services\n\n\n\nRanda Jundi-President at Huron Dental\n\n\n\nAnita Ashford-City Council Board Member\n\n\n\n\nFor questions\, contact the Diversity\, Equity\, and Inclusion Office at dei@sc4.edu or (810) 989-5552
URL:https://sc4.edu/event/34514/
LOCATION:MI
CATEGORIES:Community,Diversity Equity Inclusion
END:VEVENT
BEGIN:VEVENT
DTSTART;TZID=America/Detroit:20240321T120000
DTEND;TZID=America/Detroit:20240321T130000
DTSTAMP:20260420T032723
CREATED:20231206T170827Z
LAST-MODIFIED:20231206T195902Z
UID:10001236-1711022400-1711026000@sc4.edu
SUMMARY:Free Concert: Harpist Chanah Ambuter
DESCRIPTION:Join us for performances by Harpist Chanah Ambuter. \n\n\n\nPerformances are scheduled from noon to 1 p.m. and 5 to 6:30 p.m. in the SC4 Fine Arts Theatre. \n\n\n\nSeats are general admission and no reservations are needed. Doors open 15 minutes prior to showtime.
URL:https://sc4.edu/event/free-concert-harpist-chanah-ambuter/
LOCATION:MI
CATEGORIES:Arts,Campus life,Community,Thursday concert series
END:VEVENT
BEGIN:VEVENT
DTSTART;TZID=America/Detroit:20240321T160000
DTEND;TZID=America/Detroit:20240321T170000
DTSTAMP:20260420T032723
CREATED:20240314T210802Z
LAST-MODIFIED:20240314T210804Z
UID:10001691-1711036800-1711040400@sc4.edu
SUMMARY:Associate Degree Nursing Information Session
DESCRIPTION:Attend this virtual information session to ask questions and learn about the program\, course schedule\, any prerequisites\, and more. Join the meeting on Teams.
URL:https://sc4.edu/event/associate-degree-nursing-information-session-10/
LOCATION:MI
CATEGORIES:Academics,Admissions
END:VEVENT
BEGIN:VEVENT
DTSTART;TZID=America/Detroit:20240321T170000
DTEND;TZID=America/Detroit:20240321T183000
DTSTAMP:20260420T032723
CREATED:20231206T170953Z
LAST-MODIFIED:20231206T195909Z
UID:10001237-1711040400-1711045800@sc4.edu
SUMMARY:Free Concert: Harpist Chanah Ambuter
DESCRIPTION:Join us for performances by Harpist Chanah Ambuter. \n\n\n\nPerformances are scheduled from noon to 1 p.m. and 5 to 6:30 p.m. in the SC4 Fine Arts Theatre. \n\n\n\nSeats are general admission and no reservations are needed. Doors open 15 minutes prior to showtime.
URL:https://sc4.edu/event/free-concert-harpist-chanah-ambuter-2/
LOCATION:MI
CATEGORIES:Arts,Campus life,Community,Thursday concert series
END:VEVENT
END:VCALENDAR