BEGIN:VCALENDAR
VERSION:2.0
PRODID:-//St. Clair County Community College - ECPv6.15.20//NONSGML v1.0//EN
CALSCALE:GREGORIAN
METHOD:PUBLISH
X-WR-CALNAME:St. Clair County Community College
X-ORIGINAL-URL:https://sc4.edu
X-WR-CALDESC:Events for St. Clair County Community College
REFRESH-INTERVAL;VALUE=DURATION:PT1H
X-Robots-Tag:noindex
X-PUBLISHED-TTL:PT1H
BEGIN:VTIMEZONE
TZID:America/Detroit
BEGIN:DAYLIGHT
TZOFFSETFROM:-0500
TZOFFSETTO:-0400
TZNAME:EDT
DTSTART:20230312T070000
END:DAYLIGHT
BEGIN:STANDARD
TZOFFSETFROM:-0400
TZOFFSETTO:-0500
TZNAME:EST
DTSTART:20231105T060000
END:STANDARD
BEGIN:DAYLIGHT
TZOFFSETFROM:-0500
TZOFFSETTO:-0400
TZNAME:EDT
DTSTART:20240310T070000
END:DAYLIGHT
BEGIN:STANDARD
TZOFFSETFROM:-0400
TZOFFSETTO:-0500
TZNAME:EST
DTSTART:20241103T060000
END:STANDARD
BEGIN:DAYLIGHT
TZOFFSETFROM:-0500
TZOFFSETTO:-0400
TZNAME:EDT
DTSTART:20250309T070000
END:DAYLIGHT
BEGIN:STANDARD
TZOFFSETFROM:-0400
TZOFFSETTO:-0500
TZNAME:EST
DTSTART:20251102T060000
END:STANDARD
END:VTIMEZONE
BEGIN:VEVENT
DTSTART;TZID=America/Detroit:20240328T170000
DTEND;TZID=America/Detroit:20240328T180000
DTSTAMP:20260420T013540
CREATED:20240222T211023Z
LAST-MODIFIED:20240222T211218Z
UID:10001264-1711645200-1711648800@sc4.edu
SUMMARY:Respiratory Therapy Information session
DESCRIPTION:The respiratory therapy program at St. Clair County Community College uses an integration of classroom and practicum experiences in hospitals\, outpatient testing facilities and physician offices. Students graduating from the program will obtain an Associate in Applied Arts and Science degree\, and become eligible to take the National Board of Respiratory Care (NBRC) credentialing examinations. \n\n\n\nAttend this virtual information session to ask questions and learn about the program\, course schedule\, any prerequisites\, and more. \n\n\n\nJoin the meeting on Teams.
URL:https://sc4.edu/event/respiratory-therapy-information-session-2/
LOCATION:MI
CATEGORIES:Academics
END:VEVENT
BEGIN:VEVENT
DTSTART;TZID=America/Detroit:20240328T180000
DTEND;TZID=America/Detroit:20240328T193000
DTSTAMP:20260420T013541
CREATED:20240223T160559Z
LAST-MODIFIED:20240223T185903Z
UID:10001289-1711648800-1711654200@sc4.edu
SUMMARY:A Guided Book Discussion: ‘Killers of the Flower Moon: The Osage Murders and the Birth of the FBI’
DESCRIPTION:SC4’s Office of Diversity\, Equity and Inclusion is hosting a Guided Book Discussion on Thursday\, March 28\, in the SC4 Fine Arts Theatre\, on the book ‘Killers of the Flower Moon: The Osage Murders and the Birth of the FBI’ by David Grann. \n\n\n\nThe panel discussion is a collaboration between the SC4 DEI office\, SC4 faculty\, and the local community. Panelists include Scott Fernandez and Patricia Frank\, history professors; Joan Jacobs\, a member of the Blue Water Area indigenous community; and Ryan Johnson\, history instructor. \n\n\n\nBooks are available in the DEI Office\, located in Room 250\, Welcome Center\, by emailing dei@sc4.edu or calling (810) 989-5552. \n\n\n\nBOOK SUMMARY: \n\n\n\nIn the 1920s\, the richest people per capita in the world were members of the Osage Nation in Oklahoma. After oil was discovered beneath their land\, the Osage rode in chauffeured automobiles\, built mansions\, and sent their children to study in Europe. \n\n\n\nThen\, one by one\, the Osage began to be killed off. The family of an Osage woman\, Mollie Burkhart\, became a prime target. One of her relatives was shot. Another was poisoned. And this was just the beginning\, as more and more Osage were dying under mysterious circumstances\, and many of those who dared to investigate the killings were themselves murdered. \n\n\n\nAs the death toll rose\, the newly created FBI took up the case\, and the young director\, J. Edgar Hoover\, turned to a former Texas Ranger named Tom White to try to unravel the mystery. White put together an undercover team\, including a Native American agent who infiltrated the region\, and together with the Osage began to expose one of the most chilling conspiracies in American history. \n\n\n\nThe New York Times Bestseller\, Killers of the Flower Moon\, by David Grann was recently made into a major motion picture. \n\n\n\nWatch the official trailer on YouTube. The movie in currently playing in theaters and available for streaming on Apple TV+. Host a watch party and then plan to attend the free event on March 28! \n\n\n\nRegister for this event here\, e-mail dei@sc4.edu or call (810) 989-5552
URL:https://sc4.edu/event/34632/
LOCATION:MI
CATEGORIES:Community,Diversity Equity Inclusion
END:VEVENT
END:VCALENDAR