BEGIN:VCALENDAR
VERSION:2.0
PRODID:-//St. Clair County Community College - ECPv6.15.20//NONSGML v1.0//EN
CALSCALE:GREGORIAN
METHOD:PUBLISH
X-ORIGINAL-URL:https://sc4.edu
X-WR-CALDESC:Events for St. Clair County Community College
REFRESH-INTERVAL;VALUE=DURATION:PT1H
X-Robots-Tag:noindex
X-PUBLISHED-TTL:PT1H
BEGIN:VTIMEZONE
TZID:America/Detroit
BEGIN:DAYLIGHT
TZOFFSETFROM:-0500
TZOFFSETTO:-0400
TZNAME:EDT
DTSTART:20230312T070000
END:DAYLIGHT
BEGIN:STANDARD
TZOFFSETFROM:-0400
TZOFFSETTO:-0500
TZNAME:EST
DTSTART:20231105T060000
END:STANDARD
BEGIN:DAYLIGHT
TZOFFSETFROM:-0500
TZOFFSETTO:-0400
TZNAME:EDT
DTSTART:20240310T070000
END:DAYLIGHT
BEGIN:STANDARD
TZOFFSETFROM:-0400
TZOFFSETTO:-0500
TZNAME:EST
DTSTART:20241103T060000
END:STANDARD
BEGIN:DAYLIGHT
TZOFFSETFROM:-0500
TZOFFSETTO:-0400
TZNAME:EDT
DTSTART:20250309T070000
END:DAYLIGHT
BEGIN:STANDARD
TZOFFSETFROM:-0400
TZOFFSETTO:-0500
TZNAME:EST
DTSTART:20251102T060000
END:STANDARD
END:VTIMEZONE
BEGIN:VEVENT
DTSTART;TZID=America/Detroit:20240401T090000
DTEND;TZID=America/Detroit:20240426T190000
DTSTAMP:20260419T235358
CREATED:20240110T023452Z
LAST-MODIFIED:20240110T023453Z
UID:10001248-1711962000-1714158000@sc4.edu
SUMMARY:Gallery show: Patterns Exhibition & Student Portfolio Exhibition
DESCRIPTION:The SC4 Fine Arts Gallery will be filled with student artwork as featured in the 66th edition of Patterns Magazine. \n\n\n\nThe show also includes a showcase of artwork created by SC4 design students. \n\n\n\nLOCATION: SC4 Fine Arts Building
URL:https://sc4.edu/event/gallery-show-patterns-exhibition-student-portfolio-exhibition-2/
LOCATION:MI
CATEGORIES:Arts,Community
END:VEVENT
BEGIN:VEVENT
DTSTART;TZID=America/Detroit:20240422T100000
DTEND;TZID=America/Detroit:20240422T150000
DTSTAMP:20260419T235358
CREATED:20240410T204748Z
LAST-MODIFIED:20240410T210940Z
UID:10001718-1713780000-1713798000@sc4.edu
SUMMARY:Men’s Golf at Muskegon Community College
DESCRIPTION:SC4 Skippers men’s golf will be playing at Stonegate Golf Club
URL:https://sc4.edu/event/mens-golf-at-muskegon-community-college/
LOCATION:MI
CATEGORIES:Athletics,Golf
END:VEVENT
BEGIN:VEVENT
DTSTART;TZID=America/Detroit:20240423T110000
DTEND;TZID=America/Detroit:20240423T133000
DTSTAMP:20260419T235358
CREATED:20240415T191345Z
LAST-MODIFIED:20240415T191347Z
UID:10001728-1713870000-1713879000@sc4.edu
SUMMARY:Student Government: Summer Dreams
DESCRIPTION:Students\, faculty\, and staff are welcome to join the student government for Summer Dreams with Ice Cream & Pups. Jerseys Mikes and Jimmy’s Custard will be available on the greenway. \n\n\n\nLocation: SC4 Greenway
URL:https://sc4.edu/event/student-government-summer-dreams/
LOCATION:MI
CATEGORIES:Academics,Admissions
END:VEVENT
BEGIN:VEVENT
DTSTART;TZID=America/Detroit:20240424T100000
DTEND;TZID=America/Detroit:20240424T110000
DTSTAMP:20260419T235358
CREATED:20240222T211619Z
LAST-MODIFIED:20240222T214428Z
UID:10001267-1713952800-1713956400@sc4.edu
SUMMARY:Radiologic Technology Information Session
DESCRIPTION:Attend this virtual information session to ask questions and learn about the program\, course schedule\, any prerequisites\, and more. Join the meeting on Teams.
URL:https://sc4.edu/event/radiologic-technology-information-session/
LOCATION:MI
CATEGORIES:Academics,Admissions
END:VEVENT
BEGIN:VEVENT
DTSTART;TZID=America/Detroit:20240424T110000
DTEND;TZID=America/Detroit:20240424T120000
DTSTAMP:20260419T235358
CREATED:20240325T163123Z
LAST-MODIFIED:20240325T163201Z
UID:10001699-1713956400-1713960000@sc4.edu
SUMMARY:Sexual Assault\, Prevention\, Awareness and Survival Presentation
DESCRIPTION:SC4 Social Science Division\, Campus Patrol and PHPD will present a Sexual Assault\, Prevention\, Awareness and Survival program. This will be available in person in the FAB Theater or streamed live.
URL:https://sc4.edu/event/sexual-assault-prevention-awareness-and-survival-presentation/
LOCATION:MI
CATEGORIES:Academics,Campus life,Community
END:VEVENT
BEGIN:VEVENT
DTSTART;TZID=America/Detroit:20240425T140000
DTEND;TZID=America/Detroit:20240425T183000
DTSTAMP:20260419T235358
CREATED:20240410T204814Z
LAST-MODIFIED:20240410T210956Z
UID:10001719-1714053600-1714069800@sc4.edu
SUMMARY:Baseball vs. Mott Community College
DESCRIPTION:SC4 Skippers baseball vs. the Mott Bears
URL:https://sc4.edu/event/baseball-vs-mott-community-college/
LOCATION:Sanborn Baseball Field\, 1801 Sanborn Street\, Port Huron\, MI\, 48060\, United States
CATEGORIES:Athletics,Baseball
END:VEVENT
BEGIN:VEVENT
DTSTART;TZID=America/Detroit:20240425T150000
DTEND;TZID=America/Detroit:20240425T190000
DTSTAMP:20260419T235358
CREATED:20240410T204841Z
LAST-MODIFIED:20240410T211009Z
UID:10001720-1714057200-1714071600@sc4.edu
SUMMARY:Softball at Oakland Community College
DESCRIPTION:SC4 Skippers softball at Oakland Community College
URL:https://sc4.edu/event/softball-at-oakland-community-college/
LOCATION:MI
CATEGORIES:Athletics,Softball
END:VEVENT
BEGIN:VEVENT
DTSTART;TZID=America/Detroit:20240425T170000
DTEND;TZID=America/Detroit:20240425T180000
DTSTAMP:20260419T235358
CREATED:20240222T211139Z
LAST-MODIFIED:20240222T214422Z
UID:10001265-1714064400-1714068000@sc4.edu
SUMMARY:Respiratory Therapy Information session
DESCRIPTION:The respiratory therapy program at St. Clair County Community College uses an integration of classroom and practicum experiences in hospitals\, outpatient testing facilities and physician offices. Students graduating from the program will obtain an Associate in Applied Arts and Science degree\, and become eligible to take the National Board of Respiratory Care (NBRC) credentialing examinations. \n\n\n\nAttend this virtual information session to ask questions and learn about the program\, course schedule\, any prerequisites\, and more. \n\n\n\nJoin the meeting on Teams.
URL:https://sc4.edu/event/respiratory-therapy-information-session-3/
LOCATION:MI
CATEGORIES:Academics,Admissions
END:VEVENT
BEGIN:VEVENT
DTSTART;TZID=America/Detroit:20240425T190000
DTEND;TZID=America/Detroit:20240425T203000
DTSTAMP:20260419T235358
CREATED:20240110T023811Z
LAST-MODIFIED:20240111T173155Z
UID:10001249-1714071600-1714077000@sc4.edu
SUMMARY:Patterns Awards Ceremony and Reception
DESCRIPTION:This event is the culmination of a year’s work as the 66th annual Patterns magazine is released with winning art and writing entries from SC4 students. Published SC4 students will be honored\, and their artwork will be displayed in the Fine Arts Gallery.Location: Fine Arts Theatre and Fine Arts Gallery.
URL:https://sc4.edu/event/patterns-awards-ceremony-and-reception-2/
LOCATION:MI
CATEGORIES:Arts,Community
END:VEVENT
BEGIN:VEVENT
DTSTART;TZID=America/Detroit:20240426T093000
DTEND;TZID=America/Detroit:20240426T150000
DTSTAMP:20260419T235358
CREATED:20240410T210200Z
LAST-MODIFIED:20240410T211043Z
UID:10001721-1714123800-1714143600@sc4.edu
SUMMARY:Men’s Golf at home\, Port Huron Golf Club
DESCRIPTION:SC4 Skippers men’s golf will be playing at home\, Port Huron Golf Club
URL:https://sc4.edu/event/mens-golf-at-home-port-huron-golf-club/
LOCATION:Port Huron Golf Club\, 4101 Fairway Drive\, Fort Gratiot Twp\, MI\, 48059\, United States
CATEGORIES:Athletics,Golf
END:VEVENT
BEGIN:VEVENT
DTSTART;TZID=America/Detroit:20240427T130000
DTEND;TZID=America/Detroit:20240427T170000
DTSTAMP:20260419T235358
CREATED:20240410T204948Z
LAST-MODIFIED:20240410T205859Z
UID:10001722-1714222800-1714237200@sc4.edu
SUMMARY:Softball vs. Schoolcraft College
DESCRIPTION:SC4 Skippers softball vs. the Schoolcraft College Ocelots
URL:https://sc4.edu/event/softball-vs-schoolcraft-college/
LOCATION:Marysville Park Softball Field\, 801 E. Huron Blvd\, Port Huron\, MI\, 48060\, United States
CATEGORIES:Athletics,Softball
END:VEVENT
BEGIN:VEVENT
DTSTART;TZID=America/Detroit:20240427T130000
DTEND;TZID=America/Detroit:20240427T173000
DTSTAMP:20260419T235358
CREATED:20240410T205012Z
LAST-MODIFIED:20240410T205826Z
UID:10001723-1714222800-1714239000@sc4.edu
SUMMARY:Baseball at Mott Community College
DESCRIPTION:SC4 Skippers baseball at Mott Community College
URL:https://sc4.edu/event/baseball-at-mott-community-college/
LOCATION:MI
CATEGORIES:Athletics,Baseball
END:VEVENT
END:VCALENDAR