BEGIN:VCALENDAR
VERSION:2.0
PRODID:-//St. Clair County Community College - ECPv6.15.20//NONSGML v1.0//EN
CALSCALE:GREGORIAN
METHOD:PUBLISH
X-WR-CALNAME:St. Clair County Community College
X-ORIGINAL-URL:https://sc4.edu
X-WR-CALDESC:Events for St. Clair County Community College
REFRESH-INTERVAL;VALUE=DURATION:PT1H
X-Robots-Tag:noindex
X-PUBLISHED-TTL:PT1H
BEGIN:VTIMEZONE
TZID:America/Detroit
BEGIN:DAYLIGHT
TZOFFSETFROM:-0500
TZOFFSETTO:-0400
TZNAME:EDT
DTSTART:20230312T070000
END:DAYLIGHT
BEGIN:STANDARD
TZOFFSETFROM:-0400
TZOFFSETTO:-0500
TZNAME:EST
DTSTART:20231105T060000
END:STANDARD
BEGIN:DAYLIGHT
TZOFFSETFROM:-0500
TZOFFSETTO:-0400
TZNAME:EDT
DTSTART:20240310T070000
END:DAYLIGHT
BEGIN:STANDARD
TZOFFSETFROM:-0400
TZOFFSETTO:-0500
TZNAME:EST
DTSTART:20241103T060000
END:STANDARD
BEGIN:DAYLIGHT
TZOFFSETFROM:-0500
TZOFFSETTO:-0400
TZNAME:EDT
DTSTART:20250309T070000
END:DAYLIGHT
BEGIN:STANDARD
TZOFFSETFROM:-0400
TZOFFSETTO:-0500
TZNAME:EST
DTSTART:20251102T060000
END:STANDARD
END:VTIMEZONE
BEGIN:VEVENT
DTSTART;TZID=America/Detroit:20240610T110000
DTEND;TZID=America/Detroit:20240610T120000
DTSTAMP:20260420T034820
CREATED:20240222T211736Z
LAST-MODIFIED:20240222T214407Z
UID:10001268-1718017200-1718020800@sc4.edu
SUMMARY:Radiologic Technology Information Session
DESCRIPTION:Attend this virtual information session to ask questions and learn about the program\, course schedule\, any prerequisites\, and more. Join the meeting on Teams.
URL:https://sc4.edu/event/radiologic-technology-information-session-2/
LOCATION:MI
CATEGORIES:Academics,Admissions
END:VEVENT
BEGIN:VEVENT
DTSTART;TZID=America/Detroit:20240612T130000
DTEND;TZID=America/Detroit:20240612T140000
DTSTAMP:20260420T034820
CREATED:20240517T190750Z
LAST-MODIFIED:20240520T134934Z
UID:10001750-1718197200-1718200800@sc4.edu
SUMMARY:FAFSA Completion Workshops
DESCRIPTION:FAFSA Completion Workshops are offered for students to help students with FAFSA completion. Students can register at sc4.edu/financialaid.  \n\n\n\nLocation: Welcome Center 208
URL:https://sc4.edu/event/fafsa-completion-workshops-4/
LOCATION:MI
CATEGORIES:Academics,Admissions
END:VEVENT
BEGIN:VEVENT
DTSTART;TZID=America/Detroit:20240613T120000
DTEND;TZID=America/Detroit:20240613T200000
DTSTAMP:20260420T034820
CREATED:20240611T211701Z
LAST-MODIFIED:20240611T211829Z
UID:10001756-1718280000-1718308800@sc4.edu
SUMMARY:Esports LAN Party
DESCRIPTION:Join the SC4 Esports team for a LAN Party 12 to 8 p.m.\, Thursday\, June 13 from. Meet other local gamers to discuss strategies\, bond and learn from each other. \n\n\n\nEquipment will be provided for all participants. \n\n\n\nLOCATION: SC4 Fine Arts Building Room 22A
URL:https://sc4.edu/event/lan-party/
LOCATION:MI
CATEGORIES:Athletics,Community,Esports
END:VEVENT
END:VCALENDAR