BEGIN:VCALENDAR
VERSION:2.0
PRODID:-//St. Clair County Community College - ECPv6.15.20//NONSGML v1.0//EN
CALSCALE:GREGORIAN
METHOD:PUBLISH
X-ORIGINAL-URL:https://sc4.edu
X-WR-CALDESC:Events for St. Clair County Community College
REFRESH-INTERVAL;VALUE=DURATION:PT1H
X-Robots-Tag:noindex
X-PUBLISHED-TTL:PT1H
BEGIN:VTIMEZONE
TZID:America/Detroit
BEGIN:DAYLIGHT
TZOFFSETFROM:-0500
TZOFFSETTO:-0400
TZNAME:EDT
DTSTART:20230312T070000
END:DAYLIGHT
BEGIN:STANDARD
TZOFFSETFROM:-0400
TZOFFSETTO:-0500
TZNAME:EST
DTSTART:20231105T060000
END:STANDARD
BEGIN:DAYLIGHT
TZOFFSETFROM:-0500
TZOFFSETTO:-0400
TZNAME:EDT
DTSTART:20240310T070000
END:DAYLIGHT
BEGIN:STANDARD
TZOFFSETFROM:-0400
TZOFFSETTO:-0500
TZNAME:EST
DTSTART:20241103T060000
END:STANDARD
BEGIN:DAYLIGHT
TZOFFSETFROM:-0500
TZOFFSETTO:-0400
TZNAME:EDT
DTSTART:20250309T070000
END:DAYLIGHT
BEGIN:STANDARD
TZOFFSETFROM:-0400
TZOFFSETTO:-0500
TZNAME:EST
DTSTART:20251102T060000
END:STANDARD
END:VTIMEZONE
BEGIN:VEVENT
DTSTART;TZID=America/Detroit:20240617T090000
DTEND;TZID=America/Detroit:20240617T150000
DTSTAMP:20260420T170040
CREATED:20240304T181128Z
LAST-MODIFIED:20240304T181237Z
UID:10001302-1718614800-1718636400@sc4.edu
SUMMARY:Galaxy Quest STEM Summer Camp (for learners in grades 3-5)
DESCRIPTION:The Galaxy Quest STEM Summer Camp will incorporate hands-on science and nature fun. Campers will engage in experiments\, nature exploration\, wildlife encounters\, immersive space simulations in the Challenger Learning Center at SC4 and more. Please scroll down for additional details. To register please go to https://stclair.nbsstore.net/2024-galaxy-quest-stem-summer-camp-2-day-session-for-learners-in-grades-3-5-june-session \n\n\n\nLocated in the Challenger Learning Center.
URL:https://sc4.edu/event/galaxy-quest-stem-summer-camp-for-learners-in-grades-3-5-5/
LOCATION:MI
CATEGORIES:Academics,Challenger Learning Center,Community
END:VEVENT
BEGIN:VEVENT
DTSTART;TZID=America/Detroit:20240617T090000
DTEND;TZID=America/Detroit:20240619T120000
DTSTAMP:20260420T170040
CREATED:20240528T160820Z
LAST-MODIFIED:20240528T160834Z
UID:10001732-1718614800-1718798400@sc4.edu
SUMMARY:Baseball Camp
DESCRIPTION:The camp is from 9 a.m. to noon on June 17-19 for learners entering grades 5-12. Instruction by SC4’s baseball coaches and team.
URL:https://sc4.edu/event/baseball-camp/
LOCATION:Sanborn Baseball Field\, 1801 Sanborn Street\, Port Huron\, MI\, 48060\, United States
CATEGORIES:Baseball
END:VEVENT
BEGIN:VEVENT
DTSTART;TZID=America/Detroit:20240617T170000
DTEND;TZID=America/Detroit:20240619T200000
DTSTAMP:20260420T170040
CREATED:20240528T160858Z
LAST-MODIFIED:20240528T160901Z
UID:10001733-1718643600-1718827200@sc4.edu
SUMMARY:Soccer Camp
DESCRIPTION:The camp is from 5 to 8 p.m. on June 17-19 for learners entering grades 5-12. Instruction by SC4’s coaches and teams. Scroll down for additional details.\n 
URL:https://sc4.edu/event/soccer-camp/
LOCATION:SC4 Soccer Field\, 560 Busha Hwy\, Marysville\, MI\, 48040\, United States
CATEGORIES:Soccer
END:VEVENT
BEGIN:VEVENT
DTSTART;TZID=America/Detroit:20240618T090000
DTEND;TZID=America/Detroit:20240618T150000
DTSTAMP:20260420T170040
CREATED:20240304T181317Z
LAST-MODIFIED:20240304T181319Z
UID:10001670-1718701200-1718722800@sc4.edu
SUMMARY:Galaxy Quest STEM Summer Camp (for learners in grades 3-5)
DESCRIPTION:The Galaxy Quest STEM Summer Camp will incorporate hands-on science and nature fun. Campers will engage in experiments\, nature exploration\, wildlife encounters\, immersive space simulations in the Challenger Learning Center at SC4 and more. Please scroll down for additional details. To register please go to https://stclair.nbsstore.net/2024-galaxy-quest-stem-summer-camp-2-day-session-for-learners-in-grades-3-5-june-session \n\n\n\nLocated in the Challenger Learning Center.
URL:https://sc4.edu/event/galaxy-quest-stem-summer-camp-for-learners-in-grades-3-5-6/2024-06-18/
LOCATION:MI
CATEGORIES:Academics,Challenger Learning Center,Community
END:VEVENT
BEGIN:VEVENT
DTSTART;TZID=America/Detroit:20240618T100000
DTEND;TZID=America/Detroit:20240618T110000
DTSTAMP:20260420T170040
CREATED:20240517T190859Z
LAST-MODIFIED:20240520T134938Z
UID:10001751-1718704800-1718708400@sc4.edu
SUMMARY:FAFSA Completion Workshops
DESCRIPTION:FAFSA Completion Workshops are offered for students to help students with FAFSA completion. Students can register at sc4.edu/financialaid.  \n\n\n\nLocation: Welcome Center 208
URL:https://sc4.edu/event/fafsa-completion-workshops-5/
LOCATION:MI
CATEGORIES:Academics,Admissions
END:VEVENT
BEGIN:VEVENT
DTSTART;TZID=America/Detroit:20240618T170000
DTEND;TZID=America/Detroit:20240618T180000
DTSTAMP:20260420T170040
CREATED:20240222T212720Z
LAST-MODIFIED:20240222T212738Z
UID:10001275-1718730000-1718733600@sc4.edu
SUMMARY:Practical Nursing Information Session
DESCRIPTION:Attend this virtual information session to ask questions and learn about the program\, course schedule\, any prerequisites\, and more. Join the meeting on Teams.
URL:https://sc4.edu/event/practical-nursing-information-session-5/
LOCATION:MI
CATEGORIES:Academics,Admissions
END:VEVENT
BEGIN:VEVENT
DTSTART;TZID=America/Detroit:20240619T120000
DTEND;TZID=America/Detroit:20240619T160000
DTSTAMP:20260420T170040
CREATED:20240111T012704Z
LAST-MODIFIED:20240509T054117Z
UID:10001254-1718798400-1718812800@sc4.edu
SUMMARY:Juneteenth Celebration – A Taste of Heritage\, Freedom\, and Unity!
DESCRIPTION:Join us for games and activities- Food Vendors- Black Owned Business Vendors- Entertainment\, Live Music Performances- Giveaways- Community Resources\, and More! \n\n\n\nLOCATION: College Center Atrium
URL:https://sc4.edu/event/juneteenth-celebration-2/
LOCATION:MI
CATEGORIES:Diversity Equity Inclusion
END:VEVENT
BEGIN:VEVENT
DTSTART;TZID=America/Detroit:20240621T080000
DTEND;TZID=America/Detroit:20240621T170000
DTSTAMP:20260420T170040
CREATED:20240528T161425Z
LAST-MODIFIED:20240528T200548Z
UID:10001745-1718956800-1718989200@sc4.edu
SUMMARY:Skippers Athletics Golf Classic
DESCRIPTION:This event serves as the annual fundraiser for SC4 Athletics and will be hosted on June 21 at Marysville Golf Course. Golfing starts at 12:30 with Dinner\, Awards\, and Prizes to follow! \nFor more information\, contact Dale Vos at (810) 989-5671
URL:https://sc4.edu/event/skippers-athletics-golf-classic/
LOCATION:MI
CATEGORIES:Athletics
END:VEVENT
END:VCALENDAR