BEGIN:VCALENDAR
VERSION:2.0
PRODID:-//St. Clair County Community College - ECPv6.15.20//NONSGML v1.0//EN
CALSCALE:GREGORIAN
METHOD:PUBLISH
X-ORIGINAL-URL:https://sc4.edu
X-WR-CALDESC:Events for St. Clair County Community College
REFRESH-INTERVAL;VALUE=DURATION:PT1H
X-Robots-Tag:noindex
X-PUBLISHED-TTL:PT1H
BEGIN:VTIMEZONE
TZID:America/Detroit
BEGIN:DAYLIGHT
TZOFFSETFROM:-0500
TZOFFSETTO:-0400
TZNAME:EDT
DTSTART:20230312T070000
END:DAYLIGHT
BEGIN:STANDARD
TZOFFSETFROM:-0400
TZOFFSETTO:-0500
TZNAME:EST
DTSTART:20231105T060000
END:STANDARD
BEGIN:DAYLIGHT
TZOFFSETFROM:-0500
TZOFFSETTO:-0400
TZNAME:EDT
DTSTART:20240310T070000
END:DAYLIGHT
BEGIN:STANDARD
TZOFFSETFROM:-0400
TZOFFSETTO:-0500
TZNAME:EST
DTSTART:20241103T060000
END:STANDARD
BEGIN:DAYLIGHT
TZOFFSETFROM:-0500
TZOFFSETTO:-0400
TZNAME:EDT
DTSTART:20250309T070000
END:DAYLIGHT
BEGIN:STANDARD
TZOFFSETFROM:-0400
TZOFFSETTO:-0500
TZNAME:EST
DTSTART:20251102T060000
END:STANDARD
END:VTIMEZONE
BEGIN:VEVENT
DTSTART;TZID=America/Detroit:20240624T090000
DTEND;TZID=America/Detroit:20240626T120000
DTSTAMP:20260420T031720
CREATED:20240528T160929Z
LAST-MODIFIED:20240528T160932Z
UID:10001734-1719219600-1719403200@sc4.edu
SUMMARY:Softball Camp
DESCRIPTION:The camp is from 9 a.m. to noon on June 24-26 for learners entering grades 5-12. Instruction by SC4’s softball coaches and team. Scroll down for additional details.\n 
URL:https://sc4.edu/event/softball-camp/
LOCATION:Marysville Park Softball Field\, 801 E. Huron Blvd\, Port Huron\, MI\, 48060\, United States
CATEGORIES:Softball
END:VEVENT
BEGIN:VEVENT
DTSTART;TZID=America/Detroit:20240624T170000
DTEND;TZID=America/Detroit:20240626T200000
DTSTAMP:20260420T031720
CREATED:20240528T161012Z
LAST-MODIFIED:20240528T161015Z
UID:10001735-1719248400-1719432000@sc4.edu
SUMMARY:Basketball Shooting Camp
DESCRIPTION:The camp is from 5-8 p.m. on June 24-26 for learners entering grades 5-12. Instruction by SC4’s basketball coaches and team. Scroll down for additional details.
URL:https://sc4.edu/event/basketball-shooting-camp/
LOCATION:SC4 Fieldhouse\, 400 Erie Street\, Port Huron\, MI\, 48060\, United States
CATEGORIES:Basketball
END:VEVENT
BEGIN:VEVENT
DTSTART;TZID=America/Detroit:20240626T090000
DTEND;TZID=America/Detroit:20240626T150000
DTSTAMP:20260420T031720
CREATED:20240304T181734Z
LAST-MODIFIED:20240304T182147Z
UID:10001671-1719392400-1719414000@sc4.edu
SUMMARY:Galaxy Quest STEM Summer Camp (for learners in grades 6-8)
DESCRIPTION:The Galaxy Quest STEM Summer Camp will incorporate hands-on science and nature fun. Campers will engage in experiments\, nature exploration\, wildlife encounters\, immersive space simulations in the Challenger Learning Center at SC4 and more. Please scroll down for additional details. To register please go to https://stclair.nbsstore.net/2024-galaxy-quest-stem-summer-camp-2-day-session-for-learners-in-grades-6-8 \n\n\n\nLocated in the Challenger Learning Center.
URL:https://sc4.edu/event/galaxy-quest-stem-summer-camp-for-learners-in-grades-6-8/
LOCATION:MI
CATEGORIES:Academics,Challenger Learning Center,Community
END:VEVENT
BEGIN:VEVENT
DTSTART;TZID=America/Detroit:20240627T090000
DTEND;TZID=America/Detroit:20240627T150000
DTSTAMP:20260420T031720
CREATED:20240304T181805Z
LAST-MODIFIED:20240304T182211Z
UID:10001672-1719478800-1719500400@sc4.edu
SUMMARY:Galaxy Quest STEM Summer Camp (for learners in grades 6-8)
DESCRIPTION:The Galaxy Quest STEM Summer Camp will incorporate hands-on science and nature fun. Campers will engage in experiments\, nature exploration\, wildlife encounters\, immersive space simulations in the Challenger Learning Center at SC4 and more. Please scroll down for additional details. To register please go to https://stclair.nbsstore.net/2024-galaxy-quest-stem-summer-camp-2-day-session-for-learners-in-grades-6-8 \n\n\n\nLocated in the Challenger Learning Center.
URL:https://sc4.edu/event/galaxy-quest-stem-summer-camp-for-learners-in-grades-6-8-2/
LOCATION:MI
CATEGORIES:Academics,Challenger Learning Center,Community
END:VEVENT
BEGIN:VEVENT
DTSTART;TZID=America/Detroit:20240627T140000
DTEND;TZID=America/Detroit:20240627T150000
DTSTAMP:20260420T031720
CREATED:20240517T191020Z
LAST-MODIFIED:20240520T134944Z
UID:10001752-1719496800-1719500400@sc4.edu
SUMMARY:FAFSA Completion Workshops
DESCRIPTION:FAFSA Completion Workshops are offered for students to help students with FAFSA completion. Students can register at sc4.edu/financialaid.  \n\n\n\nLocation: Welcome Center 208
URL:https://sc4.edu/event/fafsa-completion-workshops-6/
LOCATION:MI
CATEGORIES:Academics,Admissions
END:VEVENT
BEGIN:VEVENT
DTSTART;TZID=America/Detroit:20240628T170000
DTEND;TZID=America/Detroit:20240630T170000
DTSTAMP:20260420T031720
CREATED:20240528T161516Z
LAST-MODIFIED:20240528T161519Z
UID:10001746-1719594000-1719766800@sc4.edu
SUMMARY:Summer Series
DESCRIPTION:SC4 Athletics will host the 2nd annual NJCAA Basketball Summer Series from June 28 through June 30 at the SC4 Fieldhouse. This event brings together community college men’s and women’s basketball teams throughout the Midwest as they showcase their talents in front of NCAA\, NAIA\, and other four-year-college division coaches.
URL:https://sc4.edu/event/summer-series/
LOCATION:SC4 Fieldhouse\, 400 Erie Street\, Port Huron\, MI\, 48060\, United States
CATEGORIES:Basketball
END:VEVENT
END:VCALENDAR