BEGIN:VCALENDAR
VERSION:2.0
PRODID:-//St. Clair County Community College - ECPv6.15.20//NONSGML v1.0//EN
CALSCALE:GREGORIAN
METHOD:PUBLISH
X-ORIGINAL-URL:https://sc4.edu
X-WR-CALDESC:Events for St. Clair County Community College
REFRESH-INTERVAL;VALUE=DURATION:PT1H
X-Robots-Tag:noindex
X-PUBLISHED-TTL:PT1H
BEGIN:VTIMEZONE
TZID:America/Detroit
BEGIN:DAYLIGHT
TZOFFSETFROM:-0500
TZOFFSETTO:-0400
TZNAME:EDT
DTSTART:20230312T070000
END:DAYLIGHT
BEGIN:STANDARD
TZOFFSETFROM:-0400
TZOFFSETTO:-0500
TZNAME:EST
DTSTART:20231105T060000
END:STANDARD
BEGIN:DAYLIGHT
TZOFFSETFROM:-0500
TZOFFSETTO:-0400
TZNAME:EDT
DTSTART:20240310T070000
END:DAYLIGHT
BEGIN:STANDARD
TZOFFSETFROM:-0400
TZOFFSETTO:-0500
TZNAME:EST
DTSTART:20241103T060000
END:STANDARD
BEGIN:DAYLIGHT
TZOFFSETFROM:-0500
TZOFFSETTO:-0400
TZNAME:EDT
DTSTART:20250309T070000
END:DAYLIGHT
BEGIN:STANDARD
TZOFFSETFROM:-0400
TZOFFSETTO:-0500
TZNAME:EST
DTSTART:20251102T060000
END:STANDARD
END:VTIMEZONE
BEGIN:VEVENT
DTSTART;TZID=America/Detroit:20240706T180000
DTEND;TZID=America/Detroit:20240706T200000
DTSTAMP:20260419T233540
CREATED:20240528T200200Z
LAST-MODIFIED:20240603T175430Z
UID:10001755-1720288800-1720296000@sc4.edu
SUMMARY:Twilight Band Series
DESCRIPTION:SC4’s Symphonic Band has a free summer Twilight Concert Series at 6 p.m. Saturday\, July 6. Bring a lawn chair to enjoy this concert. \n\n\n\nMark your calendar for upcoming performance dates of August 10. For questions\, call the SC4 Visual and Performing Arts Office at (810) 989-5709. \n\n\n\nLocation: James Acheson Marina Pavilion
URL:https://sc4.edu/event/twilight-band-series-3/
LOCATION:James Acheson Marina Pavilion\, 525 River St.\, Port Huron\, Michigan\, 48060\, United States
CATEGORIES:Arts,Community,SC4 Symphonic Band
END:VEVENT
END:VCALENDAR