BEGIN:VCALENDAR
VERSION:2.0
PRODID:-//St. Clair County Community College - ECPv6.15.20//NONSGML v1.0//EN
CALSCALE:GREGORIAN
METHOD:PUBLISH
X-ORIGINAL-URL:https://sc4.edu
X-WR-CALDESC:Events for St. Clair County Community College
REFRESH-INTERVAL;VALUE=DURATION:PT1H
X-Robots-Tag:noindex
X-PUBLISHED-TTL:PT1H
BEGIN:VTIMEZONE
TZID:America/Detroit
BEGIN:DAYLIGHT
TZOFFSETFROM:-0500
TZOFFSETTO:-0400
TZNAME:EDT
DTSTART:20230312T070000
END:DAYLIGHT
BEGIN:STANDARD
TZOFFSETFROM:-0400
TZOFFSETTO:-0500
TZNAME:EST
DTSTART:20231105T060000
END:STANDARD
BEGIN:DAYLIGHT
TZOFFSETFROM:-0500
TZOFFSETTO:-0400
TZNAME:EDT
DTSTART:20240310T070000
END:DAYLIGHT
BEGIN:STANDARD
TZOFFSETFROM:-0400
TZOFFSETTO:-0500
TZNAME:EST
DTSTART:20241103T060000
END:STANDARD
BEGIN:DAYLIGHT
TZOFFSETFROM:-0500
TZOFFSETTO:-0400
TZNAME:EDT
DTSTART:20250309T070000
END:DAYLIGHT
BEGIN:STANDARD
TZOFFSETFROM:-0400
TZOFFSETTO:-0500
TZNAME:EST
DTSTART:20251102T060000
END:STANDARD
END:VTIMEZONE
BEGIN:VEVENT
DTSTART;TZID=America/Detroit:20240708T090000
DTEND;TZID=America/Detroit:20240708T150000
DTSTAMP:20260419T221625
CREATED:20240304T182627Z
LAST-MODIFIED:20240304T182629Z
UID:10001678-1720429200-1720450800@sc4.edu
SUMMARY:Galaxy Quest STEM Summer Camp (for learners in grades 6-8)
DESCRIPTION:The Galaxy Quest STEM Summer Camp will incorporate hands-on science and nature fun. Campers will engage in experiments\, nature exploration\, wildlife encounters\, immersive space simulations in the Challenger Learning Center at SC4 and more. Please scroll down for additional details. To register please go to https://stclair.nbsstore.net/2024-galaxy-quest-stem-summer-camp-5-day-session-for-learners-in-grades-6-8. \n\n\n\nLocated in the Challenger Learning Center.
URL:https://sc4.edu/event/galaxy-quest-stem-summer-camp-for-learners-in-grades-6-8-3/
LOCATION:MI
CATEGORIES:Academics,Challenger Learning Center,Community
END:VEVENT
BEGIN:VEVENT
DTSTART;TZID=America/Detroit:20240708T090000
DTEND;TZID=America/Detroit:20240711T120000
DTSTAMP:20260419T221625
CREATED:20240528T161038Z
LAST-MODIFIED:20240528T161041Z
UID:10001736-1720429200-1720699200@sc4.edu
SUMMARY:Basketball Camp
DESCRIPTION:The camp is from 9 a.m. to noon on July 8 – 11 for learners entering grades 5-12. Instruction by SC4’s men’s basketball coaches and team. Scroll down for additional details.
URL:https://sc4.edu/event/basketball-camp/
LOCATION:SC4 Fieldhouse\, 400 Erie Street\, Port Huron\, MI\, 48060\, United States
CATEGORIES:Basketball
END:VEVENT
BEGIN:VEVENT
DTSTART;TZID=America/Detroit:20240709T090000
DTEND;TZID=America/Detroit:20240709T150000
DTSTAMP:20260419T221625
CREATED:20240304T182751Z
LAST-MODIFIED:20240304T182753Z
UID:10001679-1720515600-1720537200@sc4.edu
SUMMARY:Galaxy Quest STEM Summer Camp (for learners in grades 6-8)
DESCRIPTION:The Galaxy Quest STEM Summer Camp will incorporate hands-on science and nature fun. Campers will engage in experiments\, nature exploration\, wildlife encounters\, immersive space simulations in the Challenger Learning Center at SC4 and more. Please scroll down for additional details. To register please go to https://stclair.nbsstore.net/2024-galaxy-quest-stem-summer-camp-5-day-session-for-learners-in-grades-6-8. \n\n\n\nLocated in the Challenger Learning Center.
URL:https://sc4.edu/event/galaxy-quest-stem-summer-camp-for-learners-in-grades-6-8-4/
LOCATION:MI
CATEGORIES:Academics,Challenger Learning Center,Community
END:VEVENT
BEGIN:VEVENT
DTSTART;TZID=America/Detroit:20240709T100000
DTEND;TZID=America/Detroit:20240709T110000
DTSTAMP:20260419T221625
CREATED:20240708T154921Z
LAST-MODIFIED:20240708T155931Z
UID:10001757-1720519200-1720522800@sc4.edu
SUMMARY:FAFSA completion sessions
DESCRIPTION:SC4 is hosting FAFSA completion sessions for students to get assistance with completing the FAFSA. \n\n\n\nLocation: Welcome Center 208
URL:https://sc4.edu/event/fafsa-completion-sessions/
LOCATION:MI
CATEGORIES:Admissions
END:VEVENT
BEGIN:VEVENT
DTSTART;TZID=America/Detroit:20240710T090000
DTEND;TZID=America/Detroit:20240710T150000
DTSTAMP:20260419T221625
CREATED:20240304T182825Z
LAST-MODIFIED:20240304T182826Z
UID:10001680-1720602000-1720623600@sc4.edu
SUMMARY:Galaxy Quest STEM Summer Camp (for learners in grades 6-8)
DESCRIPTION:The Galaxy Quest STEM Summer Camp will incorporate hands-on science and nature fun. Campers will engage in experiments\, nature exploration\, wildlife encounters\, immersive space simulations in the Challenger Learning Center at SC4 and more. Please scroll down for additional details. To register please go to https://stclair.nbsstore.net/2024-galaxy-quest-stem-summer-camp-5-day-session-for-learners-in-grades-6-8. \n\n\n\nLocated in the Challenger Learning Center.
URL:https://sc4.edu/event/galaxy-quest-stem-summer-camp-for-learners-in-grades-6-8-5/
LOCATION:MI
CATEGORIES:Academics,Challenger Learning Center,Community
END:VEVENT
BEGIN:VEVENT
DTSTART;TZID=America/Detroit:20240711T090000
DTEND;TZID=America/Detroit:20240711T150000
DTSTAMP:20260419T221625
CREATED:20240304T182921Z
LAST-MODIFIED:20240304T182923Z
UID:10001681-1720688400-1720710000@sc4.edu
SUMMARY:Galaxy Quest STEM Summer Camp (for learners in grades 6-8)
DESCRIPTION:The Galaxy Quest STEM Summer Camp will incorporate hands-on science and nature fun. Campers will engage in experiments\, nature exploration\, wildlife encounters\, immersive space simulations in the Challenger Learning Center at SC4 and more. Please scroll down for additional details. To register please go to https://stclair.nbsstore.net/2024-galaxy-quest-stem-summer-camp-5-day-session-for-learners-in-grades-6-8. \n\n\n\nLocated in the Challenger Learning Center.
URL:https://sc4.edu/event/galaxy-quest-stem-summer-camp-for-learners-in-grades-6-8-6/
LOCATION:MI
CATEGORIES:Academics,Challenger Learning Center,Community
END:VEVENT
BEGIN:VEVENT
DTSTART;TZID=America/Detroit:20240712T090000
DTEND;TZID=America/Detroit:20240712T150000
DTSTAMP:20260419T221625
CREATED:20240304T182959Z
LAST-MODIFIED:20240304T183001Z
UID:10001682-1720774800-1720796400@sc4.edu
SUMMARY:Galaxy Quest STEM Summer Camp (for learners in grades 6-8)
DESCRIPTION:The Galaxy Quest STEM Summer Camp will incorporate hands-on science and nature fun. Campers will engage in experiments\, nature exploration\, wildlife encounters\, immersive space simulations in the Challenger Learning Center at SC4 and more. Please scroll down for additional details. To register please go to https://stclair.nbsstore.net/2024-galaxy-quest-stem-summer-camp-5-day-session-for-learners-in-grades-6-8. \n\n\n\nLocated in the Challenger Learning Center.
URL:https://sc4.edu/event/galaxy-quest-stem-summer-camp-for-learners-in-grades-6-8-7/
LOCATION:MI
CATEGORIES:Academics,Challenger Learning Center,Community
END:VEVENT
END:VCALENDAR