BEGIN:VCALENDAR
VERSION:2.0
PRODID:-//St. Clair County Community College - ECPv6.15.20//NONSGML v1.0//EN
CALSCALE:GREGORIAN
METHOD:PUBLISH
X-WR-CALNAME:St. Clair County Community College
X-ORIGINAL-URL:https://sc4.edu
X-WR-CALDESC:Events for St. Clair County Community College
REFRESH-INTERVAL;VALUE=DURATION:PT1H
X-Robots-Tag:noindex
X-PUBLISHED-TTL:PT1H
BEGIN:VTIMEZONE
TZID:America/Detroit
BEGIN:DAYLIGHT
TZOFFSETFROM:-0500
TZOFFSETTO:-0400
TZNAME:EDT
DTSTART:20230312T070000
END:DAYLIGHT
BEGIN:STANDARD
TZOFFSETFROM:-0400
TZOFFSETTO:-0500
TZNAME:EST
DTSTART:20231105T060000
END:STANDARD
BEGIN:DAYLIGHT
TZOFFSETFROM:-0500
TZOFFSETTO:-0400
TZNAME:EDT
DTSTART:20240310T070000
END:DAYLIGHT
BEGIN:STANDARD
TZOFFSETFROM:-0400
TZOFFSETTO:-0500
TZNAME:EST
DTSTART:20241103T060000
END:STANDARD
BEGIN:DAYLIGHT
TZOFFSETFROM:-0500
TZOFFSETTO:-0400
TZNAME:EDT
DTSTART:20250309T070000
END:DAYLIGHT
BEGIN:STANDARD
TZOFFSETFROM:-0400
TZOFFSETTO:-0500
TZNAME:EST
DTSTART:20251102T060000
END:STANDARD
END:VTIMEZONE
BEGIN:VEVENT
DTSTART;TZID=America/Detroit:20240715T090000
DTEND;TZID=America/Detroit:20240715T150000
DTSTAMP:20260419T221607
CREATED:20240304T175738Z
LAST-MODIFIED:20240304T181344Z
UID:10001299-1721034000-1721055600@sc4.edu
SUMMARY:Galaxy Quest STEM Summer Camp (for learners in grades 3-5)
DESCRIPTION:The Galaxy Quest STEM Summer Camp will incorporate hands-on science and nature fun. Campers will engage in experiments\, nature exploration\, wildlife encounters\, immersive space simulations in the Challenger Learning Center at SC4 and more. Please scroll down for additional details. To register please go to https://stclair.nbsstore.net/2024-galaxy-quest-stem-summer-camp-2-day-session-for-learners-in-grades-3-5-august-session \n\n\n\nLocated in the Challenger Learning Center
URL:https://sc4.edu/event/galaxy-quest-stem-summer-camp-for-learners-in-grades-3-5-3/
LOCATION:MI
CATEGORIES:Academics,Challenger Learning Center,Community
END:VEVENT
BEGIN:VEVENT
DTSTART;TZID=America/Detroit:20240715T090000
DTEND;TZID=America/Detroit:20240718T120000
DTSTAMP:20260419T221607
CREATED:20240603T172657Z
LAST-MODIFIED:20240603T172700Z
UID:10001737-1721034000-1721304000@sc4.edu
SUMMARY:Basketball Camp
DESCRIPTION:The camp is from 9 a.m. to noon on July 15 – 18 for learners entering grades 5-12. Instruction by SC4’s women’s basketball coaches and team. Scroll down for additional details.
URL:https://sc4.edu/event/basketball-camp-2/
LOCATION:SC4 Fieldhouse\, 400 Erie Street\, Port Huron\, MI\, 48060\, United States
CATEGORIES:Basketball
END:VEVENT
BEGIN:VEVENT
DTSTART;TZID=America/Detroit:20240715T130000
DTEND;TZID=America/Detroit:20240717T180000
DTSTAMP:20260419T221607
CREATED:20240528T161132Z
LAST-MODIFIED:20240528T161135Z
UID:10001738-1721048400-1721239200@sc4.edu
SUMMARY:Esports Camp
DESCRIPTION:The camp is from 1 to 6 p.m. on July 15-17 for learners entering grades 5-12. Instruction by SC4’s coaches and team. Scroll down for additional details.
URL:https://sc4.edu/event/esports-camp/
LOCATION:SC4 Fieldhouse\, 400 Erie Street\, Port Huron\, MI\, 48060\, United States
CATEGORIES:Esports
END:VEVENT
BEGIN:VEVENT
DTSTART;TZID=America/Detroit:20240716T090000
DTEND;TZID=America/Detroit:20240716T150000
DTSTAMP:20260419T221607
CREATED:20240304T180856Z
LAST-MODIFIED:20240304T181404Z
UID:10001301-1721120400-1721142000@sc4.edu
SUMMARY:Galaxy Quest STEM Summer Camp (for learners in grades 3-5)
DESCRIPTION:The Galaxy Quest STEM Summer Camp will incorporate hands-on science and nature fun. Campers will engage in experiments\, nature exploration\, wildlife encounters\, immersive space simulations in the Challenger Learning Center at SC4 and more. Please scroll down for additional details. To register please go to https://stclair.nbsstore.net/2024-galaxy-quest-stem-summer-camp-2-day-session-for-learners-in-grades-3-5-august-session \n\n\n\nLocated in the Challenger Learning Center
URL:https://sc4.edu/event/galaxy-quest-stem-summer-camp-for-learners-in-grades-3-5-4/
LOCATION:MI
CATEGORIES:Academics,Challenger Learning Center,Community
END:VEVENT
BEGIN:VEVENT
DTSTART;TZID=America/Detroit:20240717T140000
DTEND;TZID=America/Detroit:20240717T150000
DTSTAMP:20260419T221607
CREATED:20240708T160054Z
LAST-MODIFIED:20240708T160056Z
UID:10001758-1721224800-1721228400@sc4.edu
SUMMARY:FAFSA completion sessions
DESCRIPTION:SC4 is hosting FAFSA completion sessions for students to get assistance with completing the FAFSA. \n\n\n\nLocation: Welcome Center 208
URL:https://sc4.edu/event/fafsa-completion-sessions-2/
LOCATION:MI
CATEGORIES:Admissions
END:VEVENT
END:VCALENDAR