BEGIN:VCALENDAR
VERSION:2.0
PRODID:-//St. Clair County Community College - ECPv6.15.20//NONSGML v1.0//EN
CALSCALE:GREGORIAN
METHOD:PUBLISH
X-ORIGINAL-URL:https://sc4.edu
X-WR-CALDESC:Events for St. Clair County Community College
REFRESH-INTERVAL;VALUE=DURATION:PT1H
X-Robots-Tag:noindex
X-PUBLISHED-TTL:PT1H
BEGIN:VTIMEZONE
TZID:America/Detroit
BEGIN:DAYLIGHT
TZOFFSETFROM:-0500
TZOFFSETTO:-0400
TZNAME:EDT
DTSTART:20230312T070000
END:DAYLIGHT
BEGIN:STANDARD
TZOFFSETFROM:-0400
TZOFFSETTO:-0500
TZNAME:EST
DTSTART:20231105T060000
END:STANDARD
BEGIN:DAYLIGHT
TZOFFSETFROM:-0500
TZOFFSETTO:-0400
TZNAME:EDT
DTSTART:20240310T070000
END:DAYLIGHT
BEGIN:STANDARD
TZOFFSETFROM:-0400
TZOFFSETTO:-0500
TZNAME:EST
DTSTART:20241103T060000
END:STANDARD
BEGIN:DAYLIGHT
TZOFFSETFROM:-0500
TZOFFSETTO:-0400
TZNAME:EDT
DTSTART:20250309T070000
END:DAYLIGHT
BEGIN:STANDARD
TZOFFSETFROM:-0400
TZOFFSETTO:-0500
TZNAME:EST
DTSTART:20251102T060000
END:STANDARD
END:VTIMEZONE
BEGIN:VEVENT
DTSTART;TZID=America/Detroit:20240722T090000
DTEND;TZID=America/Detroit:20240722T150000
DTSTAMP:20260419T221624
CREATED:20240304T181932Z
LAST-MODIFIED:20240304T182250Z
UID:10001673-1721638800-1721660400@sc4.edu
SUMMARY:Galaxy Quest STEM Summer Camp (for learners in grades 3-5)
DESCRIPTION:The Galaxy Quest STEM Summer Camp will incorporate hands-on science and nature fun. Campers will engage in experiments\, nature exploration\, wildlife encounters\, immersive space simulations in the Challenger Learning Center at SC4 and more. Please scroll down for additional details. To register please go to https://stclair.nbsstore.net/2024-galaxy-quest-stem-summer-camp-5-day-session-for-learners-in-grades-3-5. \n\n\n\nLocated in the Challenger Learning Center.
URL:https://sc4.edu/event/galaxy-quest-stem-summer-camp-for-learners-in-grades-3-5-7/
LOCATION:MI
CATEGORIES:Academics,Challenger Learning Center,Community
END:VEVENT
BEGIN:VEVENT
DTSTART;TZID=America/Detroit:20240723T090000
DTEND;TZID=America/Detroit:20240723T150000
DTSTAMP:20260419T221624
CREATED:20240304T182107Z
LAST-MODIFIED:20240304T182227Z
UID:10001674-1721725200-1721746800@sc4.edu
SUMMARY:Galaxy Quest STEM Summer Camp (for learners in grades 3-5)
DESCRIPTION:The Galaxy Quest STEM Summer Camp will incorporate hands-on science and nature fun. Campers will engage in experiments\, nature exploration\, wildlife encounters\, immersive space simulations in the Challenger Learning Center at SC4 and more. Please scroll down for additional details. To register please go to https://stclair.nbsstore.net/2024-galaxy-quest-stem-summer-camp-5-day-session-for-learners-in-grades-3-5. \n\n\n\nLocated in the Challenger Learning Center.
URL:https://sc4.edu/event/galaxy-quest-stem-summer-camp-for-learners-in-grades-3-5-8/
LOCATION:MI
CATEGORIES:Academics,Challenger Learning Center,Community
END:VEVENT
BEGIN:VEVENT
DTSTART;TZID=America/Detroit:20240723T090000
DTEND;TZID=America/Detroit:20240725T120000
DTSTAMP:20260419T221624
CREATED:20240528T161205Z
LAST-MODIFIED:20240528T161207Z
UID:10001739-1721725200-1721908800@sc4.edu
SUMMARY:Beginners Volleyball Camp
DESCRIPTION:The camp is from 9 a.m. to noon on July 23-25 for learners entering grades 4-7. Instruction by SC4’s volleyball coaches and team. Scroll down for additional details.
URL:https://sc4.edu/event/beginners-volleyball-camp/
LOCATION:SC4 Fieldhouse\, 400 Erie Street\, Port Huron\, MI\, 48060\, United States
CATEGORIES:Volleyball
END:VEVENT
BEGIN:VEVENT
DTSTART;TZID=America/Detroit:20240723T130000
DTEND;TZID=America/Detroit:20240725T160000
DTSTAMP:20260419T221624
CREATED:20240528T161232Z
LAST-MODIFIED:20240528T161234Z
UID:10001740-1721739600-1721923200@sc4.edu
SUMMARY:Advanced Volleyball Camp
DESCRIPTION:The camp is from 1 to 4 p.m. on July 23-25 for learners entering grades 8-12. Instruction by SC4’s volleyball coaches and team. Scroll down for additional details.
URL:https://sc4.edu/event/advanced-volleyball-camp/
LOCATION:SC4 Fieldhouse\, 400 Erie Street\, Port Huron\, MI\, 48060\, United States
CATEGORIES:Volleyball
END:VEVENT
BEGIN:VEVENT
DTSTART;TZID=America/Detroit:20240724T090000
DTEND;TZID=America/Detroit:20240724T150000
DTSTAMP:20260419T221624
CREATED:20240304T182315Z
LAST-MODIFIED:20240304T182317Z
UID:10001675-1721811600-1721833200@sc4.edu
SUMMARY:Galaxy Quest STEM Summer Camp (for learners in grades 3-5)
DESCRIPTION:The Galaxy Quest STEM Summer Camp will incorporate hands-on science and nature fun. Campers will engage in experiments\, nature exploration\, wildlife encounters\, immersive space simulations in the Challenger Learning Center at SC4 and more. Please scroll down for additional details. To register please go to https://stclair.nbsstore.net/2024-galaxy-quest-stem-summer-camp-5-day-session-for-learners-in-grades-3-5. \n\n\n\nLocated in the Challenger Learning Center.
URL:https://sc4.edu/event/galaxy-quest-stem-summer-camp-for-learners-in-grades-3-5-9/
LOCATION:MI
CATEGORIES:Academics,Challenger Learning Center,Community
END:VEVENT
BEGIN:VEVENT
DTSTART;TZID=America/Detroit:20240725T090000
DTEND;TZID=America/Detroit:20240725T150000
DTSTAMP:20260419T221624
CREATED:20240304T182357Z
LAST-MODIFIED:20240304T182358Z
UID:10001676-1721898000-1721919600@sc4.edu
SUMMARY:Galaxy Quest STEM Summer Camp (for learners in grades 3-5)
DESCRIPTION:The Galaxy Quest STEM Summer Camp will incorporate hands-on science and nature fun. Campers will engage in experiments\, nature exploration\, wildlife encounters\, immersive space simulations in the Challenger Learning Center at SC4 and more. Please scroll down for additional details. To register please go to https://stclair.nbsstore.net/2024-galaxy-quest-stem-summer-camp-5-day-session-for-learners-in-grades-3-5. \n\n\n\nLocated in the Challenger Learning Center.
URL:https://sc4.edu/event/galaxy-quest-stem-summer-camp-for-learners-in-grades-3-5-10/
LOCATION:MI
CATEGORIES:Academics,Challenger Learning Center,Community
END:VEVENT
BEGIN:VEVENT
DTSTART;TZID=America/Detroit:20240725T120000
DTEND;TZID=America/Detroit:20240725T130000
DTSTAMP:20260419T221624
CREATED:20240708T160255Z
LAST-MODIFIED:20240708T160256Z
UID:10001759-1721908800-1721912400@sc4.edu
SUMMARY:FAFSA completion sessions
DESCRIPTION:SC4 is hosting FAFSA completion sessions for students to get assistance with completing the FAFSA. \n\n\n\nLocation: Welcome Center 208
URL:https://sc4.edu/event/fafsa-completion-sessions-3/
LOCATION:MI
CATEGORIES:Admissions
END:VEVENT
BEGIN:VEVENT
DTSTART;TZID=America/Detroit:20240726T090000
DTEND;TZID=America/Detroit:20240726T120000
DTSTAMP:20260419T221624
CREATED:20240528T161255Z
LAST-MODIFIED:20240528T161258Z
UID:10001741-1721984400-1721995200@sc4.edu
SUMMARY:Hitters and Setters Volleyball Camp
DESCRIPTION:The camp is from 9 a.m. to noon on July 26 for learners entering grades 7-12. Instruction by SC4’s volleyball coaches and team.\n 
URL:https://sc4.edu/event/hitters-and-setters-volleyball-camp/
LOCATION:SC4 Fieldhouse\, 400 Erie Street\, Port Huron\, MI\, 48060\, United States
CATEGORIES:Volleyball
END:VEVENT
BEGIN:VEVENT
DTSTART;TZID=America/Detroit:20240726T090000
DTEND;TZID=America/Detroit:20240726T150000
DTSTAMP:20260419T221624
CREATED:20240304T182451Z
LAST-MODIFIED:20240304T182452Z
UID:10001677-1721984400-1722006000@sc4.edu
SUMMARY:Galaxy Quest STEM Summer Camp (for learners in grades 3-5)
DESCRIPTION:The Galaxy Quest STEM Summer Camp will incorporate hands-on science and nature fun. Campers will engage in experiments\, nature exploration\, wildlife encounters\, immersive space simulations in the Challenger Learning Center at SC4 and more. Please scroll down for additional details. To register please go to https://stclair.nbsstore.net/2024-galaxy-quest-stem-summer-camp-5-day-session-for-learners-in-grades-3-5. \n\n\n\nLocated in the Challenger Learning Center.
URL:https://sc4.edu/event/galaxy-quest-stem-summer-camp-for-learners-in-grades-3-5-11/
LOCATION:MI
CATEGORIES:Academics,Challenger Learning Center,Community
END:VEVENT
BEGIN:VEVENT
DTSTART;TZID=America/Detroit:20240726T130000
DTEND;TZID=America/Detroit:20240726T160000
DTSTAMP:20260419T221624
CREATED:20240528T161319Z
LAST-MODIFIED:20240528T161321Z
UID:10001742-1721998800-1722009600@sc4.edu
SUMMARY:Defensive Specialists Volleyball Camp
DESCRIPTION:The camp is from 1 to 4 p.m. on July 26 for learners entering grades 7-12. Instruction by SC4’s volleyball coaches and team. Scroll down for additional details.
URL:https://sc4.edu/event/defensive-specialists-volleyball-camp/
LOCATION:SC4 Fieldhouse\, 400 Erie Street\, Port Huron\, MI\, 48060\, United States
CATEGORIES:Volleyball
END:VEVENT
END:VCALENDAR