BEGIN:VCALENDAR
VERSION:2.0
PRODID:-//St. Clair County Community College - ECPv6.15.20//NONSGML v1.0//EN
CALSCALE:GREGORIAN
METHOD:PUBLISH
X-ORIGINAL-URL:https://sc4.edu
X-WR-CALDESC:Events for St. Clair County Community College
REFRESH-INTERVAL;VALUE=DURATION:PT1H
X-Robots-Tag:noindex
X-PUBLISHED-TTL:PT1H
BEGIN:VTIMEZONE
TZID:America/Detroit
BEGIN:DAYLIGHT
TZOFFSETFROM:-0500
TZOFFSETTO:-0400
TZNAME:EDT
DTSTART:20230312T070000
END:DAYLIGHT
BEGIN:STANDARD
TZOFFSETFROM:-0400
TZOFFSETTO:-0500
TZNAME:EST
DTSTART:20231105T060000
END:STANDARD
BEGIN:DAYLIGHT
TZOFFSETFROM:-0500
TZOFFSETTO:-0400
TZNAME:EDT
DTSTART:20240310T070000
END:DAYLIGHT
BEGIN:STANDARD
TZOFFSETFROM:-0400
TZOFFSETTO:-0500
TZNAME:EST
DTSTART:20241103T060000
END:STANDARD
BEGIN:DAYLIGHT
TZOFFSETFROM:-0500
TZOFFSETTO:-0400
TZNAME:EDT
DTSTART:20250309T070000
END:DAYLIGHT
BEGIN:STANDARD
TZOFFSETFROM:-0400
TZOFFSETTO:-0500
TZNAME:EST
DTSTART:20251102T060000
END:STANDARD
END:VTIMEZONE
BEGIN:VEVENT
DTSTART;TZID=America/Detroit:20240813T180000
DTEND;TZID=America/Detroit:20240813T190000
DTSTAMP:20260420T030833
CREATED:20240222T212023Z
LAST-MODIFIED:20240222T214311Z
UID:10001270-1723572000-1723575600@sc4.edu
SUMMARY:Radiologic Technology Information Session
DESCRIPTION:Attend this virtual information session to ask questions and learn about the program\, course schedule\, any prerequisites\, and more. Join the meeting on Teams.
URL:https://sc4.edu/event/radiologic-technology-information-session-4/
LOCATION:MI
CATEGORIES:Academics,Admissions
END:VEVENT
BEGIN:VEVENT
DTSTART;TZID=America/Detroit:20240814T100000
DTEND;TZID=America/Detroit:20240814T110000
DTSTAMP:20260420T030833
CREATED:20240708T160601Z
LAST-MODIFIED:20240708T160603Z
UID:10001762-1723629600-1723633200@sc4.edu
SUMMARY:FAFSA completion sessions
DESCRIPTION:SC4 is hosting FAFSA completion sessions for students to get assistance with completing the FAFSA. \n\n\n\nLocation: Welcome Center 208
URL:https://sc4.edu/event/fafsa-completion-sessions-6/
LOCATION:MI
CATEGORIES:Admissions
END:VEVENT
END:VCALENDAR