BEGIN:VCALENDAR
VERSION:2.0
PRODID:-//St. Clair County Community College - ECPv6.15.20//NONSGML v1.0//EN
CALSCALE:GREGORIAN
METHOD:PUBLISH
X-WR-CALNAME:St. Clair County Community College
X-ORIGINAL-URL:https://sc4.edu
X-WR-CALDESC:Events for St. Clair County Community College
REFRESH-INTERVAL;VALUE=DURATION:PT1H
X-Robots-Tag:noindex
X-PUBLISHED-TTL:PT1H
BEGIN:VTIMEZONE
TZID:America/Detroit
BEGIN:DAYLIGHT
TZOFFSETFROM:-0500
TZOFFSETTO:-0400
TZNAME:EDT
DTSTART:20230312T070000
END:DAYLIGHT
BEGIN:STANDARD
TZOFFSETFROM:-0400
TZOFFSETTO:-0500
TZNAME:EST
DTSTART:20231105T060000
END:STANDARD
BEGIN:DAYLIGHT
TZOFFSETFROM:-0500
TZOFFSETTO:-0400
TZNAME:EDT
DTSTART:20240310T070000
END:DAYLIGHT
BEGIN:STANDARD
TZOFFSETFROM:-0400
TZOFFSETTO:-0500
TZNAME:EST
DTSTART:20241103T060000
END:STANDARD
BEGIN:DAYLIGHT
TZOFFSETFROM:-0500
TZOFFSETTO:-0400
TZNAME:EDT
DTSTART:20250309T070000
END:DAYLIGHT
BEGIN:STANDARD
TZOFFSETFROM:-0400
TZOFFSETTO:-0500
TZNAME:EST
DTSTART:20251102T060000
END:STANDARD
END:VTIMEZONE
BEGIN:VEVENT
DTSTART;TZID=America/Detroit:20240911T150000
DTEND;TZID=America/Detroit:20240911T160000
DTSTAMP:20260419T203215
CREATED:20240708T160909Z
LAST-MODIFIED:20240708T160911Z
UID:10001766-1726066800-1726070400@sc4.edu
SUMMARY:FAFSA completion sessions
DESCRIPTION:SC4 is hosting FAFSA completion sessions for students to get assistance with completing the FAFSA. \n\n\n\nLocation: Welcome Center 208
URL:https://sc4.edu/event/fafsa-completion-sessions-10/
LOCATION:MI
CATEGORIES:Admissions
END:VEVENT
BEGIN:VEVENT
DTSTART;TZID=America/Detroit:20240912T120000
DTEND;TZID=America/Detroit:20240912T130000
DTSTAMP:20260419T203215
CREATED:20240813T012109Z
LAST-MODIFIED:20240813T012122Z
UID:10001769-1726142400-1726146000@sc4.edu
SUMMARY:Free Concert: Lexington Bach Quartet - Classical
DESCRIPTION:SC4 is happy to feature standout performers from the Lexington Bach Festival\, a weeklong event bringing the music of Johann Sebastian Bach and other composers influenced by Bach to our community. The quartet will kick off our Free Noon and Night Concert Series by performing classic compositions. \n\n\n\nPerformances are scheduled from noon to 1 p.m. and 7 p.m. to 8:30 p.m. in the SC4 Fine Arts Theatre. \n\n\n\nSeats are general admission\, and no reservations are needed. Doors open 15 minutes prior to showtime.
URL:https://sc4.edu/event/free-concert-lexington-bach-quartet-classical/
LOCATION:MI
CATEGORIES:Arts,Thursday concert series
END:VEVENT
BEGIN:VEVENT
DTSTART;TZID=America/Detroit:20240912T120000
DTEND;TZID=America/Detroit:20240912T140000
DTSTAMP:20260419T203215
CREATED:20240827T205548Z
LAST-MODIFIED:20240827T210256Z
UID:10001791-1726142400-1726149600@sc4.edu
SUMMARY:Wheelchair Basketball "Try It" Clinic
DESCRIPTION:Calling everyone of all abilities and ages to come to try out wheelchair basketball for free! \n\n\n\nEquipment will be provided \n\n\n\nLocation: SC4 Fieldhouse
URL:https://sc4.edu/event/wheelchair-basketball-clinic-2/
LOCATION:MI
CATEGORIES:Athletics,Wheelchair Basketball
END:VEVENT
BEGIN:VEVENT
DTSTART;TZID=America/Detroit:20240912T170000
DTEND;TZID=America/Detroit:20240912T180000
DTSTAMP:20260419T203215
CREATED:20240222T214112Z
LAST-MODIFIED:20240222T214114Z
UID:10001286-1726160400-1726164000@sc4.edu
SUMMARY:Associate Degree Nursing Information Session
DESCRIPTION:Attend this virtual information session to ask questions and learn about the program\, course schedule\, any prerequisites\, and more. Join the meeting on Teams.
URL:https://sc4.edu/event/associate-degree-nursing-information-session-7/
LOCATION:MI
CATEGORIES:Academics,Admissions
END:VEVENT
BEGIN:VEVENT
DTSTART;TZID=America/Detroit:20240912T190000
DTEND;TZID=America/Detroit:20240912T203000
DTSTAMP:20260419T203215
CREATED:20240813T012403Z
LAST-MODIFIED:20240813T012416Z
UID:10001770-1726167600-1726173000@sc4.edu
SUMMARY:Free Concert: Lexington Bach Quartet - Classical
DESCRIPTION:SC4 is happy to feature standout performers from the Lexington Bach Festival\, a weeklong event bringing the music of Johann Sebastian Bach and other composers influenced by Bach to our community. The quartet will kick off our Free Noon and Night Concert Series by performing classic compositions. \n\n\n\nPerformances are scheduled from noon to 1 p.m. and 7 p.m. to 8:30 p.m. in the SC4 Fine Arts Theatre. \n\n\n\nSeats are general admission\, and no reservations are needed. Doors open 15 minutes prior to showtime.
URL:https://sc4.edu/event/free-concert-lexington-bach-quartet-classical-2/
LOCATION:MI
CATEGORIES:Arts,Thursday concert series
END:VEVENT
END:VCALENDAR