BEGIN:VCALENDAR
VERSION:2.0
PRODID:-//St. Clair County Community College - ECPv6.15.20//NONSGML v1.0//EN
CALSCALE:GREGORIAN
METHOD:PUBLISH
X-ORIGINAL-URL:https://sc4.edu
X-WR-CALDESC:Events for St. Clair County Community College
REFRESH-INTERVAL;VALUE=DURATION:PT1H
X-Robots-Tag:noindex
X-PUBLISHED-TTL:PT1H
BEGIN:VTIMEZONE
TZID:America/Detroit
BEGIN:DAYLIGHT
TZOFFSETFROM:-0500
TZOFFSETTO:-0400
TZNAME:EDT
DTSTART:20230312T070000
END:DAYLIGHT
BEGIN:STANDARD
TZOFFSETFROM:-0400
TZOFFSETTO:-0500
TZNAME:EST
DTSTART:20231105T060000
END:STANDARD
BEGIN:DAYLIGHT
TZOFFSETFROM:-0500
TZOFFSETTO:-0400
TZNAME:EDT
DTSTART:20240310T070000
END:DAYLIGHT
BEGIN:STANDARD
TZOFFSETFROM:-0400
TZOFFSETTO:-0500
TZNAME:EST
DTSTART:20241103T060000
END:STANDARD
BEGIN:DAYLIGHT
TZOFFSETFROM:-0500
TZOFFSETTO:-0400
TZNAME:EDT
DTSTART:20250309T070000
END:DAYLIGHT
BEGIN:STANDARD
TZOFFSETFROM:-0400
TZOFFSETTO:-0500
TZNAME:EST
DTSTART:20251102T060000
END:STANDARD
END:VTIMEZONE
BEGIN:VEVENT
DTSTART;TZID=America/Detroit:20240917T080000
DTEND;TZID=America/Detroit:20240917T163000
DTSTAMP:20260419T200236
CREATED:20240917T130302Z
LAST-MODIFIED:20250106T153246Z
UID:10001835-1726560000-1726590600@sc4.edu
SUMMARY:Voter Registration
DESCRIPTION:SC4’s observance of Constitution Day is Monday\, Sept. 16\, and Tuesday\, Sept. 17. \n\n\n\nA voter registration drive will take place from 8 a.m. to 4:30 p.m. each day inside the library\, located in the College Center\, to assist eligible voters who are not yet registered to vote. There also will be a free speech activity running during the event where students can write about what issue(s) they want the government to tackle and/or how. \n\n\n\nAll SC4 students\, faculty\, and staff are encouraged to stop by!
URL:https://sc4.edu/event/voter-registration/
LOCATION:SC4 College Center\, 500 River Street\, Port Huron\, MI\, 48060\, United States
CATEGORIES:Community
END:VEVENT
BEGIN:VEVENT
DTSTART;TZID=America/Detroit:20240917T110000
DTEND;TZID=America/Detroit:20240917T120000
DTSTAMP:20260419T200236
CREATED:20240912T152517Z
LAST-MODIFIED:20240916T130550Z
UID:10001831-1726570800-1726574400@sc4.edu
SUMMARY:Naturalization Ceremony
DESCRIPTION:As part of Constitution Day\, SC4 is hosting a Naturalization Ceremony in collaboration with the U.S. Citizenship and Immigration Services team on Tue. Sept. 17 at 11:00 a.m. The ceremony is the culmination of the naturalization process to become a U.S. citizen and will welcome 150 new citizens from 42 different countries. Ceremony details and a link to the livestream can be found at https://sc4.edu/today-i-am-an-american/.
URL:https://sc4.edu/event/naturalization-ceremony/
LOCATION:SC4 Fieldhouse\, 400 Erie Street\, Port Huron\, MI\, 48060\, United States
CATEGORIES:Community,Diversity Equity Inclusion
END:VEVENT
BEGIN:VEVENT
DTSTART;TZID=America/Detroit:20240918T110000
DTEND;TZID=America/Detroit:20240918T130000
DTSTAMP:20260419T200236
CREATED:20240913T184524Z
LAST-MODIFIED:20240913T184928Z
UID:10001832-1726657200-1726664400@sc4.edu
SUMMARY:Take a Walk with Student Wellness!
DESCRIPTION:Stop in and learn all about the wonderful wellness resources available to students on the second floor of the Main Building. There are offices and spaces available for students that support and encourage positive mental and physical health. Plus\, enjoy a luscious artisan brownie on us! Just come to the Main Building second floor on Wednesday\, Sept. 18 from 11 a.m. to 1 p.m. and friendly staff will greet you. We look forward to meeting you!
URL:https://sc4.edu/event/take-a-walk-with-student-wellness/
LOCATION:SC4 Main Building\, 323 Erie St.\, Port Huron\, MI\, 48060\, United States
CATEGORIES:Campus life,Diversity Equity Inclusion
END:VEVENT
BEGIN:VEVENT
DTSTART;TZID=America/Detroit:20240918T150000
DTEND;TZID=America/Detroit:20240918T170000
DTSTAMP:20260419T200236
CREATED:20240916T135232Z
LAST-MODIFIED:20250106T153259Z
UID:10001799-1726671600-1726678800@sc4.edu
SUMMARY:Men's Soccer vs. Owens Community College
DESCRIPTION:SC4 Skippers vs. Owens Community college
URL:https://sc4.edu/event/mens-soccer-vs-owens-community-college/
LOCATION:SC4 Soccer Field\, 560 Busha Hwy\, Marysville\, MI\, 48040\, United States
CATEGORIES:Athletics,Soccer
END:VEVENT
BEGIN:VEVENT
DTSTART;TZID=America/Detroit:20240918T170000
DTEND;TZID=America/Detroit:20240918T190000
DTSTAMP:20260419T200236
CREATED:20240916T135305Z
LAST-MODIFIED:20250106T153325Z
UID:10001800-1726678800-1726686000@sc4.edu
SUMMARY:Women's Soccer vs. Owens Community College
DESCRIPTION:SC4 Skippers vs. Owens Community College
URL:https://sc4.edu/event/womens-soccer-vs-owens-community-college/
LOCATION:SC4 Soccer Field\, 560 Busha Hwy\, Marysville\, MI\, 48040\, United States
CATEGORIES:Athletics,Soccer
END:VEVENT
BEGIN:VEVENT
DTSTART;TZID=America/Detroit:20240918T170000
DTEND;TZID=America/Detroit:20240918T190000
DTSTAMP:20260419T200236
CREATED:20240916T155400Z
LAST-MODIFIED:20240916T155402Z
UID:10001833-1726678800-1726686000@sc4.edu
SUMMARY:MLK Casting Call
DESCRIPTION:Auditions for the 2025 Martin Luther King Jr. Production will occur in the Fine Arts Theater.
URL:https://sc4.edu/event/mlk-casting-call/
LOCATION:SC4 Fine Arts Theatre\, 601 Erie Street\, Port Huron\, MI\, 48060\, United States
CATEGORIES:Arts,Community,Diversity Equity Inclusion,Theatre
END:VEVENT
BEGIN:VEVENT
DTSTART;TZID=America/Detroit:20240918T190000
DTEND;TZID=America/Detroit:20240918T210000
DTSTAMP:20260419T200236
CREATED:20240916T154852Z
LAST-MODIFIED:20250106T153336Z
UID:10001801-1726686000-1726693200@sc4.edu
SUMMARY:Volleyball vs. Henry Ford College
DESCRIPTION:SC4 Skippers vs. Henry Ford College
URL:https://sc4.edu/event/volleyball-vs-henry-ford-college/
LOCATION:SC4 Soccer Field\, 560 Busha Hwy\, Marysville\, MI\, 48040\, United States
CATEGORIES:Athletics,Volleyball
END:VEVENT
BEGIN:VEVENT
DTSTART;TZID=America/Detroit:20240919T120000
DTEND;TZID=America/Detroit:20240919T140000
DTSTAMP:20260419T200236
CREATED:20240827T205804Z
LAST-MODIFIED:20240827T205818Z
UID:10001792-1726747200-1726754400@sc4.edu
SUMMARY:Wheelchair Basketball "Try It" Clinic
DESCRIPTION:Calling everyone of all abilities and ages to come try out wheelchair basketball for free! \n\n\n\nEquipment will be provided \n\n\n\nLocation: SC4 Fieldhouse
URL:https://sc4.edu/event/wheelchair-basketball-try-it-clinic/
LOCATION:MI
CATEGORIES:Athletics,Wheelchair Basketball
END:VEVENT
BEGIN:VEVENT
DTSTART;TZID=America/Detroit:20240919T140000
DTEND;TZID=America/Detroit:20240919T150000
DTSTAMP:20260419T200236
CREATED:20240708T161213Z
LAST-MODIFIED:20240708T161215Z
UID:10001768-1726754400-1726758000@sc4.edu
SUMMARY:FAFSA completion sessions
DESCRIPTION:SC4 is hosting FAFSA completion sessions for students to get assistance with completing the FAFSA. \n\n\n\nLocation: Welcome Center 208
URL:https://sc4.edu/event/fafsa-completion-sessions-12/
LOCATION:MI
CATEGORIES:Admissions
END:VEVENT
BEGIN:VEVENT
DTSTART;TZID=America/Detroit:20240920T170000
DTEND;TZID=America/Detroit:20240920T190000
DTSTAMP:20260419T200236
CREATED:20240916T155459Z
LAST-MODIFIED:20240916T155502Z
UID:10001834-1726851600-1726858800@sc4.edu
SUMMARY:MLK Casting Call
DESCRIPTION:Auditions for the 2025 Martin Luther King Jr. Production will occur in the Fine Arts Theater.
URL:https://sc4.edu/event/mlk-casting-call-2/
LOCATION:SC4 Fine Arts Theatre\, 601 Erie Street\, Port Huron\, MI\, 48060\, United States
CATEGORIES:Arts,Community,Diversity Equity Inclusion,Theatre
END:VEVENT
END:VCALENDAR