BEGIN:VCALENDAR
VERSION:2.0
PRODID:-//St. Clair County Community College - ECPv6.15.20//NONSGML v1.0//EN
CALSCALE:GREGORIAN
METHOD:PUBLISH
X-ORIGINAL-URL:https://sc4.edu
X-WR-CALDESC:Events for St. Clair County Community College
REFRESH-INTERVAL;VALUE=DURATION:PT1H
X-Robots-Tag:noindex
X-PUBLISHED-TTL:PT1H
BEGIN:VTIMEZONE
TZID:America/Detroit
BEGIN:DAYLIGHT
TZOFFSETFROM:-0500
TZOFFSETTO:-0400
TZNAME:EDT
DTSTART:20230312T070000
END:DAYLIGHT
BEGIN:STANDARD
TZOFFSETFROM:-0400
TZOFFSETTO:-0500
TZNAME:EST
DTSTART:20231105T060000
END:STANDARD
BEGIN:DAYLIGHT
TZOFFSETFROM:-0500
TZOFFSETTO:-0400
TZNAME:EDT
DTSTART:20240310T070000
END:DAYLIGHT
BEGIN:STANDARD
TZOFFSETFROM:-0400
TZOFFSETTO:-0500
TZNAME:EST
DTSTART:20241103T060000
END:STANDARD
BEGIN:DAYLIGHT
TZOFFSETFROM:-0500
TZOFFSETTO:-0400
TZNAME:EDT
DTSTART:20250309T070000
END:DAYLIGHT
BEGIN:STANDARD
TZOFFSETFROM:-0400
TZOFFSETTO:-0500
TZNAME:EST
DTSTART:20251102T060000
END:STANDARD
END:VTIMEZONE
BEGIN:VEVENT
DTSTART;TZID=America/Detroit:20240923T090000
DTEND;TZID=America/Detroit:20241025T190000
DTSTAMP:20260419T134022
CREATED:20240919T231802Z
LAST-MODIFIED:20240919T231804Z
UID:10001836-1727082000-1729882800@sc4.edu
SUMMARY:Collectively Independent by SC4 Art Faculty
DESCRIPTION:View original works created by SC4 art faculty. \n\n\n\nParticipating faculty: Jen Barker\, Sarah Flatter\, Jacqueline Mahannah\, Mark Rummel\, Elizabeth Sevick\, Jason Palmer\, Danny VanZandt and Jacob Vinson \n\n\n\nGallery hours: M-F 9am-7pm
URL:https://sc4.edu/event/collectively-independent-by-sc4-art-faculty/
LOCATION:SC4 Fine Arts Gallery\, 601 Erie Street\, Port Huron\, Michigan\, 48060\, United States
CATEGORIES:Arts
END:VEVENT
BEGIN:VEVENT
DTSTART;TZID=America/Detroit:20240930T170000
DTEND;TZID=America/Detroit:20240930T180000
DTSTAMP:20260419T134022
CREATED:20240910T172413Z
LAST-MODIFIED:20240910T172428Z
UID:10001822-1727715600-1727719200@sc4.edu
SUMMARY:Respiratory Therapy Information Sessions
DESCRIPTION:Attend this virtual information session to ask questions and learn about the program\, course schedule\, any prerequisites\, and more. Join on Teams via this link.
URL:https://sc4.edu/event/respiratory-therapy-information-sessions/
LOCATION:MI
CATEGORIES:Academics
END:VEVENT
BEGIN:VEVENT
DTSTART;TZID=America/Detroit:20241003T150000
DTEND;TZID=America/Detroit:20241003T160000
DTSTAMP:20260419T134022
CREATED:20241002T192003Z
LAST-MODIFIED:20241002T192425Z
UID:10001845-1727967600-1727971200@sc4.edu
SUMMARY:InterVarsity Christian Fellowship Club Meeting
DESCRIPTION:This student club is open to all SC4 students who wish to strengthen their spiritual life while congregating with fellow Christian students. \n\n\n\nIVCF organizes bible study groups\, sharing and praise sessions\, prayer hours and events such as “See you at the pole\,” which unites students around the world in fellowship and prayer.  \n\n\n\nFor additional information please contact club advisors Kim Foxwell kfoxwell@sc4.edu and Anne McPherson amcpherson@sc4.edu \n\n\n\nLocation: SC4 College Center – Room A-101
URL:https://sc4.edu/event/intervarsity-christian-fellowship-club-meeting/
LOCATION:SC4 College Center\, 500 River Street\, Port Huron\, MI\, 48060\, United States
CATEGORIES:Campus life
END:VEVENT
BEGIN:VEVENT
DTSTART;TZID=America/Detroit:20241003T180000
DTEND;TZID=America/Detroit:20241003T193000
DTSTAMP:20260419T134022
CREATED:20240509T054248Z
LAST-MODIFIED:20240509T054308Z
UID:10001731-1727978400-1727983800@sc4.edu
SUMMARY:Hispanic Heritage Month Celebration – “Juntos Podemos” Together We Can!
DESCRIPTION:Join us for wonderful food\, fashion\, speakers\, and amazing entertainment \n\n\n\nPresented by SC4 in collaboration with the Hispanic Alliance of Southeast Michigan \n\n\n\nLOCATION: College Center Atrium
URL:https://sc4.edu/event/hispanic-heritage-month-celebration-juntos-podemos-together-we-can/
LOCATION:MI
CATEGORIES:Community,Diversity Equity Inclusion
END:VEVENT
BEGIN:VEVENT
DTSTART;TZID=America/Detroit:20241004T080000
DTEND;TZID=America/Detroit:20241004T220000
DTSTAMP:20260419T134022
CREATED:20240924T211844Z
LAST-MODIFIED:20240924T211914Z
UID:10001840-1728028800-1728079200@sc4.edu
SUMMARY:Wolverine Invitational - Wheelchair Basketball Tournament
DESCRIPTION:Wolverine Invitational at the SC4 Fieldhouse \n\n\n\nSC4 is hosting the 4th Annual Wolverine Invitational in collaboration with the University of Michigan Oct. 4-6 at the SC4 Fieldhouse. \n\n\n\nAll games are free and open to the public. Fans are asked to bring non-perishable food items or hygiene products to support Skips Pantry on the SC4 campus. \n\n\n\nCome watch some great basketball action with 12 teams from throughout the United States and Canada including the University of Arizona\, University of Wisconsin Whitewater and Easten Washington University. A full listing of teams and tournament details can be found at https://rsvp.umich.edu/event/WolverineInvitational/summary. \n\n\n\nFans will have a chance to meet the best adaptive sport athletes in the world\, including some who just returned from the Paralympic Games in Paris. \n\n\n\nPlay begins on Friday\, Oct. 4 at 8:00 a.m. and continues all weekend through the championship game at noon on Sunday\, Oct. 6. The SC4 Skippers will take on the UM Wolverines in a main court feature game on Friday night at 8:30 p.m.
URL:https://sc4.edu/event/wolverine-invitational-wheelchair-basketball-tournament/
LOCATION:SC4 Fieldhouse\, 400 Erie Street\, Port Huron\, MI\, 48060\, United States
CATEGORIES:Athletics,Wheelchair Basketball
END:VEVENT
BEGIN:VEVENT
DTSTART;TZID=America/Detroit:20241004T090000
DTEND;TZID=America/Detroit:20241004T140000
DTSTAMP:20260419T134022
CREATED:20240916T134952Z
LAST-MODIFIED:20250106T153356Z
UID:10001803-1728032400-1728050400@sc4.edu
SUMMARY:SC4 Men's Golf match
DESCRIPTION:Men’s golf competes at home at the Port Huron Golf Club.
URL:https://sc4.edu/event/sc4-mens-golf-match-2/
LOCATION:MI
CATEGORIES:Athletics,Golf
END:VEVENT
BEGIN:VEVENT
DTSTART;TZID=America/Detroit:20241004T110000
DTEND;TZID=America/Detroit:20241004T120000
DTSTAMP:20260419T134022
CREATED:20241002T194147Z
LAST-MODIFIED:20241002T194151Z
UID:10001859-1728039600-1728043200@sc4.edu
SUMMARY:Photo Club Meeting
DESCRIPTION:Join other SC4 students to shoot and discuss both digital and traditional B&W photography. Students develop film\, print photographs (both in the darkroom and via computer)\, learn matting and mounting techniques and exhibit their work on campus.  \n\n\n\nFor additional information please contact club advisor Mark Rummel mrummel@sc4.edu \n\n\n\nLocation: SC4 Fine Arts Building – Room 36
URL:https://sc4.edu/event/photo-club-meeting/
LOCATION:SC4 Fine Arts Theatre\, 601 Erie Street\, Port Huron\, MI\, 48060\, United States
CATEGORIES:Campus life
END:VEVENT
BEGIN:VEVENT
DTSTART;TZID=America/Detroit:20241005T080000
DTEND;TZID=America/Detroit:20241005T200000
DTSTAMP:20260419T134022
CREATED:20240924T211954Z
LAST-MODIFIED:20240924T211957Z
UID:10001841-1728115200-1728158400@sc4.edu
SUMMARY:Wolverine Invitational - Wheelchair Basketball Tournament
DESCRIPTION:Wolverine Invitational at the SC4 Fieldhouse \n\n\n\nSC4 is hosting the 4th Annual Wolverine Invitational in collaboration with the University of Michigan Oct. 4-6 at the SC4 Fieldhouse. \n\n\n\nAll games are free and open to the public. Fans are asked to bring non-perishable food items or hygiene products to support Skips Pantry on the SC4 campus. \n\n\n\nCome watch some great basketball action with 12 teams from throughout the United States and Canada including the University of Arizona\, University of Wisconsin Whitewater and Easten Washington University. A full listing of teams and tournament details can be found at https://rsvp.umich.edu/event/WolverineInvitational/summary. \n\n\n\nFans will have a chance to meet the best adaptive sport athletes in the world\, including some who just returned from the Paralympic Games in Paris. \n\n\n\nPlay begins on Friday\, Oct. 4 at 8:00 a.m. and continues all weekend through the championship game at noon on Sunday\, Oct. 6. The SC4 Skippers will take on the UM Wolverines in a main court feature game on Friday night at 8:30 p.m.
URL:https://sc4.edu/event/wolverine-invitational-wheelchair-basketball-tournament-2/
LOCATION:SC4 Fieldhouse\, 400 Erie Street\, Port Huron\, MI\, 48060\, United States
CATEGORIES:Athletics,Wheelchair Basketball
END:VEVENT
BEGIN:VEVENT
DTSTART;TZID=America/Detroit:20241005T130000
DTEND;TZID=America/Detroit:20241005T150000
DTSTAMP:20260419T134022
CREATED:20240916T134851Z
LAST-MODIFIED:20241002T173519Z
UID:10001804-1728133200-1728140400@sc4.edu
SUMMARY:Women's Soccer vs. Lake Michigan College
DESCRIPTION:SC4 Skippers vs. Lake Michigan College
URL:https://sc4.edu/event/womens-soccer-vs-lake-michigan-college/
LOCATION:SC4 Soccer Field\, 560 Busha Hwy\, Marysville\, MI\, 48040\, United States
CATEGORIES:Athletics,Soccer
END:VEVENT
BEGIN:VEVENT
DTSTART;TZID=America/Detroit:20241005T150000
DTEND;TZID=America/Detroit:20241005T170000
DTSTAMP:20260419T134022
CREATED:20240916T134843Z
LAST-MODIFIED:20241002T173502Z
UID:10001805-1728140400-1728147600@sc4.edu
SUMMARY:Men's Soccer vs. Lake Michigan College
DESCRIPTION:SC4 Skippers vs. Lake Michigan College
URL:https://sc4.edu/event/mens-soccer-vs-lake-michigan-college/
LOCATION:SC4 Soccer Field\, 560 Busha Hwy\, Marysville\, MI\, 48040\, United States
CATEGORIES:Athletics,Soccer
END:VEVENT
BEGIN:VEVENT
DTSTART;TZID=America/Detroit:20241006T080000
DTEND;TZID=America/Detroit:20241006T143000
DTSTAMP:20260419T134022
CREATED:20240924T212037Z
LAST-MODIFIED:20240924T212040Z
UID:10001842-1728201600-1728225000@sc4.edu
SUMMARY:Wolverine Invitational - Wheelchair Basketball Tournament
DESCRIPTION:Wolverine Invitational at the SC4 Fieldhouse \n\n\n\nSC4 is hosting the 4th Annual Wolverine Invitational in collaboration with the University of Michigan Oct. 4-6 at the SC4 Fieldhouse. \n\n\n\nAll games are free and open to the public. Fans are asked to bring non-perishable food items or hygiene products to support Skips Pantry on the SC4 campus. \n\n\n\nCome watch some great basketball action with 12 teams from throughout the United States and Canada including the University of Arizona\, University of Wisconsin Whitewater and Easten Washington University. A full listing of teams and tournament details can be found at https://rsvp.umich.edu/event/WolverineInvitational/summary. \n\n\n\nFans will have a chance to meet the best adaptive sport athletes in the world\, including some who just returned from the Paralympic Games in Paris. \n\n\n\nPlay begins on Friday\, Oct. 4 at 8:00 a.m. and continues all weekend through the championship game at noon on Sunday\, Oct. 6. The SC4 Skippers will take on the UM Wolverines in a main court feature game on Friday night at 8:30 p.m.
URL:https://sc4.edu/event/wolverine-invitational-wheelchair-basketball-tournament-3/
LOCATION:SC4 Fieldhouse\, 400 Erie Street\, Port Huron\, MI\, 48060\, United States
CATEGORIES:Athletics,Wheelchair Basketball
END:VEVENT
END:VCALENDAR