BEGIN:VCALENDAR
VERSION:2.0
PRODID:-//St. Clair County Community College - ECPv6.15.20//NONSGML v1.0//EN
CALSCALE:GREGORIAN
METHOD:PUBLISH
X-WR-CALNAME:St. Clair County Community College
X-ORIGINAL-URL:https://sc4.edu
X-WR-CALDESC:Events for St. Clair County Community College
REFRESH-INTERVAL;VALUE=DURATION:PT1H
X-Robots-Tag:noindex
X-PUBLISHED-TTL:PT1H
BEGIN:VTIMEZONE
TZID:America/Detroit
BEGIN:DAYLIGHT
TZOFFSETFROM:-0500
TZOFFSETTO:-0400
TZNAME:EDT
DTSTART:20230312T070000
END:DAYLIGHT
BEGIN:STANDARD
TZOFFSETFROM:-0400
TZOFFSETTO:-0500
TZNAME:EST
DTSTART:20231105T060000
END:STANDARD
BEGIN:DAYLIGHT
TZOFFSETFROM:-0500
TZOFFSETTO:-0400
TZNAME:EDT
DTSTART:20240310T070000
END:DAYLIGHT
BEGIN:STANDARD
TZOFFSETFROM:-0400
TZOFFSETTO:-0500
TZNAME:EST
DTSTART:20241103T060000
END:STANDARD
BEGIN:DAYLIGHT
TZOFFSETFROM:-0500
TZOFFSETTO:-0400
TZNAME:EDT
DTSTART:20250309T070000
END:DAYLIGHT
BEGIN:STANDARD
TZOFFSETFROM:-0400
TZOFFSETTO:-0500
TZNAME:EST
DTSTART:20251102T060000
END:STANDARD
END:VTIMEZONE
BEGIN:VEVENT
DTSTART;TZID=America/Detroit:20240923T090000
DTEND;TZID=America/Detroit:20241025T190000
DTSTAMP:20260419T153645
CREATED:20240919T231802Z
LAST-MODIFIED:20240919T231804Z
UID:10001836-1727082000-1729882800@sc4.edu
SUMMARY:Collectively Independent by SC4 Art Faculty
DESCRIPTION:View original works created by SC4 art faculty. \n\n\n\nParticipating faculty: Jen Barker\, Sarah Flatter\, Jacqueline Mahannah\, Mark Rummel\, Elizabeth Sevick\, Jason Palmer\, Danny VanZandt and Jacob Vinson \n\n\n\nGallery hours: M-F 9am-7pm
URL:https://sc4.edu/event/collectively-independent-by-sc4-art-faculty/
LOCATION:SC4 Fine Arts Gallery\, 601 Erie Street\, Port Huron\, Michigan\, 48060\, United States
CATEGORIES:Arts
END:VEVENT
BEGIN:VEVENT
DTSTART;TZID=America/Detroit:20241017T150000
DTEND;TZID=America/Detroit:20241017T160000
DTSTAMP:20260419T153645
CREATED:20241002T192513Z
LAST-MODIFIED:20241002T192515Z
UID:10001847-1729177200-1729180800@sc4.edu
SUMMARY:InterVarsity Christian Fellowship Club Meeting
DESCRIPTION:This student club is open to all SC4 students who wish to strengthen their spiritual life while congregating with fellow Christian students. \n\n\n\nIVCF organizes bible study groups\, sharing and praise sessions\, prayer hours and events such as “See you at the pole\,” which unites students around the world in fellowship and prayer.  \n\n\n\nFor additional information please contact club advisors Kim Foxwell kfoxwell@sc4.edu and Anne McPherson amcpherson@sc4.edu \n\n\n\nLocation: SC4 College Center – Room A-101
URL:https://sc4.edu/event/intervarsity-christian-fellowship-club-meeting-3/
LOCATION:SC4 College Center\, 500 River Street\, Port Huron\, MI\, 48060\, United States
CATEGORIES:Campus life
END:VEVENT
BEGIN:VEVENT
DTSTART;TZID=America/Detroit:20241018T110000
DTEND;TZID=America/Detroit:20241018T120000
DTSTAMP:20260419T153645
CREATED:20241002T194335Z
LAST-MODIFIED:20241002T194339Z
UID:10001860-1729249200-1729252800@sc4.edu
SUMMARY:Photo Club Meeting
DESCRIPTION:Join other SC4 students to shoot and discuss both digital and traditional B&W photography. Students develop film\, print photographs (both in the darkroom and via computer)\, learn matting and mounting techniques and exhibit their work on campus.  \n\n\n\nFor additional information please contact club advisor Mark Rummel mrummel@sc4.edu \n\n\n\nLocation: SC4 Fine Arts Building – Room 36
URL:https://sc4.edu/event/photo-club-meeting-2/
LOCATION:SC4 Fine Arts Theatre\, 601 Erie Street\, Port Huron\, MI\, 48060\, United States
CATEGORIES:Campus life
END:VEVENT
BEGIN:VEVENT
DTSTART;TZID=America/Detroit:20241018T160000
DTEND;TZID=America/Detroit:20241018T180000
DTSTAMP:20260419T153645
CREATED:20240916T154710Z
LAST-MODIFIED:20250106T153404Z
UID:10001809-1729267200-1729274400@sc4.edu
SUMMARY:Women's Soccer vs. Lakeland Community College
DESCRIPTION:SC4 Skippers vs. Lakeland
URL:https://sc4.edu/event/womens-soccer-vs-lakeland-community-college/
LOCATION:SC4 Soccer Field\, 560 Busha Hwy\, Marysville\, MI\, 48040\, United States
CATEGORIES:Athletics,Soccer
END:VEVENT
BEGIN:VEVENT
DTSTART;TZID=America/Detroit:20241018T180000
DTEND;TZID=America/Detroit:20241018T200000
DTSTAMP:20260419T153645
CREATED:20240916T134503Z
LAST-MODIFIED:20250106T153413Z
UID:10001810-1729274400-1729281600@sc4.edu
SUMMARY:Men's Soccer vs. Lakeland Community College
DESCRIPTION:SC4 Skippers VS. Lakeland
URL:https://sc4.edu/event/mens-soccer-vs-lakeland-community-college/
LOCATION:SC4 Soccer Field\, 560 Busha Hwy\, Marysville\, MI\, 48040\, United States
CATEGORIES:Athletics,Soccer
END:VEVENT
BEGIN:VEVENT
DTSTART;TZID=America/Detroit:20241019T110000
DTEND;TZID=America/Detroit:20241019T130000
DTSTAMP:20260419T153645
CREATED:20240916T134332Z
LAST-MODIFIED:20250106T153425Z
UID:10001811-1729335600-1729342800@sc4.edu
SUMMARY:Volleyball vs. Kellogg Community College
DESCRIPTION:Skippers Tri-Match
URL:https://sc4.edu/event/volleyball-vs-kellogg-community-college/
LOCATION:SC4 Fieldhouse\, 400 Erie Street\, Port Huron\, MI\, 48060\, United States
CATEGORIES:Athletics,Volleyball
END:VEVENT
BEGIN:VEVENT
DTSTART;TZID=America/Detroit:20241019T150000
DTEND;TZID=America/Detroit:20241019T170000
DTSTAMP:20260419T153645
CREATED:20240916T134212Z
LAST-MODIFIED:20250106T153436Z
UID:10001812-1729350000-1729357200@sc4.edu
SUMMARY:Volleyball vs. Lakeland Community College
DESCRIPTION:Skippers Tri
URL:https://sc4.edu/event/volleyball-vs-lakeland-community-college/
LOCATION:SC4 Fieldhouse\, 400 Erie Street\, Port Huron\, MI\, 48060\, United States
CATEGORIES:Athletics,Volleyball
END:VEVENT
BEGIN:VEVENT
DTSTART;TZID=America/Detroit:20241019T190000
DTEND;TZID=America/Detroit:20241019T210000
DTSTAMP:20260419T153645
CREATED:20240827T210509Z
LAST-MODIFIED:20240827T211926Z
UID:10001794-1729364400-1729371600@sc4.edu
SUMMARY:Symphonic Band Concert: Sitting Too Close to the T.V.
DESCRIPTION:Location: SC4 Fine Arts Theatre
URL:https://sc4.edu/event/symphonic-band-concert/
LOCATION:MI
CATEGORIES:Arts,SC4 Symphonic Band
END:VEVENT
BEGIN:VEVENT
DTSTART;TZID=America/Detroit:20241019T190000
DTEND;TZID=America/Detroit:20241019T210000
DTSTAMP:20260419T153645
CREATED:20240919T231948Z
LAST-MODIFIED:20240919T232030Z
UID:10001837-1729364400-1729371600@sc4.edu
SUMMARY:Symphonic Band Concert: Sitting Too Close to the TV
DESCRIPTION:Come enjoy melodies and themes from your favorite shows over the last 75 years.
URL:https://sc4.edu/event/symphonic-band-concert-sitting-too-close-to-the-tv/
LOCATION:SC4 Fine Arts Theatre\, 601 Erie Street\, Port Huron\, MI\, 48060\, United States
CATEGORIES:Arts,SC4 Symphonic Band
END:VEVENT
END:VCALENDAR