BEGIN:VCALENDAR
VERSION:2.0
PRODID:-//St. Clair County Community College - ECPv6.15.20//NONSGML v1.0//EN
CALSCALE:GREGORIAN
METHOD:PUBLISH
X-WR-CALNAME:St. Clair County Community College
X-ORIGINAL-URL:https://sc4.edu
X-WR-CALDESC:Events for St. Clair County Community College
REFRESH-INTERVAL;VALUE=DURATION:PT1H
X-Robots-Tag:noindex
X-PUBLISHED-TTL:PT1H
BEGIN:VTIMEZONE
TZID:America/Detroit
BEGIN:DAYLIGHT
TZOFFSETFROM:-0500
TZOFFSETTO:-0400
TZNAME:EDT
DTSTART:20230312T070000
END:DAYLIGHT
BEGIN:STANDARD
TZOFFSETFROM:-0400
TZOFFSETTO:-0500
TZNAME:EST
DTSTART:20231105T060000
END:STANDARD
BEGIN:DAYLIGHT
TZOFFSETFROM:-0500
TZOFFSETTO:-0400
TZNAME:EDT
DTSTART:20240310T070000
END:DAYLIGHT
BEGIN:STANDARD
TZOFFSETFROM:-0400
TZOFFSETTO:-0500
TZNAME:EST
DTSTART:20241103T060000
END:STANDARD
BEGIN:DAYLIGHT
TZOFFSETFROM:-0500
TZOFFSETTO:-0400
TZNAME:EDT
DTSTART:20250309T070000
END:DAYLIGHT
BEGIN:STANDARD
TZOFFSETFROM:-0400
TZOFFSETTO:-0500
TZNAME:EST
DTSTART:20251102T060000
END:STANDARD
END:VTIMEZONE
BEGIN:VEVENT
DTSTART;TZID=America/Detroit:20240923T090000
DTEND;TZID=America/Detroit:20241025T190000
DTSTAMP:20260419T203123
CREATED:20240919T231802Z
LAST-MODIFIED:20240919T231804Z
UID:10001836-1727082000-1729882800@sc4.edu
SUMMARY:Collectively Independent by SC4 Art Faculty
DESCRIPTION:View original works created by SC4 art faculty. \n\n\n\nParticipating faculty: Jen Barker\, Sarah Flatter\, Jacqueline Mahannah\, Mark Rummel\, Elizabeth Sevick\, Jason Palmer\, Danny VanZandt and Jacob Vinson \n\n\n\nGallery hours: M-F 9am-7pm
URL:https://sc4.edu/event/collectively-independent-by-sc4-art-faculty/
LOCATION:SC4 Fine Arts Gallery\, 601 Erie Street\, Port Huron\, Michigan\, 48060\, United States
CATEGORIES:Arts
END:VEVENT
BEGIN:VEVENT
DTSTART;TZID=America/Detroit:20241021T190000
DTEND;TZID=America/Detroit:20241021T210000
DTSTAMP:20260419T203123
CREATED:20240916T134137Z
LAST-MODIFIED:20250106T153450Z
UID:10001813-1729537200-1729544400@sc4.edu
SUMMARY:Volleyball vs. Jackson College - Pink Out game
DESCRIPTION:Pink Out game
URL:https://sc4.edu/event/volleyball-vs-jackson-college-pink-out-game/
LOCATION:SC4 Fieldhouse\, 400 Erie Street\, Port Huron\, MI\, 48060\, United States
CATEGORIES:Athletics,Volleyball
END:VEVENT
BEGIN:VEVENT
DTSTART;TZID=America/Detroit:20241023T080000
DTEND;TZID=America/Detroit:20241023T100000
DTSTAMP:20260419T203123
CREATED:20241021T154348Z
LAST-MODIFIED:20250106T153102Z
UID:10001902-1729670400-1729677600@sc4.edu
SUMMARY:Java Jamboree
DESCRIPTION:SC4 faculty and staff only are invited to join the staff from the Blue Water Middle College and Career and Technical Middle College on Wednesday\, Oct. 23 from 8 a.m. – 10 a.m. for coffee\, conversation and camaraderie!  \n\n\n\nThe event will take place in the BWMC & CTMC offices located on the 2nd floor of the SC4 Welcome Center.
URL:https://sc4.edu/event/java-jamboree/
LOCATION:SC4 James C. Acheson Welcome Center\, 323 Erie St.\, Port Huron\, MI\, 48060\, United States
CATEGORIES:Campus life
END:VEVENT
BEGIN:VEVENT
DTSTART;TZID=America/Detroit:20241023T141500
DTEND;TZID=America/Detroit:20241023T151500
DTSTAMP:20260419T203123
CREATED:20241002T193553Z
LAST-MODIFIED:20241002T193556Z
UID:10001855-1729692900-1729696500@sc4.edu
SUMMARY:Theatre Club Meeting
DESCRIPTION:This student club is open to all SC4 students who have a passion for the performing arts. Whether\, you hope to direct a student production of your favorite play or you’re just a fan of live theater this club is for you.  \n\n\n\nFor additional information please contact club advisor Stewart Reed msreed@sc4.edu 
URL:https://sc4.edu/event/theatre-club-meeting-2/
LOCATION:SC4 Fine Arts Theatre\, 601 Erie Street\, Port Huron\, MI\, 48060\, United States
CATEGORIES:Campus life
END:VEVENT
BEGIN:VEVENT
DTSTART;TZID=America/Detroit:20241023T180000
DTEND;TZID=America/Detroit:20241023T200000
DTSTAMP:20260419T203123
CREATED:20240916T134107Z
LAST-MODIFIED:20250106T153502Z
UID:10001814-1729706400-1729713600@sc4.edu
SUMMARY:Women's Soccer vs. Siena Heights JV
DESCRIPTION:Sophomore night
URL:https://sc4.edu/event/womens-soccer-vs-siena-heights-jv/
LOCATION:SC4 Soccer Field\, 560 Busha Hwy\, Marysville\, MI\, 48040\, United States
CATEGORIES:Athletics,Soccer
END:VEVENT
BEGIN:VEVENT
DTSTART;TZID=America/Detroit:20241023T190000
DTEND;TZID=America/Detroit:20241023T210000
DTSTAMP:20260419T203123
CREATED:20240916T134049Z
LAST-MODIFIED:20250106T153524Z
UID:10001815-1729710000-1729717200@sc4.edu
SUMMARY:Volleyball vs. Oakland Community College
DESCRIPTION:Faculty/Staff Night
URL:https://sc4.edu/event/volleyball-vs-oakland-community-college/
LOCATION:SC4 Fieldhouse\, 400 Erie Street\, Port Huron\, MI\, 48060\, United States
CATEGORIES:Athletics,Volleyball
END:VEVENT
BEGIN:VEVENT
DTSTART;TZID=America/Detroit:20241024T140000
DTEND;TZID=America/Detroit:20241024T150000
DTSTAMP:20260419T203123
CREATED:20241021T134633Z
LAST-MODIFIED:20250106T153117Z
UID:10001888-1729778400-1729782000@sc4.edu
SUMMARY:FAFSA Completion Workshops
DESCRIPTION:FAFSA Completion Workshops are offered for students to help students with FAFSA completion. Students can register at sc4.edu/financialaid.  \n\n\n\nLocation: Welcome Center 208
URL:https://sc4.edu/event/fafsa-completion-workshops-7/
LOCATION:SC4 James C. Acheson Welcome Center\, 323 Erie St.\, Port Huron\, MI\, 48060\, United States
CATEGORIES:Admissions
END:VEVENT
BEGIN:VEVENT
DTSTART;TZID=America/Detroit:20241024T150000
DTEND;TZID=America/Detroit:20241024T160000
DTSTAMP:20260419T203123
CREATED:20241002T192558Z
LAST-MODIFIED:20241023T144955Z
UID:10001848-1729782000-1729785600@sc4.edu
SUMMARY:InterVarsity Christian Fellowship Club Meeting
DESCRIPTION:This student club is open to all SC4 students who wish to strengthen their spiritual life while congregating with fellow Christian students. \n\n\n\nIVCF organizes bible study groups\, sharing and praise sessions\, prayer hours and events such as “See you at the pole\,” which unites students around the world in fellowship and prayer.  \n\n\n\nFor additional information please contact club advisors Kim Foxwell kfoxwell@sc4.edu and Anne McPherson amcpherson@sc4.edu \n\n\n\nLocation: SC4 College Center – Room A-101
URL:https://sc4.edu/event/intervarsity-christian-fellowship-club-meeting-4/
LOCATION:SC4 Fieldhouse\, 400 Erie Street\, Port Huron\, MI\, 48060\, United States
CATEGORIES:Campus life
END:VEVENT
BEGIN:VEVENT
DTSTART;TZID=America/Detroit:20241025T000000
DTEND;TZID=America/Detroit:20241025T235959
DTSTAMP:20260419T203123
CREATED:20240916T133950Z
LAST-MODIFIED:20250106T153535Z
UID:10001816-1729814400-1729900799@sc4.edu
SUMMARY:Cross Country MCCAA Championships
DESCRIPTION:MCCAA Championships at Goodells County Park
URL:https://sc4.edu/event/cross-country-mccaa-championships/
LOCATION:MI
CATEGORIES:Athletics,Cross Country
END:VEVENT
BEGIN:VEVENT
DTSTART;TZID=America/Detroit:20241026T130000
DTEND;TZID=America/Detroit:20241026T150000
DTSTAMP:20260419T203123
CREATED:20240916T154750Z
LAST-MODIFIED:20250106T153544Z
UID:10001817-1729947600-1729954800@sc4.edu
SUMMARY:Men's Soccer vs. Cuyahoga Community College
DESCRIPTION:Sophomore Day
URL:https://sc4.edu/event/mens-soccer-vs-cuyahoga-community-college/
LOCATION:SC4 Soccer Field\, 560 Busha Hwy\, Marysville\, MI\, 48040\, United States
CATEGORIES:Athletics,Soccer
END:VEVENT
END:VCALENDAR