BEGIN:VCALENDAR
VERSION:2.0
PRODID:-//St. Clair County Community College - ECPv6.15.20//NONSGML v1.0//EN
CALSCALE:GREGORIAN
METHOD:PUBLISH
X-ORIGINAL-URL:https://sc4.edu
X-WR-CALDESC:Events for St. Clair County Community College
REFRESH-INTERVAL;VALUE=DURATION:PT1H
X-Robots-Tag:noindex
X-PUBLISHED-TTL:PT1H
BEGIN:VTIMEZONE
TZID:America/Detroit
BEGIN:DAYLIGHT
TZOFFSETFROM:-0500
TZOFFSETTO:-0400
TZNAME:EDT
DTSTART:20230312T070000
END:DAYLIGHT
BEGIN:STANDARD
TZOFFSETFROM:-0400
TZOFFSETTO:-0500
TZNAME:EST
DTSTART:20231105T060000
END:STANDARD
BEGIN:DAYLIGHT
TZOFFSETFROM:-0500
TZOFFSETTO:-0400
TZNAME:EDT
DTSTART:20240310T070000
END:DAYLIGHT
BEGIN:STANDARD
TZOFFSETFROM:-0400
TZOFFSETTO:-0500
TZNAME:EST
DTSTART:20241103T060000
END:STANDARD
BEGIN:DAYLIGHT
TZOFFSETFROM:-0500
TZOFFSETTO:-0400
TZNAME:EDT
DTSTART:20250309T070000
END:DAYLIGHT
BEGIN:STANDARD
TZOFFSETFROM:-0400
TZOFFSETTO:-0500
TZNAME:EST
DTSTART:20251102T060000
END:STANDARD
END:VTIMEZONE
BEGIN:VEVENT
DTSTART;TZID=America/Detroit:20241028T170000
DTEND;TZID=America/Detroit:20241028T180000
DTSTAMP:20260419T153700
CREATED:20240910T173207Z
LAST-MODIFIED:20240910T173225Z
UID:10001823-1730134800-1730138400@sc4.edu
SUMMARY:Respiratory Therapy Information Sessions
DESCRIPTION:Attend this virtual information session to ask questions and learn about the program\, course schedule\, any prerequisites\, and more. Join on Teams via this link.
URL:https://sc4.edu/event/respiratory-therapy-information-sessions-2/
LOCATION:MI
CATEGORIES:Academics
END:VEVENT
BEGIN:VEVENT
DTSTART;TZID=America/Detroit:20241028T190000
DTEND;TZID=America/Detroit:20241028T210000
DTSTAMP:20260419T153700
CREATED:20240916T133833Z
LAST-MODIFIED:20250106T153556Z
UID:10001818-1730142000-1730149200@sc4.edu
SUMMARY:Volleyball vs. Mott Community College
DESCRIPTION:YMCA Night
URL:https://sc4.edu/event/volleyball-vs-mott-community-college/
LOCATION:SC4 Fieldhouse\, 400 Erie Street\, Port Huron\, MI\, 48060\, United States
CATEGORIES:Athletics,Volleyball
END:VEVENT
BEGIN:VEVENT
DTSTART;TZID=America/Detroit:20241029T130000
DTEND;TZID=America/Detroit:20241029T150000
DTSTAMP:20260419T153700
CREATED:20241017T182745Z
LAST-MODIFIED:20241017T182748Z
UID:10001887-1730206800-1730214000@sc4.edu
SUMMARY:Grocery Gore Makeup With SC4 Theatre Club
DESCRIPTION:SC4’s Theatre Club is hosting a Grocery Gore Makeup event from 1 to 3 p.m. Tuesday\, Oct. 29. \n\n\n\nStudents\, faculty and staff can join them in the College Center to get a free “makeover” for Halloween. Students will teach you how to do horror makeup with everyday grocery items.  \n\n\n\nInterested in joining SC4 Theatre Club? Contact Stewart Reed msreed@sc4.edu
URL:https://sc4.edu/event/grocery-gore-makeup-with-sc4-theatre-club/
LOCATION:SC4 College Center\, 500 River Street\, Port Huron\, MI\, 48060\, United States
CATEGORIES:Campus life
END:VEVENT
BEGIN:VEVENT
DTSTART;TZID=America/Detroit:20241029T150000
DTEND;TZID=America/Detroit:20241029T160000
DTSTAMP:20260419T153700
CREATED:20241021T134820Z
LAST-MODIFIED:20250106T153609Z
UID:10001889-1730214000-1730217600@sc4.edu
SUMMARY:FAFSA Completion Workshops
DESCRIPTION:FAFSA Completion Workshops are offered for students to help students with FAFSA completion. Students can register at sc4.edu/financialaid.  \n\n\n\nLocation: Welcome Center 208
URL:https://sc4.edu/event/fafsa-completion-workshops-8/
LOCATION:SC4 James C. Acheson Welcome Center\, 323 Erie St.\, Port Huron\, MI\, 48060\, United States
CATEGORIES:Admissions
END:VEVENT
BEGIN:VEVENT
DTSTART;TZID=America/Detroit:20241030T110000
DTEND;TZID=America/Detroit:20241030T133000
DTSTAMP:20260419T153700
CREATED:20241021T160259Z
LAST-MODIFIED:20241021T160302Z
UID:10001903-1730286000-1730295000@sc4.edu
SUMMARY:Student Government: Fall Kick Back
DESCRIPTION:SC4 students\, faculty and staff are welcome to join SC4 Student Government for their Fall Kick Back. Enjoy hot cider and donuts while you play cornhole and decorate pumpkins on Oct. 30 from 11:00 a.m. to 1:30 p.m. \n\n\n\nLocation: SC4 Greenway
URL:https://sc4.edu/event/student-government-fall-kick-back/
LOCATION:MI
CATEGORIES:Campus life
END:VEVENT
BEGIN:VEVENT
DTSTART;TZID=America/Detroit:20241030T110000
DTEND;TZID=America/Detroit:20241030T140000
DTSTAMP:20260419T153700
CREATED:20241021T154157Z
LAST-MODIFIED:20241021T154159Z
UID:10001901-1730286000-1730296800@sc4.edu
SUMMARY:Veterans Lounge Open House
DESCRIPTION:Students with military connections such as veterans\, active-duty military personnel\, and qualified dependents (i.e. students using transfer of eligibility chapter 33 benefits or chapter 35 benefits) are encouraged to join the SC4 Veterans office on Oct. 30th for pizza and early registration for winter25 semester.  \n\n\n\nFor questions regarding qualifications please contact Niall Farley\, Veterans and Records Coordinator\, at (810) 989-5634 or email him at nrfarley@sc4.edu.
URL:https://sc4.edu/event/veterans-lounge-open-house/
LOCATION:SC4 James C. Acheson Welcome Center\, 323 Erie St.\, Port Huron\, MI\, 48060\, United States
CATEGORIES:Campus life
END:VEVENT
BEGIN:VEVENT
DTSTART;TZID=America/Detroit:20241030T190000
DTEND;TZID=America/Detroit:20241030T210000
DTSTAMP:20260419T153700
CREATED:20240916T133840Z
LAST-MODIFIED:20250106T153622Z
UID:10001819-1730314800-1730322000@sc4.edu
SUMMARY:Volleyball vs. Macomb Community College
DESCRIPTION:Sophomore Night
URL:https://sc4.edu/event/volleyball-vs-macomb-community-college/
LOCATION:SC4 Fieldhouse\, 400 Erie Street\, Port Huron\, MI\, 48060\, United States
CATEGORIES:Athletics,Volleyball
END:VEVENT
BEGIN:VEVENT
DTSTART;TZID=America/Detroit:20241031T150000
DTEND;TZID=America/Detroit:20241031T160000
DTSTAMP:20260419T153700
CREATED:20241002T192649Z
LAST-MODIFIED:20241002T192652Z
UID:10001849-1730386800-1730390400@sc4.edu
SUMMARY:InterVarsity Christian Fellowship Club Meeting
DESCRIPTION:This student club is open to all SC4 students who wish to strengthen their spiritual life while congregating with fellow Christian students. \n\n\n\nIVCF organizes bible study groups\, sharing and praise sessions\, prayer hours and events such as “See you at the pole\,” which unites students around the world in fellowship and prayer.  \n\n\n\nFor additional information please contact club advisors Kim Foxwell kfoxwell@sc4.edu and Anne McPherson amcpherson@sc4.edu \n\n\n\nLocation: SC4 College Center – Room A-101
URL:https://sc4.edu/event/intervarsity-christian-fellowship-club-meeting-5/
LOCATION:SC4 College Center\, 500 River Street\, Port Huron\, MI\, 48060\, United States
CATEGORIES:Campus life
END:VEVENT
BEGIN:VEVENT
DTSTART;TZID=America/Detroit:20241101T110000
DTEND;TZID=America/Detroit:20241101T120000
DTSTAMP:20260419T153700
CREATED:20241002T194412Z
LAST-MODIFIED:20241002T194414Z
UID:10001861-1730458800-1730462400@sc4.edu
SUMMARY:Photo Club Meeting
DESCRIPTION:Join other SC4 students to shoot and discuss both digital and traditional B&W photography. Students develop film\, print photographs (both in the darkroom and via computer)\, learn matting and mounting techniques and exhibit their work on campus.  \n\n\n\nFor additional information please contact club advisor Mark Rummel mrummel@sc4.edu \n\n\n\nLocation: SC4 Fine Arts Building – Room 36
URL:https://sc4.edu/event/photo-club-meeting-3/
LOCATION:SC4 Fine Arts Theatre\, 601 Erie Street\, Port Huron\, MI\, 48060\, United States
CATEGORIES:Campus life
END:VEVENT
BEGIN:VEVENT
DTSTART;TZID=America/Detroit:20241101T180000
DTEND;TZID=America/Detroit:20241101T200000
DTSTAMP:20260419T153700
CREATED:20241014T140320Z
LAST-MODIFIED:20250106T151649Z
UID:10001866-1730484000-1730491200@sc4.edu
SUMMARY:Esports VS. Heartland Community College
DESCRIPTION:Call of Duty: Warzone
URL:https://sc4.edu/event/esports-vs-heartland-community-college/
LOCATION:MI
CATEGORIES:Athletics,Esports
END:VEVENT
BEGIN:VEVENT
DTSTART;TZID=America/Detroit:20241101T190000
DTEND;TZID=America/Detroit:20241101T210000
DTSTAMP:20260419T153700
CREATED:20240919T232323Z
LAST-MODIFIED:20240919T232555Z
UID:10001838-1730487600-1730494800@sc4.edu
SUMMARY:Theatrical Production: Fantastic Mr. Fox
DESCRIPTION:Roald Dahl’s The Fantastic Mr. Fox \n\n\n\nA comedy for the family adapted by David Wood. \n\n\n\nA comedy for the whole family and ALL ages!! \n\n\n\nRoald Dahl’s much-loved story follows the vain efforts of three farmers\, Boggis\, Bunce and Bean who attempt to get rid of the fox who regularly steals food from their farms. “This is a FANTASTIC SHOW to be enjoyed by kids of ALL ages.” (CoventryTelegraph) “An EXCELLENT adaptation of a Roald Dahl’s children’s classic by David Wood… designed to capture imaginations… no wonder it is a HIT.” (The Stage)
URL:https://sc4.edu/event/theatrical-production-fantastic-mr-fox-3/
LOCATION:SC4 Fine Arts Theatre\, 601 Erie Street\, Port Huron\, MI\, 48060\, United States
CATEGORIES:Arts,Theatre
END:VEVENT
BEGIN:VEVENT
DTSTART;TZID=America/Detroit:20241102T000000
DTEND;TZID=America/Detroit:20241103T235959
DTSTAMP:20260419T153700
CREATED:20241016T142739Z
LAST-MODIFIED:20250106T151624Z
UID:10001881-1730505600-1730678399@sc4.edu
SUMMARY:NJCAA Region XII Division II Men's & Women's Soccer Championship 
DESCRIPTION:Region 12 championship. Teams from various states.
URL:https://sc4.edu/event/region-12-soccer-tournament/
LOCATION:SC4 Soccer Field\, 560 Busha Hwy\, Marysville\, MI\, 48040\, United States
CATEGORIES:Athletics,Soccer
END:VEVENT
BEGIN:VEVENT
DTSTART;TZID=America/Detroit:20241102T130000
DTEND;TZID=America/Detroit:20241102T150000
DTSTAMP:20260419T153700
CREATED:20240827T210826Z
LAST-MODIFIED:20241001T211617Z
UID:10001797-1730552400-1730559600@sc4.edu
SUMMARY:Theatrical Production: Fantastic Mr. Fox
DESCRIPTION:Roald Dahl’s The Fantastic Mr. Fox \n\n\n\nA comedy for the family adapted by David Wood. \n\n\n\nA comedy for the whole family and ALL ages!! \n\n\n\nRoald Dahl’s much-loved story follows the vain efforts of three farmers\, Boggis\, Bunce and Bean who attempt to get rid of the fox who regularly steals food from their farms. “This is a FANTASTIC SHOW to be enjoyed by kids of ALL ages.” (CoventryTelegraph) “An EXCELLENT adaptation of a Roald Dahl’s children’s classic by David Wood… designed to capture imaginations… no wonder it is a HIT.” (The Stage)
URL:https://sc4.edu/event/theatrical-production-fantastic-mr-fox-2/
LOCATION:SC4 Fine Arts Theatre\, 601 Erie Street\, Port Huron\, MI\, 48060\, United States
CATEGORIES:Arts,Theatre
END:VEVENT
BEGIN:VEVENT
DTSTART;TZID=America/Detroit:20241102T190000
DTEND;TZID=America/Detroit:20241102T220000
DTSTAMP:20260419T153700
CREATED:20240919T232444Z
LAST-MODIFIED:20241001T211522Z
UID:10001839-1730574000-1730584800@sc4.edu
SUMMARY:Theatrical Production: Fantastic Mr. Fox
DESCRIPTION:Roald Dahl’s The Fantastic Mr. Fox \n\n\n\nA comedy for the family adapted by David Wood. \n\n\n\nA comedy for the whole family and ALL ages!! \n\n\n\nRoald Dahl’s much-loved story follows the vain efforts of three farmers\, Boggis\, Bunce and Bean who attempt to get rid of the fox who regularly steals food from their farms. “This is a FANTASTIC SHOW to be enjoyed by kids of ALL ages.” (CoventryTelegraph) “An EXCELLENT adaptation of a Roald Dahl’s children’s classic by David Wood… designed to capture imaginations… no wonder it is a HIT.” (The Stage)
URL:https://sc4.edu/event/theatrical-production-fantastic-mr-fox-4/
LOCATION:SC4 Fine Arts Theatre\, 601 Erie Street\, Port Huron\, MI\, 48060\, United States
CATEGORIES:Arts,Theatre
END:VEVENT
END:VCALENDAR