BEGIN:VCALENDAR
VERSION:2.0
PRODID:-//St. Clair County Community College - ECPv6.15.20//NONSGML v1.0//EN
CALSCALE:GREGORIAN
METHOD:PUBLISH
X-ORIGINAL-URL:https://sc4.edu
X-WR-CALDESC:Events for St. Clair County Community College
REFRESH-INTERVAL;VALUE=DURATION:PT1H
X-Robots-Tag:noindex
X-PUBLISHED-TTL:PT1H
BEGIN:VTIMEZONE
TZID:America/Detroit
BEGIN:DAYLIGHT
TZOFFSETFROM:-0500
TZOFFSETTO:-0400
TZNAME:EDT
DTSTART:20230312T070000
END:DAYLIGHT
BEGIN:STANDARD
TZOFFSETFROM:-0400
TZOFFSETTO:-0500
TZNAME:EST
DTSTART:20231105T060000
END:STANDARD
BEGIN:DAYLIGHT
TZOFFSETFROM:-0500
TZOFFSETTO:-0400
TZNAME:EDT
DTSTART:20240310T070000
END:DAYLIGHT
BEGIN:STANDARD
TZOFFSETFROM:-0400
TZOFFSETTO:-0500
TZNAME:EST
DTSTART:20241103T060000
END:STANDARD
BEGIN:DAYLIGHT
TZOFFSETFROM:-0500
TZOFFSETTO:-0400
TZNAME:EDT
DTSTART:20250309T070000
END:DAYLIGHT
BEGIN:STANDARD
TZOFFSETFROM:-0400
TZOFFSETTO:-0500
TZNAME:EST
DTSTART:20251102T060000
END:STANDARD
END:VTIMEZONE
BEGIN:VEVENT
DTSTART;TZID=America/Detroit:20241211T130000
DTEND;TZID=America/Detroit:20241211T140000
DTSTAMP:20260419T160158
CREATED:20241021T135637Z
LAST-MODIFIED:20250106T150618Z
UID:10001895-1733922000-1733925600@sc4.edu
SUMMARY:FAFSA Completion Workshops
DESCRIPTION:FAFSA Completion Workshops are offered for students to help students with FAFSA completion. Students can register at sc4.edu/financialaid.  \n\n\n\nLocation: Welcome Center 208
URL:https://sc4.edu/event/fafsa-completion-workshops-14/
LOCATION:SC4 James C. Acheson Welcome Center\, 323 Erie St.\, Port Huron\, MI\, 48060\, United States
CATEGORIES:Admissions
END:VEVENT
BEGIN:VEVENT
DTSTART;TZID=America/Detroit:20241212T163000
DTEND;TZID=America/Detroit:20241212T220000
DTSTAMP:20260419T160158
CREATED:20241016T143151Z
LAST-MODIFIED:20250106T150609Z
UID:10001885-1734021000-1734040800@sc4.edu
SUMMARY:Middle School Wrestling
DESCRIPTION:Wrestling tournament
URL:https://sc4.edu/event/middle-school-wrestling/
LOCATION:SC4 Fieldhouse\, 400 Erie Street\, Port Huron\, MI\, 48060\, United States
CATEGORIES:Athletics
END:VEVENT
BEGIN:VEVENT
DTSTART;TZID=America/Detroit:20241214T000000
DTEND;TZID=America/Detroit:20241214T235959
DTSTAMP:20260419T160159
CREATED:20241016T143241Z
LAST-MODIFIED:20250106T150554Z
UID:10001886-1734134400-1734220799@sc4.edu
SUMMARY:Middle School Girls Basketball
DESCRIPTION:Middle School basketball tournament
URL:https://sc4.edu/event/middle-school-girls-basketball/
LOCATION:SC4 Fieldhouse\, 400 Erie Street\, Port Huron\, MI\, 48060\, United States
CATEGORIES:Athletics,Basketball
END:VEVENT
BEGIN:VEVENT
DTSTART;TZID=America/Detroit:20241214T190000
DTEND;TZID=America/Detroit:20241214T210000
DTSTAMP:20260419T160159
CREATED:20240827T211513Z
LAST-MODIFIED:20240919T233026Z
UID:10001798-1734202800-1734210000@sc4.edu
SUMMARY:Symphonic Band Concert: A Winter Celebration
DESCRIPTION:We gather together as family and friends to celebrate through music. \n\n\n\nLocation: SC4 Fine Arts Theatre
URL:https://sc4.edu/event/symphonic-band-concert-a-holiday-feast/
LOCATION:SC4 Fine Arts Theatre\, 601 Erie Street\, Port Huron\, MI\, 48060\, United States
CATEGORIES:Arts,SC4 Symphonic Band
END:VEVENT
END:VCALENDAR