BEGIN:VCALENDAR
VERSION:2.0
PRODID:-//St. Clair County Community College - ECPv6.15.20//NONSGML v1.0//EN
CALSCALE:GREGORIAN
METHOD:PUBLISH
X-ORIGINAL-URL:https://sc4.edu
X-WR-CALDESC:Events for St. Clair County Community College
REFRESH-INTERVAL;VALUE=DURATION:PT1H
X-Robots-Tag:noindex
X-PUBLISHED-TTL:PT1H
BEGIN:VTIMEZONE
TZID:America/Detroit
BEGIN:DAYLIGHT
TZOFFSETFROM:-0500
TZOFFSETTO:-0400
TZNAME:EDT
DTSTART:20230312T070000
END:DAYLIGHT
BEGIN:STANDARD
TZOFFSETFROM:-0400
TZOFFSETTO:-0500
TZNAME:EST
DTSTART:20231105T060000
END:STANDARD
BEGIN:DAYLIGHT
TZOFFSETFROM:-0500
TZOFFSETTO:-0400
TZNAME:EDT
DTSTART:20240310T070000
END:DAYLIGHT
BEGIN:STANDARD
TZOFFSETFROM:-0400
TZOFFSETTO:-0500
TZNAME:EST
DTSTART:20241103T060000
END:STANDARD
BEGIN:DAYLIGHT
TZOFFSETFROM:-0500
TZOFFSETTO:-0400
TZNAME:EDT
DTSTART:20250309T070000
END:DAYLIGHT
BEGIN:STANDARD
TZOFFSETFROM:-0400
TZOFFSETTO:-0500
TZNAME:EST
DTSTART:20251102T060000
END:STANDARD
END:VTIMEZONE
BEGIN:VEVENT
DTSTART;TZID=America/Detroit:20241216T190000
DTEND;TZID=America/Detroit:20241216T210000
DTSTAMP:20260419T173033
CREATED:20241014T142852Z
LAST-MODIFIED:20250106T150545Z
UID:10001878-1734375600-1734382800@sc4.edu
SUMMARY:Men's Basketball VS. Mid Michigan College
DESCRIPTION:SC4 Skippers at home
URL:https://sc4.edu/event/mens-basketball-vs-mid-michigan-college/
LOCATION:SC4 Fieldhouse\, 400 Erie Street\, Port Huron\, MI\, 48060\, United States
CATEGORIES:Athletics,Basketball
END:VEVENT
BEGIN:VEVENT
DTSTART;TZID=America/Detroit:20241218T173000
DTEND;TZID=America/Detroit:20241218T193000
DTSTAMP:20260419T173033
CREATED:20241014T142940Z
LAST-MODIFIED:20250106T150534Z
UID:10001879-1734543000-1734550200@sc4.edu
SUMMARY:Women's Basketball VS. Hocking College
DESCRIPTION:SC4 Skippers at home
URL:https://sc4.edu/event/womens-basketball-vs-hocking-college/
LOCATION:SC4 Fieldhouse\, 400 Erie Street\, Port Huron\, MI\, 48060\, United States
CATEGORIES:Athletics,Basketball
END:VEVENT
BEGIN:VEVENT
DTSTART;TZID=America/Detroit:20241218T193000
DTEND;TZID=America/Detroit:20241218T213000
DTSTAMP:20260419T173033
CREATED:20241014T143033Z
LAST-MODIFIED:20250106T150525Z
UID:10001880-1734550200-1734557400@sc4.edu
SUMMARY:Men's Basketball VS. Hocking College
DESCRIPTION:SC4 Skippers at home
URL:https://sc4.edu/event/mens-basketball-vs-hocking-college/
LOCATION:SC4 Fieldhouse\, 400 Erie Street\, Port Huron\, MI\, 48060\, United States
CATEGORIES:Athletics,Basketball
END:VEVENT
BEGIN:VEVENT
DTSTART;TZID=America/Detroit:20241219T140000
DTEND;TZID=America/Detroit:20241219T150000
DTSTAMP:20260419T173033
CREATED:20241021T135738Z
LAST-MODIFIED:20250106T150514Z
UID:10001896-1734616800-1734620400@sc4.edu
SUMMARY:FAFSA Completion Workshops
DESCRIPTION:FAFSA Completion Workshops are offered for students to help students with FAFSA completion. Students can register at sc4.edu/financialaid.  \n\n\n\nLocation: Welcome Center 208
URL:https://sc4.edu/event/fafsa-completion-workshops-15/
LOCATION:SC4 James C. Acheson Welcome Center\, 323 Erie St.\, Port Huron\, MI\, 48060\, United States
CATEGORIES:Admissions
END:VEVENT
END:VCALENDAR