BEGIN:VCALENDAR
VERSION:2.0
PRODID:-//St. Clair County Community College - ECPv6.15.20//NONSGML v1.0//EN
CALSCALE:GREGORIAN
METHOD:PUBLISH
X-WR-CALNAME:St. Clair County Community College
X-ORIGINAL-URL:https://sc4.edu
X-WR-CALDESC:Events for St. Clair County Community College
REFRESH-INTERVAL;VALUE=DURATION:PT1H
X-Robots-Tag:noindex
X-PUBLISHED-TTL:PT1H
BEGIN:VTIMEZONE
TZID:America/Detroit
BEGIN:DAYLIGHT
TZOFFSETFROM:-0500
TZOFFSETTO:-0400
TZNAME:EDT
DTSTART:20240310T070000
END:DAYLIGHT
BEGIN:STANDARD
TZOFFSETFROM:-0400
TZOFFSETTO:-0500
TZNAME:EST
DTSTART:20241103T060000
END:STANDARD
BEGIN:DAYLIGHT
TZOFFSETFROM:-0500
TZOFFSETTO:-0400
TZNAME:EDT
DTSTART:20250309T070000
END:DAYLIGHT
BEGIN:STANDARD
TZOFFSETFROM:-0400
TZOFFSETTO:-0500
TZNAME:EST
DTSTART:20251102T060000
END:STANDARD
BEGIN:DAYLIGHT
TZOFFSETFROM:-0500
TZOFFSETTO:-0400
TZNAME:EDT
DTSTART:20260308T070000
END:DAYLIGHT
BEGIN:STANDARD
TZOFFSETFROM:-0400
TZOFFSETTO:-0500
TZNAME:EST
DTSTART:20261101T060000
END:STANDARD
END:VTIMEZONE
BEGIN:VEVENT
DTSTART;TZID=America/Detroit:20250114T090000
DTEND;TZID=America/Detroit:20250114T150000
DTSTAMP:20260419T141147
CREATED:20241217T185545Z
LAST-MODIFIED:20241217T185845Z
UID:10001962-1736845200-1736866800@sc4.edu
SUMMARY:Student Government: FREE Hot Chocolate Day
DESCRIPTION:SC4 Student Government invites students\, faculty and staff to enjoy free delicious hot chocolate at Café Coffi\, located inside the SC4 Fieldhouse\, to celebrate the start of the winter semester.
URL:https://sc4.edu/event/student-government-free-hot-chocolate-day/
LOCATION:SC4 Fieldhouse\, 400 Erie Street\, Port Huron\, MI\, 48060\, United States
CATEGORIES:Campus life
END:VEVENT
BEGIN:VEVENT
DTSTART;TZID=America/Detroit:20250115T130000
DTEND;TZID=America/Detroit:20250115T140000
DTSTAMP:20260419T141147
CREATED:20241021T135901Z
LAST-MODIFIED:20250106T150444Z
UID:10001898-1736946000-1736949600@sc4.edu
SUMMARY:FAFSA Completion Workshops
DESCRIPTION:FAFSA Completion Workshops are offered for students to help students with FAFSA completion. Students can register at sc4.edu/financialaid.  \n\n\n\nLocation: Welcome Center 208
URL:https://sc4.edu/event/fafsa-completion-workshops-17/
LOCATION:SC4 James C. Acheson Welcome Center\, 323 Erie St.\, Port Huron\, MI\, 48060\, United States
CATEGORIES:Admissions
END:VEVENT
BEGIN:VEVENT
DTSTART;TZID=America/Detroit:20250116T120000
DTEND;TZID=America/Detroit:20250116T130000
DTSTAMP:20260419T141147
CREATED:20240813T015218Z
LAST-MODIFIED:20240813T015308Z
UID:10001777-1737028800-1737032400@sc4.edu
SUMMARY:Free Concert: The Island Guys - Caribbean/Steel Drum
DESCRIPTION:Join us for two Caribbean-style performances by The Island Guys. \n\n\n\nThe Island Guys Tropical Steel Drum Band is a group of talented musicians who specialize in creating a unique and tropical sound. \n\n\n\nThey pride themselves on their professionalism\, versatility\, and ability to truly engage with the audience. With a passion for the sounds of the steel drum\, they bring the spirit of the islands to every performance. \n\n\n\nPerformances are scheduled from noon to 1 p.m. and 7 p.m. to 8:30 p.m. in the SC4 Fine Arts Theatre. \n\n\n\nSeats are general admission\, and no reservations are needed. Doors open 15 minutes prior to showtime.
URL:https://sc4.edu/event/free-concert-the-island-guys-caribbean-steel-drum/
LOCATION:MI
CATEGORIES:Arts,Thursday concert series
END:VEVENT
BEGIN:VEVENT
DTSTART;TZID=America/Detroit:20250116T190000
DTEND;TZID=America/Detroit:20250116T203000
DTSTAMP:20260419T141147
CREATED:20240813T015520Z
LAST-MODIFIED:20240813T015527Z
UID:10001778-1737054000-1737059400@sc4.edu
SUMMARY:Free Concert: The Island Guys - Caribbean/Steel Drum
DESCRIPTION:Join us for two Caribbean-style performances by The Island Guys. \n\n\n\nThe Island Guys Tropical Steel Drum Band is a group of talented musicians who specialize in creating a unique and tropical sound. \n\n\n\nThey pride themselves on their professionalism\, versatility\, and ability to truly engage with the audience. With a passion for the sounds of the steel drum\, they bring the spirit of the islands to every performance. \n\n\n\nPerformances are scheduled from noon to 1 p.m. and 7 p.m. to 8:30 p.m. in the SC4 Fine Arts Theatre. \n\n\n\nSeats are general admission\, and no reservations are needed. Doors open 15 minutes prior to showtime.
URL:https://sc4.edu/event/free-concert-the-island-guys-caribbean-steel-drum-2/
LOCATION:MI
CATEGORIES:Arts,Thursday concert series
END:VEVENT
BEGIN:VEVENT
DTSTART;TZID=America/Detroit:20250117T100000
DTEND;TZID=America/Detroit:20250117T110000
DTSTAMP:20260419T141147
CREATED:20241203T150622Z
LAST-MODIFIED:20241203T150625Z
UID:10001931-1737108000-1737111600@sc4.edu
SUMMARY:Radiologic Technology Program Information Session
DESCRIPTION:Attend this virtual information session to ask questions and learn about the program\, course schedule\, any prerequisites\, and more. Join the meeting on Teams. \n\n\n\nApplication deadline for Radiologic Technology program is February 1 for a summer semester start. \n\n\n\nApply today at https://sc4.edu/health-sciences-application/
URL:https://sc4.edu/event/radiologic-technology-program-information-session-40/
LOCATION:MI
CATEGORIES:Academics
END:VEVENT
BEGIN:VEVENT
DTSTART;TZID=America/Detroit:20250118T130000
DTEND;TZID=America/Detroit:20250118T170000
DTSTAMP:20260419T141147
CREATED:20250102T153645Z
LAST-MODIFIED:20250106T150301Z
UID:10001966-1737205200-1737219600@sc4.edu
SUMMARY:SC4 Basketball Games vs. Jackson
DESCRIPTION:Women at 1 PM \nMen at 3 PM
URL:https://sc4.edu/event/sc4-basketball-games-vs-jackson/
LOCATION:SC4 Fieldhouse\, 400 Erie Street\, Port Huron\, MI\, 48060\, United States
CATEGORIES:Athletics,Basketball
END:VEVENT
END:VCALENDAR