BEGIN:VCALENDAR
VERSION:2.0
PRODID:-//St. Clair County Community College - ECPv6.15.20//NONSGML v1.0//EN
CALSCALE:GREGORIAN
METHOD:PUBLISH
X-ORIGINAL-URL:https://sc4.edu
X-WR-CALDESC:Events for St. Clair County Community College
REFRESH-INTERVAL;VALUE=DURATION:PT1H
X-Robots-Tag:noindex
X-PUBLISHED-TTL:PT1H
BEGIN:VTIMEZONE
TZID:America/Detroit
BEGIN:DAYLIGHT
TZOFFSETFROM:-0500
TZOFFSETTO:-0400
TZNAME:EDT
DTSTART:20240310T070000
END:DAYLIGHT
BEGIN:STANDARD
TZOFFSETFROM:-0400
TZOFFSETTO:-0500
TZNAME:EST
DTSTART:20241103T060000
END:STANDARD
BEGIN:DAYLIGHT
TZOFFSETFROM:-0500
TZOFFSETTO:-0400
TZNAME:EDT
DTSTART:20250309T070000
END:DAYLIGHT
BEGIN:STANDARD
TZOFFSETFROM:-0400
TZOFFSETTO:-0500
TZNAME:EST
DTSTART:20251102T060000
END:STANDARD
BEGIN:DAYLIGHT
TZOFFSETFROM:-0500
TZOFFSETTO:-0400
TZNAME:EDT
DTSTART:20260308T070000
END:DAYLIGHT
BEGIN:STANDARD
TZOFFSETFROM:-0400
TZOFFSETTO:-0500
TZNAME:EST
DTSTART:20261101T060000
END:STANDARD
END:VTIMEZONE
BEGIN:VEVENT
DTSTART;TZID=America/Detroit:20250120T180000
DTEND;TZID=America/Detroit:20250120T200000
DTSTAMP:20260419T130428
CREATED:20241028T174214Z
LAST-MODIFIED:20241028T174219Z
UID:10001904-1737396000-1737403200@sc4.edu
SUMMARY:MLK Play Production: I Remember When
DESCRIPTION:Please join us for this wonderful production by Mrs. Debra McNair \n\n\n\nThis stage play will portray several riveting vignettes that will seek to capture and document both factual and historical occurrences in history. These dramatized vignettes will endeavor to extract significant and poignant moments that impacted and changed the narrative in the lives of black people in America.  \n\n\n\nIt will endeavor to arouse a penetrating emotional response that may evoke a stream of passion as we relive those moments in time. But these emotions will be yielded by the sounds of hope and victory as we salute the historical and ionic General Dr. Martin Luther King Jr.
URL:https://sc4.edu/event/mlk-play-production-i-remember-when/
LOCATION:SC4 Fine Arts Theatre\, 601 Erie Street\, Port Huron\, MI\, 48060\, United States
CATEGORIES:Community,Diversity Equity Inclusion
END:VEVENT
BEGIN:VEVENT
DTSTART;TZID=America/Detroit:20250121T080000
DTEND;TZID=America/Detroit:20250203T170000
DTSTAMP:20260419T130428
CREATED:20240827T202305Z
LAST-MODIFIED:20241120T183758Z
UID:10001786-1737446400-1738602000@sc4.edu
SUMMARY:Beatrice Thornton Elementary Students’ Show
DESCRIPTION:Location: SC4 Fine Arts Gallery
URL:https://sc4.edu/event/beatrice-thornton-elementary-students-show/
LOCATION:MI
CATEGORIES:Arts
END:VEVENT
BEGIN:VEVENT
DTSTART;TZID=America/Detroit:20250121T180000
DTEND;TZID=America/Detroit:20250121T190000
DTSTAMP:20260419T130428
CREATED:20240827T203508Z
LAST-MODIFIED:20241120T183533Z
UID:10001789-1737482400-1737486000@sc4.edu
SUMMARY:Beatrice Thornton Elementary Students’ Show reception
DESCRIPTION:
URL:https://sc4.edu/event/beatrice-thornton-elementary-students-show-reception/
LOCATION:MI
CATEGORIES:Arts
END:VEVENT
BEGIN:VEVENT
DTSTART;TZID=America/Detroit:20250122T173000
DTEND;TZID=America/Detroit:20250122T213000
DTSTAMP:20260419T130428
CREATED:20250102T153749Z
LAST-MODIFIED:20250106T150232Z
UID:10001967-1737567000-1737581400@sc4.edu
SUMMARY:SC4 Basketball Games vs. Macomb
DESCRIPTION:Women at 5:30 PM\nMen at 7:30 PM
URL:https://sc4.edu/event/sc4-basketball-games-vs-macomb/
LOCATION:SC4 Fieldhouse\, 400 Erie Street\, Port Huron\, MI\, 48060\, United States
CATEGORIES:Athletics,Basketball
END:VEVENT
BEGIN:VEVENT
DTSTART;TZID=America/Detroit:20250123T140000
DTEND;TZID=America/Detroit:20250123T150000
DTSTAMP:20260419T130428
CREATED:20241021T135944Z
LAST-MODIFIED:20250106T150251Z
UID:10001899-1737640800-1737644400@sc4.edu
SUMMARY:FAFSA Completion Workshops
DESCRIPTION:FAFSA Completion Workshops are offered for students to help students with FAFSA completion. Students can register at sc4.edu/financialaid.  \n\n\n\nLocation: Welcome Center 208
URL:https://sc4.edu/event/fafsa-completion-workshops-18/
LOCATION:SC4 James C. Acheson Welcome Center\, 323 Erie St.\, Port Huron\, MI\, 48060\, United States
CATEGORIES:Admissions
END:VEVENT
BEGIN:VEVENT
DTSTART;TZID=America/Detroit:20250123T150000
DTEND;TZID=America/Detroit:20250123T160000
DTSTAMP:20260419T130428
CREATED:20250123T145916Z
LAST-MODIFIED:20250123T145919Z
UID:10002003-1737644400-1737648000@sc4.edu
SUMMARY:InterVarsity Christian Fellowship Club Meeting
DESCRIPTION:This student club is open to all SC4 students who wish to strengthen their spiritual life while congregating with fellow Christian students. \n\n\n\nIVCF organizes bible study groups\, sharing and praise sessions\, prayer hours and events such as “See you at the pole\,” which unites students around the world in fellowship and prayer.  \n\n\n\nFor additional information please contact club advisors Kim Foxwell kfoxwell@sc4.edu and Anne McPherson amcpherson@sc4.edu \n\n\n\nLocation: SC4 College Center – Room A-101
URL:https://sc4.edu/event/intervarsity-christian-fellowship-club-meeting-13/
LOCATION:SC4 College Center\, 500 River Street\, Port Huron\, MI\, 48060\, United States
CATEGORIES:Campus life
END:VEVENT
END:VCALENDAR