BEGIN:VCALENDAR
VERSION:2.0
PRODID:-//St. Clair County Community College - ECPv6.15.20//NONSGML v1.0//EN
CALSCALE:GREGORIAN
METHOD:PUBLISH
X-ORIGINAL-URL:https://sc4.edu
X-WR-CALDESC:Events for St. Clair County Community College
REFRESH-INTERVAL;VALUE=DURATION:PT1H
X-Robots-Tag:noindex
X-PUBLISHED-TTL:PT1H
BEGIN:VTIMEZONE
TZID:America/Detroit
BEGIN:DAYLIGHT
TZOFFSETFROM:-0500
TZOFFSETTO:-0400
TZNAME:EDT
DTSTART:20240310T070000
END:DAYLIGHT
BEGIN:STANDARD
TZOFFSETFROM:-0400
TZOFFSETTO:-0500
TZNAME:EST
DTSTART:20241103T060000
END:STANDARD
BEGIN:DAYLIGHT
TZOFFSETFROM:-0500
TZOFFSETTO:-0400
TZNAME:EDT
DTSTART:20250309T070000
END:DAYLIGHT
BEGIN:STANDARD
TZOFFSETFROM:-0400
TZOFFSETTO:-0500
TZNAME:EST
DTSTART:20251102T060000
END:STANDARD
BEGIN:DAYLIGHT
TZOFFSETFROM:-0500
TZOFFSETTO:-0400
TZNAME:EDT
DTSTART:20260308T070000
END:DAYLIGHT
BEGIN:STANDARD
TZOFFSETFROM:-0400
TZOFFSETTO:-0500
TZNAME:EST
DTSTART:20261101T060000
END:STANDARD
END:VTIMEZONE
BEGIN:VEVENT
DTSTART;TZID=America/Detroit:20250121T080000
DTEND;TZID=America/Detroit:20250203T170000
DTSTAMP:20260419T122237
CREATED:20240827T202305Z
LAST-MODIFIED:20241120T183758Z
UID:10001786-1737446400-1738602000@sc4.edu
SUMMARY:Beatrice Thornton Elementary Students’ Show
DESCRIPTION:Location: SC4 Fine Arts Gallery
URL:https://sc4.edu/event/beatrice-thornton-elementary-students-show/
LOCATION:MI
CATEGORIES:Arts
END:VEVENT
BEGIN:VEVENT
DTSTART;TZID=America/Detroit:20250204T140000
DTEND;TZID=America/Detroit:20250204T150000
DTSTAMP:20260419T122237
CREATED:20250110T204252Z
LAST-MODIFIED:20250130T145849Z
UID:10001985-1738677600-1738681200@sc4.edu
SUMMARY:FAFSA Completion Workshops
DESCRIPTION:FAFSA Completion Workshops are offered for students to help students and families with FAFSA completion.  \n\n\n\nLocation: Welcome Center 206
URL:https://sc4.edu/event/fafsa-completion-workshops-20/
LOCATION:SC4 James C. Acheson Welcome Center\, 323 Erie St.\, Port Huron\, MI\, 48060\, United States
CATEGORIES:Admissions
END:VEVENT
BEGIN:VEVENT
DTSTART;TZID=America/Detroit:20250205T113000
DTEND;TZID=America/Detroit:20250205T123000
DTSTAMP:20260419T122237
CREATED:20250202T221152Z
LAST-MODIFIED:20250203T133522Z
UID:10002017-1738755000-1738758600@sc4.edu
SUMMARY:International Student Meet and Greet
DESCRIPTION:Students\, faculty and staff are welcome to join us on Wednesday\, February 5 from 11:30 a.m. – 12:30 p.m. in the College Center Atrium to enjoy sweet treats and meet our International Students.
URL:https://sc4.edu/event/international-student-meet-and-greet/
LOCATION:SC4 College Center\, 500 River Street\, Port Huron\, MI\, 48060\, United States
CATEGORIES:Campus life
END:VEVENT
BEGIN:VEVENT
DTSTART;TZID=America/Detroit:20250206T150000
DTEND;TZID=America/Detroit:20250206T160000
DTSTAMP:20260419T122237
CREATED:20250123T145802Z
LAST-MODIFIED:20250123T145806Z
UID:10002001-1738854000-1738857600@sc4.edu
SUMMARY:InterVarsity Christian Fellowship Club Meeting
DESCRIPTION:This student club is open to all SC4 students who wish to strengthen their spiritual life while congregating with fellow Christian students. \n\n\n\nIVCF organizes bible study groups\, sharing and praise sessions\, prayer hours and events such as “See you at the pole\,” which unites students around the world in fellowship and prayer.  \n\n\n\nFor additional information please contact club advisors Kim Foxwell kfoxwell@sc4.edu and Anne McPherson amcpherson@sc4.edu \n\n\n\nLocation: SC4 College Center – Room A-101
URL:https://sc4.edu/event/intervarsity-christian-fellowship-club-meeting-11/
LOCATION:SC4 College Center\, 500 River Street\, Port Huron\, MI\, 48060\, United States
CATEGORIES:Campus life,Wellness
END:VEVENT
BEGIN:VEVENT
DTSTART;TZID=America/Detroit:20250208T130000
DTEND;TZID=America/Detroit:20250208T170000
DTSTAMP:20260419T122237
CREATED:20250102T154027Z
LAST-MODIFIED:20250106T150139Z
UID:10001969-1739019600-1739034000@sc4.edu
SUMMARY:SC4 Basketball Games vs. Oakland
DESCRIPTION:Women at 1 PM \nMen at 3 PM
URL:https://sc4.edu/event/sc4-basketball-games-vs-oakland/
LOCATION:SC4 Fieldhouse\, 400 Erie Street\, Port Huron\, MI\, 48060\, United States
CATEGORIES:Athletics,Basketball
END:VEVENT
END:VCALENDAR