BEGIN:VCALENDAR
VERSION:2.0
PRODID:-//St. Clair County Community College - ECPv6.15.20//NONSGML v1.0//EN
CALSCALE:GREGORIAN
METHOD:PUBLISH
X-WR-CALNAME:St. Clair County Community College
X-ORIGINAL-URL:https://sc4.edu
X-WR-CALDESC:Events for St. Clair County Community College
REFRESH-INTERVAL;VALUE=DURATION:PT1H
X-Robots-Tag:noindex
X-PUBLISHED-TTL:PT1H
BEGIN:VTIMEZONE
TZID:America/Detroit
BEGIN:DAYLIGHT
TZOFFSETFROM:-0500
TZOFFSETTO:-0400
TZNAME:EDT
DTSTART:20240310T070000
END:DAYLIGHT
BEGIN:STANDARD
TZOFFSETFROM:-0400
TZOFFSETTO:-0500
TZNAME:EST
DTSTART:20241103T060000
END:STANDARD
BEGIN:DAYLIGHT
TZOFFSETFROM:-0500
TZOFFSETTO:-0400
TZNAME:EDT
DTSTART:20250309T070000
END:DAYLIGHT
BEGIN:STANDARD
TZOFFSETFROM:-0400
TZOFFSETTO:-0500
TZNAME:EST
DTSTART:20251102T060000
END:STANDARD
BEGIN:DAYLIGHT
TZOFFSETFROM:-0500
TZOFFSETTO:-0400
TZNAME:EDT
DTSTART:20260308T070000
END:DAYLIGHT
BEGIN:STANDARD
TZOFFSETFROM:-0400
TZOFFSETTO:-0500
TZNAME:EST
DTSTART:20261101T060000
END:STANDARD
END:VTIMEZONE
BEGIN:VEVENT
DTSTART;TZID=America/Detroit:20250210T090000
DTEND;TZID=America/Detroit:20250221T190000
DTSTAMP:20260419T110015
CREATED:20240827T202609Z
LAST-MODIFIED:20240827T202623Z
UID:10001787-1739178000-1740164400@sc4.edu
SUMMARY:Beatrice Thornton Middle/High School Exhibition
DESCRIPTION:Location: SC4 Fine Arts Gallery
URL:https://sc4.edu/event/beatrice-thornton-middle-high-school-exhibition/
LOCATION:MI
CATEGORIES:Arts
END:VEVENT
BEGIN:VEVENT
DTSTART;TZID=America/Detroit:20250218T100000
DTEND;TZID=America/Detroit:20250218T110000
DTSTAMP:20260419T110015
CREATED:20250110T204715Z
LAST-MODIFIED:20250110T204717Z
UID:10001987-1739872800-1739876400@sc4.edu
SUMMARY:FAFSA Completion Workshops
DESCRIPTION:FAFSA Completion Workshops are offered for students to help students and families with FAFSA completion.  \n\n\n\nLocation: Welcome Center 206
URL:https://sc4.edu/event/fafsa-completion-workshops-22/
LOCATION:SC4 James C. Acheson Welcome Center\, 323 Erie St.\, Port Huron\, MI\, 48060\, United States
CATEGORIES:Admissions
END:VEVENT
BEGIN:VEVENT
DTSTART;TZID=America/Detroit:20250218T180000
DTEND;TZID=America/Detroit:20250218T190000
DTSTAMP:20260419T110015
CREATED:20250212T184129Z
LAST-MODIFIED:20250218T134223Z
UID:10002018-1739901600-1739905200@sc4.edu
SUMMARY:Remote Financial Aid Presentation
DESCRIPTION:We’re excited to announce a Remote Financial Aid Presentation that will help you navigate all things related to financial aid! Whether you’re a student seeking information about applying for aid\, or a faculty or staff member who may be a parent of a college student or soon-to-be college student\, this session is for you.  \n\n\n\nEvent Details: \n\n\n\nDate: February 18\, 2025 \n\n\n\nTime: 6:00 PM \n\n\n\nLocation: Online at the SC4 Teams link. \n\n\n\nDuring the session\, you will learn about: \n\n\n\n·        Types of financial aid available \n\n\n\n·        How to apply for financial aid \n\n\n\n·        Tips for maximizing your financial aid opportunities \n\n\n\n·        Important deadlines and updates \n\n\n\nTo attend\, simply visit the teams link. The link to the presentation will be available there. We recommend visiting the page 15 minutes before the event to ensure you’re ready to join.  \n\n\n\nDon’t miss this opportunity to get your financial aid questions answered in one place! \n\n\n\nWe look forward to seeing you there!
URL:https://sc4.edu/event/remote-financial-aid-presentation/
LOCATION:MI
CATEGORIES:Admissions
END:VEVENT
BEGIN:VEVENT
DTSTART;TZID=America/Detroit:20250219T173000
DTEND;TZID=America/Detroit:20250219T213000
DTSTAMP:20260419T110015
CREATED:20250102T154124Z
LAST-MODIFIED:20250106T150130Z
UID:10001970-1739986200-1740000600@sc4.edu
SUMMARY:SC4 Basketball Games vs. Wayne County
DESCRIPTION:Women at 5:30 PM \nMen at 7:30 PM
URL:https://sc4.edu/event/sc4-basketball-games-vs-wayne-county/
LOCATION:SC4 Fieldhouse\, 400 Erie Street\, Port Huron\, MI\, 48060\, United States
CATEGORIES:Athletics,Basketball
END:VEVENT
BEGIN:VEVENT
DTSTART;TZID=America/Detroit:20250220T150000
DTEND;TZID=America/Detroit:20250220T160000
DTSTAMP:20260419T110015
CREATED:20250123T150040Z
LAST-MODIFIED:20250123T150043Z
UID:10002004-1740063600-1740067200@sc4.edu
SUMMARY:InterVarsity Christian Fellowship Club Meeting
DESCRIPTION:This student club is open to all SC4 students who wish to strengthen their spiritual life while congregating with fellow Christian students. \n\n\n\nIVCF organizes bible study groups\, sharing and praise sessions\, prayer hours and events such as “See you at the pole\,” which unites students around the world in fellowship and prayer.  \n\n\n\nFor additional information please contact club advisors Kim Foxwell kfoxwell@sc4.edu and Anne McPherson amcpherson@sc4.edu \n\n\n\nLocation: SC4 College Center – Room A-101
URL:https://sc4.edu/event/intervarsity-christian-fellowship-club-meeting-14/
LOCATION:SC4 College Center\, 500 River Street\, Port Huron\, MI\, 48060\, United States
CATEGORIES:Campus life
END:VEVENT
BEGIN:VEVENT
DTSTART;TZID=America/Detroit:20250222T100000
DTEND;TZID=America/Detroit:20250222T170000
DTSTAMP:20260419T110015
CREATED:20250102T155117Z
LAST-MODIFIED:20250106T150120Z
UID:10001982-1740218400-1740243600@sc4.edu
SUMMARY:SCCIAA Cheerleading
DESCRIPTION:Middle School Cheerlading
URL:https://sc4.edu/event/scciaa-cheerleading/
LOCATION:SC4 Fieldhouse\, 400 Erie Street\, Port Huron\, MI\, 48060\, United States
CATEGORIES:Athletics
END:VEVENT
BEGIN:VEVENT
DTSTART;TZID=America/Detroit:20250222T190000
DTEND;TZID=America/Detroit:20250222T210000
DTSTAMP:20260419T110015
CREATED:20241217T183450Z
LAST-MODIFIED:20250110T210059Z
UID:10001955-1740250800-1740258000@sc4.edu
SUMMARY:SC4 Symphonic Band Concert: For Charlie
DESCRIPTION:SC4’s Symphonic Band\, conducted by Erick Senkmajer\, is set to perform an evening of heartfelt music as we honor the life and legacy of former band director Charlie Stephens. The program will feature a selection of Charlie’s favorite pieces.  \n\n\n\n \n\n\n\nAdmission is free
URL:https://sc4.edu/event/symphonic-band-concert-for-charlie/
LOCATION:SC4 Fine Arts Theatre\, 601 Erie Street\, Port Huron\, MI\, 48060\, United States
CATEGORIES:Arts,Campus life,Community,SC4 Symphonic Band
END:VEVENT
END:VCALENDAR