BEGIN:VCALENDAR
VERSION:2.0
PRODID:-//St. Clair County Community College - ECPv6.15.20//NONSGML v1.0//EN
CALSCALE:GREGORIAN
METHOD:PUBLISH
X-WR-CALNAME:St. Clair County Community College
X-ORIGINAL-URL:https://sc4.edu
X-WR-CALDESC:Events for St. Clair County Community College
REFRESH-INTERVAL;VALUE=DURATION:PT1H
X-Robots-Tag:noindex
X-PUBLISHED-TTL:PT1H
BEGIN:VTIMEZONE
TZID:America/Detroit
BEGIN:DAYLIGHT
TZOFFSETFROM:-0500
TZOFFSETTO:-0400
TZNAME:EDT
DTSTART:20240310T070000
END:DAYLIGHT
BEGIN:STANDARD
TZOFFSETFROM:-0400
TZOFFSETTO:-0500
TZNAME:EST
DTSTART:20241103T060000
END:STANDARD
BEGIN:DAYLIGHT
TZOFFSETFROM:-0500
TZOFFSETTO:-0400
TZNAME:EDT
DTSTART:20250309T070000
END:DAYLIGHT
BEGIN:STANDARD
TZOFFSETFROM:-0400
TZOFFSETTO:-0500
TZNAME:EST
DTSTART:20251102T060000
END:STANDARD
BEGIN:DAYLIGHT
TZOFFSETFROM:-0500
TZOFFSETTO:-0400
TZNAME:EDT
DTSTART:20260308T070000
END:DAYLIGHT
BEGIN:STANDARD
TZOFFSETFROM:-0400
TZOFFSETTO:-0500
TZNAME:EST
DTSTART:20261101T060000
END:STANDARD
END:VTIMEZONE
BEGIN:VEVENT
DTSTART;TZID=America/Detroit:20250311T173000
DTEND;TZID=America/Detroit:20250311T210000
DTSTAMP:20260419T102055
CREATED:20250307T153419Z
LAST-MODIFIED:20250317T223846Z
UID:10002034-1741714200-1741726800@sc4.edu
SUMMARY:MHSAA Boys Basketball Quarterfinal
DESCRIPTION:Division 2 and 3 Quarterfinals\n\n5:30 PM & 7 PM
URL:https://sc4.edu/event/mhsaa-boys-basketball-quarterfinal/
LOCATION:SC4 Fieldhouse\, 400 Erie Street\, Port Huron\, MI\, 48060\, United States
END:VEVENT
BEGIN:VEVENT
DTSTART;TZID=America/Detroit:20250312T180000
DTEND;TZID=America/Detroit:20250312T190000
DTSTAMP:20260419T102055
CREATED:20250312T154546Z
LAST-MODIFIED:20250312T154549Z
UID:10002036-1741802400-1741806000@sc4.edu
SUMMARY:Remote Financial Aid Presentation
DESCRIPTION:We’re excited to announce a Remote Financial Aid Presentation that will help you navigate all things related to financial aid! Whether you’re a student seeking information about applying for aid\, or a faculty or staff member who may be a parent of a college student or soon-to-be college student\, this session is for you.  \n\n\n\nEvent Details: \n\n\n\nDate: March 12\, 2025 \n\n\n\nTime: 6:00 PM \n\n\n\nLocation: Online at the SC4 Teams link. \n\n\n\nDuring the session\, you will learn about: \n\n\n\n·        Types of financial aid available \n\n\n\n·        How to apply for financial aid \n\n\n\n·        Tips for maximizing your financial aid opportunities \n\n\n\n·        Important deadlines and updates \n\n\n\nTo attend\, simply visit the teams link. The link to the presentation will be available there. We recommend visiting the page 15 minutes before the event to ensure you’re ready to join.  \n\n\n\nDon’t miss this opportunity to get your financial aid questions answered in one place! \n\n\n\nWe look forward to seeing you there!
URL:https://sc4.edu/event/remote-financial-aid-presentation-2/
LOCATION:MI
CATEGORIES:Admissions
END:VEVENT
BEGIN:VEVENT
DTSTART;TZID=America/Detroit:20250315T100000
DTEND;TZID=America/Detroit:20250315T140000
DTSTAMP:20260419T102055
CREATED:20250103T152704Z
LAST-MODIFIED:20250103T152707Z
UID:10001984-1742032800-1742047200@sc4.edu
SUMMARY:SC4 STEM Fest
DESCRIPTION:SC4’s STEM Fest will feature more than 100 hands-on\, interactive science\, technology\, engineering and mathematics exhibits by SC4\, Michigan Technological University’s Mind Trekkers\, Cranbrook Institute of Science of Bloomfield Hills and The Reptarium of Utica. It also will feature an interactive tour of the Challenger Learning Center at SC4 and much more. The event is free and open to the public. \n\n\n\n \n\n\n\nLearn more and register today at https://sc4.edu/stem-fest/
URL:https://sc4.edu/event/sc4-stem-fest-3/
LOCATION:MI
CATEGORIES:Campus life,Community
END:VEVENT
END:VCALENDAR