BEGIN:VCALENDAR
VERSION:2.0
PRODID:-//St. Clair County Community College - ECPv6.15.20//NONSGML v1.0//EN
CALSCALE:GREGORIAN
METHOD:PUBLISH
X-ORIGINAL-URL:https://sc4.edu
X-WR-CALDESC:Events for St. Clair County Community College
REFRESH-INTERVAL;VALUE=DURATION:PT1H
X-Robots-Tag:noindex
X-PUBLISHED-TTL:PT1H
BEGIN:VTIMEZONE
TZID:America/Detroit
BEGIN:DAYLIGHT
TZOFFSETFROM:-0500
TZOFFSETTO:-0400
TZNAME:EDT
DTSTART:20240310T070000
END:DAYLIGHT
BEGIN:STANDARD
TZOFFSETFROM:-0400
TZOFFSETTO:-0500
TZNAME:EST
DTSTART:20241103T060000
END:STANDARD
BEGIN:DAYLIGHT
TZOFFSETFROM:-0500
TZOFFSETTO:-0400
TZNAME:EDT
DTSTART:20250309T070000
END:DAYLIGHT
BEGIN:STANDARD
TZOFFSETFROM:-0400
TZOFFSETTO:-0500
TZNAME:EST
DTSTART:20251102T060000
END:STANDARD
BEGIN:DAYLIGHT
TZOFFSETFROM:-0500
TZOFFSETTO:-0400
TZNAME:EDT
DTSTART:20260308T070000
END:DAYLIGHT
BEGIN:STANDARD
TZOFFSETFROM:-0400
TZOFFSETTO:-0500
TZNAME:EST
DTSTART:20261101T060000
END:STANDARD
END:VTIMEZONE
BEGIN:VEVENT
DTSTART;TZID=America/Detroit:20250325T100000
DTEND;TZID=America/Detroit:20250325T110000
DTSTAMP:20260419T083717
CREATED:20250110T205116Z
LAST-MODIFIED:20250110T205119Z
UID:10001991-1742896800-1742900400@sc4.edu
SUMMARY:FAFSA Completion Workshops
DESCRIPTION:FAFSA Completion Workshops are offered for students to help students and families with FAFSA completion.  \n\n\n\nLocation: Welcome Center 206
URL:https://sc4.edu/event/fafsa-completion-workshops-26/
LOCATION:SC4 James C. Acheson Welcome Center\, 323 Erie St.\, Port Huron\, MI\, 48060\, United States
CATEGORIES:Admissions
END:VEVENT
BEGIN:VEVENT
DTSTART;TZID=America/Detroit:20250326T153000
DTEND;TZID=America/Detroit:20250326T163000
DTSTAMP:20260419T083717
CREATED:20250221T173730Z
LAST-MODIFIED:20250221T173734Z
UID:10002022-1743003000-1743006600@sc4.edu
SUMMARY:Theatre Club Meeting
DESCRIPTION:This student club is open to all SC4 students who have a passion for the performing arts. Whether\, you hope to direct a student production of your favorite play or you’re just a fan of live theater this club is for you.  \n\n\n\nFor additional information please contact club advisor Stewart Reed msreed@sc4.edu 
URL:https://sc4.edu/event/theatre-club-meeting-7/
LOCATION:SC4 Fine Arts Theatre\, 601 Erie Street\, Port Huron\, MI\, 48060\, United States
CATEGORIES:Campus life,Wellness
END:VEVENT
BEGIN:VEVENT
DTSTART;TZID=America/Detroit:20250326T170000
DTEND;TZID=America/Detroit:20250326T190000
DTSTAMP:20260419T083717
CREATED:20250317T134116Z
LAST-MODIFIED:20250317T134121Z
UID:10002038-1743008400-1743015600@sc4.edu
SUMMARY:Theatre Club Spring Sing Along
DESCRIPTION:Faculty\, staff and students are invited to join the SC4 Theatre Club for a sing-along. Come sing along\, or just drop by for a quick listen and snack.
URL:https://sc4.edu/event/theatre-club-spring-sing-along/
LOCATION:SC4 Fine Arts Theatre\, 601 Erie Street\, Port Huron\, MI\, 48060\, United States
CATEGORIES:Campus life,Wellness
END:VEVENT
BEGIN:VEVENT
DTSTART;TZID=America/Detroit:20250327T100000
DTEND;TZID=America/Detroit:20250327T110000
DTSTAMP:20260419T083717
CREATED:20241202T201606Z
LAST-MODIFIED:20241202T201609Z
UID:10001913-1743069600-1743073200@sc4.edu
SUMMARY:Associate Degree Nursing Information Session
DESCRIPTION:Attend this virtual information session to ask questions and learn about the program\, course schedule\, any prerequisites\, and more. Join the meeting on Teams.
URL:https://sc4.edu/event/associate-degree-nursing-information-session-13/
LOCATION:MI
CATEGORIES:Academics,Admissions
END:VEVENT
BEGIN:VEVENT
DTSTART;TZID=America/Detroit:20250327T150000
DTEND;TZID=America/Detroit:20250327T160000
DTSTAMP:20260419T083717
CREATED:20250123T151936Z
LAST-MODIFIED:20250123T151939Z
UID:10002009-1743087600-1743091200@sc4.edu
SUMMARY:InterVarsity Christian Fellowship Club Meeting
DESCRIPTION:This student club is open to all SC4 students who wish to strengthen their spiritual life while congregating with fellow Christian students. \n\n\n\nIVCF organizes bible study groups\, sharing and praise sessions\, prayer hours and events such as “See you at the pole\,” which unites students around the world in fellowship and prayer.  \n\n\n\nFor additional information please contact club advisors Kim Foxwell kfoxwell@sc4.edu and Anne McPherson amcpherson@sc4.edu \n\n\n\nLocation: SC4 College Center – Room A-101
URL:https://sc4.edu/event/intervarsity-christian-fellowship-club-meeting-18/
LOCATION:SC4 College Center\, 500 River Street\, Port Huron\, MI\, 48060\, United States
CATEGORIES:Campus life,Wellness
END:VEVENT
BEGIN:VEVENT
DTSTART;TZID=America/Detroit:20250328T150000
DTEND;TZID=America/Detroit:20250328T200000
DTSTAMP:20260419T083717
CREATED:20250102T154356Z
LAST-MODIFIED:20250106T150006Z
UID:10001973-1743174000-1743192000@sc4.edu
SUMMARY:Softball vs. Macomb
DESCRIPTION:Double Header
URL:https://sc4.edu/event/softball-vs-macomb/
LOCATION:Marysville Park Softball Field\, 801 E. Huron Blvd\, Port Huron\, MI\, 48060\, United States
CATEGORIES:Athletics,Softball
END:VEVENT
BEGIN:VEVENT
DTSTART;TZID=America/Detroit:20250329T130000
DTEND;TZID=America/Detroit:20250329T180000
DTSTAMP:20260419T083717
CREATED:20250102T154433Z
LAST-MODIFIED:20250106T145630Z
UID:10001974-1743253200-1743271200@sc4.edu
SUMMARY:Softball vs. Mott
DESCRIPTION:Double Header
URL:https://sc4.edu/event/softball-vs-mott/
LOCATION:Marysville Park Softball Field\, 801 E. Huron Blvd\, Port Huron\, MI\, 48060\, United States
CATEGORIES:Athletics,Softball
END:VEVENT
END:VCALENDAR