BEGIN:VCALENDAR
VERSION:2.0
PRODID:-//St. Clair County Community College - ECPv6.15.20//NONSGML v1.0//EN
CALSCALE:GREGORIAN
METHOD:PUBLISH
X-ORIGINAL-URL:https://sc4.edu
X-WR-CALDESC:Events for St. Clair County Community College
REFRESH-INTERVAL;VALUE=DURATION:PT1H
X-Robots-Tag:noindex
X-PUBLISHED-TTL:PT1H
BEGIN:VTIMEZONE
TZID:America/Detroit
BEGIN:DAYLIGHT
TZOFFSETFROM:-0500
TZOFFSETTO:-0400
TZNAME:EDT
DTSTART:20240310T070000
END:DAYLIGHT
BEGIN:STANDARD
TZOFFSETFROM:-0400
TZOFFSETTO:-0500
TZNAME:EST
DTSTART:20241103T060000
END:STANDARD
BEGIN:DAYLIGHT
TZOFFSETFROM:-0500
TZOFFSETTO:-0400
TZNAME:EDT
DTSTART:20250309T070000
END:DAYLIGHT
BEGIN:STANDARD
TZOFFSETFROM:-0400
TZOFFSETTO:-0500
TZNAME:EST
DTSTART:20251102T060000
END:STANDARD
BEGIN:DAYLIGHT
TZOFFSETFROM:-0500
TZOFFSETTO:-0400
TZNAME:EDT
DTSTART:20260308T070000
END:DAYLIGHT
BEGIN:STANDARD
TZOFFSETFROM:-0400
TZOFFSETTO:-0500
TZNAME:EST
DTSTART:20261101T060000
END:STANDARD
END:VTIMEZONE
BEGIN:VEVENT
DTSTART;TZID=America/Detroit:20250515T140000
DTEND;TZID=America/Detroit:20250515T150000
DTSTAMP:20260419T140922
CREATED:20250430T153818Z
LAST-MODIFIED:20250430T154018Z
UID:10002043-1747317600-1747321200@sc4.edu
SUMMARY:FAFSA Completion Workshop
DESCRIPTION:FAFSA Completion Workshops are offered for students to help students and families with FAFSA completion.  \n\n\n\nLocation: Welcome Center 206 \n\n\n\nAdditional information about financial aid support can be found online at SC4 visit SC4.edu/financialaid or by contacting our expect financial aid team at financialaid@sc4.edu
URL:https://sc4.edu/event/fafsa-completion-workshops-33/
LOCATION:SC4 James C. Acheson Welcome Center\, 323 Erie St.\, Port Huron\, MI\, 48060\, United States
CATEGORIES:Admissions
END:VEVENT
BEGIN:VEVENT
DTSTART;TZID=America/Detroit:20250516T163000
DTEND;TZID=America/Detroit:20250517T150000
DTSTAMP:20260419T140922
CREATED:20250506T183458Z
LAST-MODIFIED:20250513T141020Z
UID:10002063-1747413000-1747494000@sc4.edu
SUMMARY:High School Softball Showcase
DESCRIPTION:Chippewa Valley High School\, Lakeview High School\, L’Anse Creuse High School\, Marine City High School\, Marysville High School\, Port Huron Northern High School\, Romeo High School
URL:https://sc4.edu/event/high-school-softball-showcase/
LOCATION:Marysville Park Softball Field\, 801 E. Huron Blvd\, Port Huron\, MI\, 48060\, United States
END:VEVENT
END:VCALENDAR