BEGIN:VCALENDAR
VERSION:2.0
PRODID:-//St. Clair County Community College - ECPv6.15.20//NONSGML v1.0//EN
CALSCALE:GREGORIAN
METHOD:PUBLISH
X-ORIGINAL-URL:https://sc4.edu
X-WR-CALDESC:Events for St. Clair County Community College
REFRESH-INTERVAL;VALUE=DURATION:PT1H
X-Robots-Tag:noindex
X-PUBLISHED-TTL:PT1H
BEGIN:VTIMEZONE
TZID:America/Detroit
BEGIN:DAYLIGHT
TZOFFSETFROM:-0500
TZOFFSETTO:-0400
TZNAME:EDT
DTSTART:20240310T070000
END:DAYLIGHT
BEGIN:STANDARD
TZOFFSETFROM:-0400
TZOFFSETTO:-0500
TZNAME:EST
DTSTART:20241103T060000
END:STANDARD
BEGIN:DAYLIGHT
TZOFFSETFROM:-0500
TZOFFSETTO:-0400
TZNAME:EDT
DTSTART:20250309T070000
END:DAYLIGHT
BEGIN:STANDARD
TZOFFSETFROM:-0400
TZOFFSETTO:-0500
TZNAME:EST
DTSTART:20251102T060000
END:STANDARD
BEGIN:DAYLIGHT
TZOFFSETFROM:-0500
TZOFFSETTO:-0400
TZNAME:EDT
DTSTART:20260308T070000
END:DAYLIGHT
BEGIN:STANDARD
TZOFFSETFROM:-0400
TZOFFSETTO:-0500
TZNAME:EST
DTSTART:20261101T060000
END:STANDARD
END:VTIMEZONE
BEGIN:VEVENT
DTSTART;TZID=America/Detroit:20250519T130000
DTEND;TZID=America/Detroit:20250519T140000
DTSTAMP:20260419T174344
CREATED:20250430T154246Z
LAST-MODIFIED:20250430T154250Z
UID:10002044-1747659600-1747663200@sc4.edu
SUMMARY:FAFSA Completion Workshop
DESCRIPTION:FAFSA Completion Workshops are offered for students to help students and families with FAFSA completion.  \n\n\n\nLocation: Welcome Center 206 \n\n\n\nAdditional information about financial aid support can be found online at SC4 visit SC4.edu/financialaid or by contacting our expect financial aid team at financialaid@sc4.edu
URL:https://sc4.edu/event/fafsa-completion-workshop/
LOCATION:SC4 James C. Acheson Welcome Center\, 323 Erie St.\, Port Huron\, MI\, 48060\, United States
CATEGORIES:Admissions
END:VEVENT
BEGIN:VEVENT
DTSTART;TZID=America/Detroit:20250520T100000
DTEND;TZID=America/Detroit:20250520T110000
DTSTAMP:20260419T174344
CREATED:20241202T203358Z
LAST-MODIFIED:20250506T115954Z
UID:10001926-1747735200-1747738800@sc4.edu
SUMMARY:ADN Transition program information session
DESCRIPTION:Attend this virtual information session to ask questions and learn about the program\, course schedule\, any prerequisites\, and more. Join the meeting here.
URL:https://sc4.edu/event/adn-transition-program-information-session-9/
LOCATION:MI
CATEGORIES:Academics,Admissions
END:VEVENT
BEGIN:VEVENT
DTSTART;TZID=America/Detroit:20250521T150000
DTEND;TZID=America/Detroit:20250521T160000
DTSTAMP:20260419T174344
CREATED:20241202T202509Z
LAST-MODIFIED:20250506T135638Z
UID:10001920-1747839600-1747843200@sc4.edu
SUMMARY:Practical Nursing Information Session
DESCRIPTION:Attend this virtual information session to ask questions and learn about the program\, course schedule\, any prerequisites\, and more. Join the meeting on Teams.
URL:https://sc4.edu/event/practical-nursing-information-session-9/
LOCATION:MI
CATEGORIES:Academics,Admissions
END:VEVENT
BEGIN:VEVENT
DTSTART;TZID=America/Detroit:20250522T150000
DTEND;TZID=America/Detroit:20250522T160000
DTSTAMP:20260419T174344
CREATED:20241202T201714Z
LAST-MODIFIED:20250506T135605Z
UID:10001914-1747926000-1747929600@sc4.edu
SUMMARY:Associate Degree Nursing Information Session
DESCRIPTION:Attend this virtual information session to ask questions and learn about the program\, course schedule\, any prerequisites\, and more. Join the meeting on Teams.
URL:https://sc4.edu/event/associate-degree-nursing-information-session-14/
LOCATION:MI
CATEGORIES:Academics,Admissions
END:VEVENT
END:VCALENDAR