BEGIN:VCALENDAR
VERSION:2.0
PRODID:-//St. Clair County Community College - ECPv6.15.20//NONSGML v1.0//EN
CALSCALE:GREGORIAN
METHOD:PUBLISH
X-WR-CALNAME:St. Clair County Community College
X-ORIGINAL-URL:https://sc4.edu
X-WR-CALDESC:Events for St. Clair County Community College
REFRESH-INTERVAL;VALUE=DURATION:PT1H
X-Robots-Tag:noindex
X-PUBLISHED-TTL:PT1H
BEGIN:VTIMEZONE
TZID:America/Detroit
BEGIN:DAYLIGHT
TZOFFSETFROM:-0500
TZOFFSETTO:-0400
TZNAME:EDT
DTSTART:20240310T070000
END:DAYLIGHT
BEGIN:STANDARD
TZOFFSETFROM:-0400
TZOFFSETTO:-0500
TZNAME:EST
DTSTART:20241103T060000
END:STANDARD
BEGIN:DAYLIGHT
TZOFFSETFROM:-0500
TZOFFSETTO:-0400
TZNAME:EDT
DTSTART:20250309T070000
END:DAYLIGHT
BEGIN:STANDARD
TZOFFSETFROM:-0400
TZOFFSETTO:-0500
TZNAME:EST
DTSTART:20251102T060000
END:STANDARD
BEGIN:DAYLIGHT
TZOFFSETFROM:-0500
TZOFFSETTO:-0400
TZNAME:EDT
DTSTART:20260308T070000
END:DAYLIGHT
BEGIN:STANDARD
TZOFFSETFROM:-0400
TZOFFSETTO:-0500
TZNAME:EST
DTSTART:20261101T060000
END:STANDARD
END:VTIMEZONE
BEGIN:VEVENT
DTSTART;TZID=America/Detroit:20250707T090000
DTEND;TZID=America/Detroit:20250707T150000
DTSTAMP:20260419T172005
CREATED:20250604T193728Z
LAST-MODIFIED:20250604T193746Z
UID:10002077-1751878800-1751900400@sc4.edu
SUMMARY:SC4 CSI STEM Summer Camp Grades 6-8
DESCRIPTION:Calling all future forensic scientists! Step into the world of crime scene investigation at our CSI: STEM Lab\, a one-day camp where science and mystery collide. Put your detective skills to the test as you analyze fingerprints\, decode secret messages\, and uncover hidden clues to solve a thrilling mock case. Using real forensic techniques like chromatography\, fiber analysis\, and DNA extraction (from fruit!)\, you’ll learn how scientists crack cases using chemistry\, biology\, and a sharp eye for detail. This hands-on camp is perfect for 6th–8th graders who love solving puzzles\, thinking like detectives\, and discovering the real science behind forensic investigations. The mystery won’t wait—register now before the evidence disappears! \n\n\n\nRegister here
URL:https://sc4.edu/event/sc4-csi-stem-summer-camp-grades-6-8/
LOCATION:MI
CATEGORIES:Campus life,Community
END:VEVENT
BEGIN:VEVENT
DTSTART;TZID=America/Detroit:20250709T090000
DTEND;TZID=America/Detroit:20250709T150000
DTSTAMP:20260419T172005
CREATED:20250604T192627Z
LAST-MODIFIED:20250604T193122Z
UID:10002064-1752051600-1752073200@sc4.edu
SUMMARY:SC4 Dino Discover STEM Summer Camp Grades 3-5
DESCRIPTION:Calling all junior paleontologists! Get ready to stomp\, roar\, and dig into a prehistoric world at Dino Discovery STEM Camp\, a one-day adventure where science meets dinosaurs! Join us as we unearth fossils\, explore the science of dino-sized discoveries\, and dive into hands-on experiments that bring the Mesozoic Era to life. Campers will learn how real paleontologists uncover the past\, create their own fossil imprints\, and even investigate what made the mighty T. rex so fearsome! This action-packed STEM camp is designed for 3rd–5th graders who love dinosaurs\, science\, and getting their hands a little dirty in the name of discovery. Don’t miss your chance to become a dino detective—spots are limited\, so register now before they go extinct! *Please scroll down for additional details. \n\n\n\nRegister here
URL:https://sc4.edu/event/dino-discover-stem-summer-camp-grades-3-5/
LOCATION:MI
CATEGORIES:Campus life,Community
END:VEVENT
BEGIN:VEVENT
DTSTART;TZID=America/Detroit:20250709T150000
DTEND;TZID=America/Detroit:20250709T160000
DTSTAMP:20260419T172005
CREATED:20250430T155157Z
LAST-MODIFIED:20250430T155200Z
UID:10002051-1752073200-1752076800@sc4.edu
SUMMARY:FAFSA Completion Workshop
DESCRIPTION:FAFSA Completion Workshops are offered for students to help students and families with FAFSA completion.  \n\n\n\nLocation: Welcome Center 206 \n\n\n\nAdditional information about financial aid support can be found online at SC4 visit SC4.edu/financialaid or by contacting our expect financial aid team at financialaid@sc4.edu
URL:https://sc4.edu/event/fafsa-completion-workshop-8/
LOCATION:SC4 James C. Acheson Welcome Center\, 323 Erie St.\, Port Huron\, MI\, 48060\, United States
CATEGORIES:Admissions
END:VEVENT
END:VCALENDAR