BEGIN:VCALENDAR
VERSION:2.0
PRODID:-//St. Clair County Community College - ECPv6.15.20//NONSGML v1.0//EN
CALSCALE:GREGORIAN
METHOD:PUBLISH
X-ORIGINAL-URL:https://sc4.edu
X-WR-CALDESC:Events for St. Clair County Community College
REFRESH-INTERVAL;VALUE=DURATION:PT1H
X-Robots-Tag:noindex
X-PUBLISHED-TTL:PT1H
BEGIN:VTIMEZONE
TZID:America/Detroit
BEGIN:DAYLIGHT
TZOFFSETFROM:-0500
TZOFFSETTO:-0400
TZNAME:EDT
DTSTART:20240310T070000
END:DAYLIGHT
BEGIN:STANDARD
TZOFFSETFROM:-0400
TZOFFSETTO:-0500
TZNAME:EST
DTSTART:20241103T060000
END:STANDARD
BEGIN:DAYLIGHT
TZOFFSETFROM:-0500
TZOFFSETTO:-0400
TZNAME:EDT
DTSTART:20250309T070000
END:DAYLIGHT
BEGIN:STANDARD
TZOFFSETFROM:-0400
TZOFFSETTO:-0500
TZNAME:EST
DTSTART:20251102T060000
END:STANDARD
BEGIN:DAYLIGHT
TZOFFSETFROM:-0500
TZOFFSETTO:-0400
TZNAME:EDT
DTSTART:20260308T070000
END:DAYLIGHT
BEGIN:STANDARD
TZOFFSETFROM:-0400
TZOFFSETTO:-0500
TZNAME:EST
DTSTART:20261101T060000
END:STANDARD
END:VTIMEZONE
BEGIN:VEVENT
DTSTART;TZID=America/Detroit:20250714T090000
DTEND;TZID=America/Detroit:20250714T150000
DTSTAMP:20260419T120738
CREATED:20250604T193029Z
LAST-MODIFIED:20250604T193048Z
UID:10002067-1752483600-1752505200@sc4.edu
SUMMARY:SC4 Drone Soccer STEM Summer Camp Grades 6-8
DESCRIPTION:Get ready to take off into the exciting world of drones! At Drone Soccer Explorers Camp\, young pilots will learn how to operate\, fly\, and compete with real drones in a fun\, hands-on adventure. Campers will explore how drones work\, how pilots steer them\, and how they’re used in the real world—from delivering packages to exploring space! With plenty of flight time\, students will test their skills on obstacle courses\, complete fun drone challenges\, and even learn the sport Drone Soccer! This one-day camp is perfect for 3rd-5th graders who love technology\, flying\, and high-energy fun. No experience needed—just bring your excitement! Spots are limited—register now and get ready to soar!  \n\n\n\nRegister here
URL:https://sc4.edu/event/drone-soccer-stem-summer-camp-grades-6-8/
LOCATION:MI
CATEGORIES:Campus life,Community
END:VEVENT
BEGIN:VEVENT
DTSTART;TZID=America/Detroit:20250714T090000
DTEND;TZID=America/Detroit:20250717T120000
DTSTAMP:20260419T120738
CREATED:20250605T141640Z
LAST-MODIFIED:20250605T141640Z
UID:10002117-1752483600-1752753600@sc4.edu
SUMMARY:SC4 Summer Basketball Camp Grades 5- 12
DESCRIPTION:The camp is from 9 a.m. to 12 p.m. on July 14 – 17 for learners entering grades 5-12. Instruction by SC4’s coaches and teams.
URL:https://sc4.edu/event/sc4-summer-basketball-camp-grades-5-12/
LOCATION:SC4 Fieldhouse\, 400 Erie Street\, Port Huron\, MI\, 48060\, United States
END:VEVENT
BEGIN:VEVENT
DTSTART;TZID=America/Detroit:20250714T130000
DTEND;TZID=America/Detroit:20250716T160000
DTSTAMP:20260419T120738
CREATED:20250605T140848Z
LAST-MODIFIED:20250605T140848Z
UID:10002111-1752498000-1752681600@sc4.edu
SUMMARY:SC4 Summer Esports Camp Grades 5-12
DESCRIPTION:The camp is from 1 p.m. to 4 p.m. on July 14- 16 for learners entering grades 5-12. Instruction by SC4’s coaches and team.
URL:https://sc4.edu/event/sc4-summer-esports-camp-grades-5-12/
LOCATION:SC4 Fieldhouse\, 400 Erie Street\, Port Huron\, MI\, 48060\, United States
END:VEVENT
BEGIN:VEVENT
DTSTART;TZID=America/Detroit:20250717T130000
DTEND;TZID=America/Detroit:20250717T140000
DTSTAMP:20260419T120738
CREATED:20250430T155309Z
LAST-MODIFIED:20250430T155311Z
UID:10002052-1752757200-1752760800@sc4.edu
SUMMARY:FAFSA Completion Workshop
DESCRIPTION:FAFSA Completion Workshops are offered for students to help students and families with FAFSA completion.  \n\n\n\nLocation: Welcome Center 206 \n\n\n\nAdditional information about financial aid support can be found online at SC4 visit SC4.edu/financialaid or by contacting our expect financial aid team at financialaid@sc4.edu
URL:https://sc4.edu/event/fafsa-completion-workshop-9/
LOCATION:SC4 James C. Acheson Welcome Center\, 323 Erie St.\, Port Huron\, MI\, 48060\, United States
CATEGORIES:Admissions
END:VEVENT
BEGIN:VEVENT
DTSTART;TZID=America/Detroit:20250718T190000
DTEND;TZID=America/Detroit:20250718T203000
DTSTAMP:20260419T120738
CREATED:20250623T164512Z
LAST-MODIFIED:20250623T164515Z
UID:10002119-1752865200-1752870600@sc4.edu
SUMMARY:SC4 Free Summer Concert
DESCRIPTION:The SC4 Symphonic Band and Jazz band perform a series of summer concerts conducted by Erick Senkmajer.
URL:https://sc4.edu/event/sc4-free-summer-concert/
LOCATION:SC4 Fine Arts Theatre\, 601 Erie Street\, Port Huron\, MI\, 48060\, United States
CATEGORIES:Arts,Campus life,Community,SC4 Symphonic Band,Theatre
END:VEVENT
END:VCALENDAR