BEGIN:VCALENDAR
VERSION:2.0
PRODID:-//St. Clair County Community College - ECPv6.15.20//NONSGML v1.0//EN
CALSCALE:GREGORIAN
METHOD:PUBLISH
X-WR-CALNAME:St. Clair County Community College
X-ORIGINAL-URL:https://sc4.edu
X-WR-CALDESC:Events for St. Clair County Community College
REFRESH-INTERVAL;VALUE=DURATION:PT1H
X-Robots-Tag:noindex
X-PUBLISHED-TTL:PT1H
BEGIN:VTIMEZONE
TZID:America/Detroit
BEGIN:DAYLIGHT
TZOFFSETFROM:-0500
TZOFFSETTO:-0400
TZNAME:EDT
DTSTART:20240310T070000
END:DAYLIGHT
BEGIN:STANDARD
TZOFFSETFROM:-0400
TZOFFSETTO:-0500
TZNAME:EST
DTSTART:20241103T060000
END:STANDARD
BEGIN:DAYLIGHT
TZOFFSETFROM:-0500
TZOFFSETTO:-0400
TZNAME:EDT
DTSTART:20250309T070000
END:DAYLIGHT
BEGIN:STANDARD
TZOFFSETFROM:-0400
TZOFFSETTO:-0500
TZNAME:EST
DTSTART:20251102T060000
END:STANDARD
BEGIN:DAYLIGHT
TZOFFSETFROM:-0500
TZOFFSETTO:-0400
TZNAME:EDT
DTSTART:20260308T070000
END:DAYLIGHT
BEGIN:STANDARD
TZOFFSETFROM:-0400
TZOFFSETTO:-0500
TZNAME:EST
DTSTART:20261101T060000
END:STANDARD
END:VTIMEZONE
BEGIN:VEVENT
DTSTART;TZID=America/Detroit:20251103T000000
DTEND;TZID=America/Detroit:20251103T235959
DTSTAMP:20260421T005008
CREATED:20251103T161408Z
LAST-MODIFIED:20251103T161413Z
UID:10002259-1762128000-1762214399@sc4.edu
SUMMARY:Winter Registration Is Now Open!
DESCRIPTION:Get ahead this season by registering today for Winter classes at SC4. Whether you’re continuing your journey or just getting started\, now is the time to secure your schedule and stay on track toward your academic goals. \n\n\n\nRegister online at SC4.edu.Need assistance planning? Academic advisors are available Monday through Friday from 8 a.m. to 4:30 p.m. no appointment needed to assist you with course selection\, planning\, and more.
URL:https://sc4.edu/event/winter-registration-is-now-open/
LOCATION:MI
END:VEVENT
BEGIN:VEVENT
DTSTART;TZID=America/Detroit:20251103T090000
DTEND;TZID=America/Detroit:20251103T190000
DTSTAMP:20260421T005008
CREATED:20251112T163216Z
LAST-MODIFIED:20251112T163220Z
UID:10002267-1762160400-1762196400@sc4.edu
SUMMARY:Together We Create Art Exhibition
DESCRIPTION:Celebrate creativity across campus at Together We Create\, a unique art exhibition featuring works by SC4 students\, faculty\, and staff from all departments—not just Fine Arts! From professional instructors to warehouse technicians and biology professors\, this inclusive showcase highlights the diverse artistic talents within our SC4 community. \n\n\n\nStop by for an inspiring experience that brings people together through art.
URL:https://sc4.edu/event/together-we-create-art-exhibition/2025-11-03/
LOCATION:SC4 Fine Arts Gallery\, 601 Erie Street\, Port Huron\, Michigan\, 48060\, United States
CATEGORIES:Arts,Campus life
END:VEVENT
BEGIN:VEVENT
DTSTART;TZID=America/Detroit:20251103T110000
DTEND;TZID=America/Detroit:20251103T130000
DTSTAMP:20260421T005008
CREATED:20251014T202940Z
LAST-MODIFIED:20251014T202942Z
UID:10002233-1762167600-1762174800@sc4.edu
SUMMARY:Monday Popcorn Party
DESCRIPTION:Kick off your week with a salty snack and good vibes! Faculty\, staff\, and students are invited to grab free popcorn and hang out with SC4 Student Government in the College Center. Let’s make Mondays a little more fun! \n\n\n\nAudience: SC4 Faculty/Staff and Students
URL:https://sc4.edu/event/monday-popcorn-party/2025-11-03/
LOCATION:SC4 College Center\, 500 River Street\, Port Huron\, MI\, 48060\, United States
CATEGORIES:Campus life
END:VEVENT
BEGIN:VEVENT
DTSTART;TZID=America/Detroit:20251103T193000
DTEND;TZID=America/Detroit:20251103T210000
DTSTAMP:20260421T005008
CREATED:20251030T172055Z
LAST-MODIFIED:20251030T172058Z
UID:10002258-1762198200-1762203600@sc4.edu
SUMMARY:Dance Team Open Tryouts
DESCRIPTION:Are you ready to bring the energy\, passion\, and precision to the floor? The SC4 Competitive Dance Team is hosting open tryouts for students interested in joining our dynamic and spirited squad. All skill levels are welcome—just bring your enthusiasm\, athleticism\, and team spirit! \n\n\n\nPlease wear athletic or dance attire and bring water. No registration required—just show up and show out! \n\n\n\nFor more information\, text “Dance Team” to (810) 641-8755 or email promotions@sc4.edu. \n\n\n\nAudience: SC4 Students
URL:https://sc4.edu/event/dance-team-open-tryouts/
LOCATION:SC4 Fieldhouse\, 400 Erie Street\, Port Huron\, MI\, 48060\, United States
CATEGORIES:Campus life
END:VEVENT
BEGIN:VEVENT
DTSTART;TZID=America/Detroit:20251104T113000
DTEND;TZID=America/Detroit:20251104T130000
DTSTAMP:20260421T005008
CREATED:20251027T154144Z
LAST-MODIFIED:20251027T154154Z
UID:10002247-1762255800-1762261200@sc4.edu
SUMMARY:Free Lunch for SC4 Students!
DESCRIPTION:Stop by the College Center every Tuesday and Wednesday from 11:30 AM to 1 PM for a free lunch—just for SC4 students! While you’re there\, take advantage of amazing student services including:📚 Tutoring📝 Testing Center📖 Library🛍️ Bookstore🚓 Campus Patrol \n\n\n\nCome hungry\, leave supported! \n\n\n\nAudience: SC4 Students
URL:https://sc4.edu/event/free-lunch-for-sc4-students/2025-11-04/
LOCATION:SC4 College Center\, 500 River Street\, Port Huron\, MI\, 48060\, United States
CATEGORIES:Campus life
END:VEVENT
BEGIN:VEVENT
DTSTART;TZID=America/Detroit:20251105T110000
DTEND;TZID=America/Detroit:20251105T130000
DTSTAMP:20260421T005008
CREATED:20251016T202248Z
LAST-MODIFIED:20251016T202251Z
UID:10002241-1762340400-1762347600@sc4.edu
SUMMARY:Financial Wellness Literacy Education Presentation Presented By: Colleen Delong
DESCRIPTION:Join us for a fun\, interactive\, and empowering session all about financial literacy—designed with YOU in mind! \n\n\n\nWhether you’re just starting out or looking to sharpen your money skills\, this session will help you take control of your financial future with confidence. \n\n\n\n💡 What You’ll Learn: \n\n\n\n\nEasy-to-follow budgeting basics\n\n\n\nSmart tips for credit and debt management\n\n\n\nPractical saving strategies\n\n\n\nPersonalized financial planning for students\n\n\n\n\nLet’s make money management less stressful and more successful—together! \n\n\n\n👉 Click here to learn more about financial literacy \n\n\n\nAudience: SC4 Faculty/Staff and SC4 Students
URL:https://sc4.edu/event/financial-wellness-literacy-education-presentation-presented-by-colleen-delong/
LOCATION:SC4 College Center\, 500 River Street\, Port Huron\, MI\, 48060\, United States
CATEGORIES:Campus life,Financial Aid,Wellness
END:VEVENT
BEGIN:VEVENT
DTSTART;TZID=America/Detroit:20251105T113000
DTEND;TZID=America/Detroit:20251105T130000
DTSTAMP:20260421T005008
CREATED:20251027T154144Z
LAST-MODIFIED:20251027T154154Z
UID:10002248-1762342200-1762347600@sc4.edu
SUMMARY:Free Lunch for SC4 Students!
DESCRIPTION:Stop by the College Center every Tuesday and Wednesday from 11:30 AM to 1 PM for a free lunch—just for SC4 students! While you’re there\, take advantage of amazing student services including:📚 Tutoring📝 Testing Center📖 Library🛍️ Bookstore🚓 Campus Patrol \n\n\n\nCome hungry\, leave supported! \n\n\n\nAudience: SC4 Students
URL:https://sc4.edu/event/free-lunch-for-sc4-students/2025-11-05/
LOCATION:SC4 College Center\, 500 River Street\, Port Huron\, MI\, 48060\, United States
CATEGORIES:Campus life
END:VEVENT
BEGIN:VEVENT
DTSTART;TZID=America/Detroit:20251105T150000
DTEND;TZID=America/Detroit:20251105T160000
DTSTAMP:20260421T005008
CREATED:20251028T175318Z
LAST-MODIFIED:20251103T155804Z
UID:10002256-1762354800-1762358400@sc4.edu
SUMMARY:Lattes & Laughs with InterVarsity Club
DESCRIPTION:Join us for a friendly and uplifting gathering on Wednesday\, November 5th at 3 PM at Café Coffi in the Fieldhouse.  Enjoy complimentary coffee or cocoa from Coffi as you meet InterVarsity students and connect with new friends.   \n\n\n\nCome be encouraged and inspired by the Word of God in a warm\, welcoming atmosphere. \n\n\n\nAudience: SC4 Students
URL:https://sc4.edu/event/lattes-laughs-with-intervarsity-club/
LOCATION:SC4 Fieldhouse\, 400 Erie Street\, Port Huron\, MI\, 48060\, United States
CATEGORIES:Campus life
END:VEVENT
BEGIN:VEVENT
DTSTART;TZID=America/Detroit:20251105T170000
DTEND;TZID=America/Detroit:20251105T190000
DTSTAMP:20260421T005008
CREATED:20251028T183506Z
LAST-MODIFIED:20251028T183509Z
UID:10002257-1762362000-1762369200@sc4.edu
SUMMARY:Financial Wellness Literacy Education Presentation Presented By: Colleen Delong
DESCRIPTION:Join us for a fun\, interactive\, and empowering session all about financial literacy—designed with YOU in mind! \n\n\n\nWhether you’re just starting out or looking to sharpen your money skills\, this session will help you take control of your financial future with confidence. \n\n\n\n💡 What You’ll Learn: \n\n\n\n\nEasy-to-follow budgeting basics\n\n\n\nSmart tips for credit and debt management\n\n\n\nPractical saving strategies\n\n\n\nPersonalized financial planning for students\n\n\n\n\nLet’s make money management less stressful and more successful—together! \n\n\n\n👉 Click here to learn more about financial literacy \n\n\n\nAudience: SC4 Faculty/Staff and SC4 Students
URL:https://sc4.edu/event/financial-wellness-literacy-education-presentation-presented-by-colleen-delong-2/
LOCATION:SC4 College Center\, 500 River Street\, Port Huron\, MI\, 48060\, United States
CATEGORIES:Campus life,Financial Aid,Wellness
END:VEVENT
BEGIN:VEVENT
DTSTART;TZID=America/Detroit:20251106T090000
DTEND;TZID=America/Detroit:20251106T110000
DTSTAMP:20260421T005008
CREATED:20251103T163233Z
LAST-MODIFIED:20251103T163236Z
UID:10002260-1762419600-1762426800@sc4.edu
SUMMARY:Donut Thursdays
DESCRIPTION:Start your Thursday with a sweet treat! Students\, faculty\, and staff are invited to stop by the College Center every Thursday morning for complimentary donuts and coffee. It’s a great chance to connect\, recharge\, and enjoy a little pick-me-up before diving into the day.  \n\n\n\nAudience: SC4 Faculty/Staff and SC4 Students
URL:https://sc4.edu/event/donut-thursdays/2025-11-06/
LOCATION:SC4 College Center\, 500 River Street\, Port Huron\, MI\, 48060\, United States
CATEGORIES:Campus life
END:VEVENT
BEGIN:VEVENT
DTSTART;TZID=America/Detroit:20251106T090000
DTEND;TZID=America/Detroit:20251106T190000
DTSTAMP:20260421T005008
CREATED:20251112T163216Z
LAST-MODIFIED:20251112T163220Z
UID:10002268-1762419600-1762455600@sc4.edu
SUMMARY:Together We Create Art Exhibition
DESCRIPTION:Celebrate creativity across campus at Together We Create\, a unique art exhibition featuring works by SC4 students\, faculty\, and staff from all departments—not just Fine Arts! From professional instructors to warehouse technicians and biology professors\, this inclusive showcase highlights the diverse artistic talents within our SC4 community. \n\n\n\nStop by for an inspiring experience that brings people together through art.
URL:https://sc4.edu/event/together-we-create-art-exhibition/2025-11-06/
LOCATION:SC4 Fine Arts Gallery\, 601 Erie Street\, Port Huron\, Michigan\, 48060\, United States
CATEGORIES:Arts,Campus life
END:VEVENT
BEGIN:VEVENT
DTSTART;TZID=America/Detroit:20251106T140000
DTEND;TZID=America/Detroit:20251106T150000
DTSTAMP:20260421T005008
CREATED:20250916T212841Z
LAST-MODIFIED:20250916T212845Z
UID:10002183-1762437600-1762441200@sc4.edu
SUMMARY:FAFSA Completion Workshop
DESCRIPTION:FAFSA Completion Workshops are offered for students to help students and families with FAFSA completion.  \n\n\n\nLocation: Welcome Center 206 \n\n\n\nAdditional information about financial aid support can be found online at SC4 visit SC4.edu/financialaid or by contacting our expect financial aid team at financialaid@sc4.edu
URL:https://sc4.edu/event/fafsa-completion-workshop-23/
LOCATION:SC4 James C. Acheson Welcome Center\, 323 Erie St.\, Port Huron\, MI\, 48060\, United States
CATEGORIES:Admissions
END:VEVENT
BEGIN:VEVENT
DTSTART;TZID=America/Detroit:20251107T190000
DTEND;TZID=America/Detroit:20251107T210000
DTSTAMP:20260421T005008
CREATED:20251006T183043Z
LAST-MODIFIED:20251006T183253Z
UID:10002215-1762542000-1762549200@sc4.edu
SUMMARY:SC4 Fall Play Production of Over the River and Through the Woods
DESCRIPTION:The SC4 Theatre program presents their Fall Production\, Over the River and Through the Woods by Joe DiPietro\, directed by Jay McCulloch. Admission is free and open to the public. \n\n\n\n \n\n\n\nFor questions\, please contact Cullen Willard\, Theatre and Arts Promotion Coordinator\, at cgwillard@sc4.edu  \n\n\n\nLocation: SC4 Fine Arts Theatre \n\n\n\nAudience: Faculty\, staff\, current students\, alumni\, community and prospective students
URL:https://sc4.edu/event/sc4-fall-play-production-of-over-the-river-and-through-the-woods/
LOCATION:SC4 Fine Arts Theatre\, 601 Erie Street\, Port Huron\, MI\, 48060\, United States
CATEGORIES:Arts,Campus life,Theatre
END:VEVENT
BEGIN:VEVENT
DTSTART;TZID=America/Detroit:20251108T190000
DTEND;TZID=America/Detroit:20251108T210000
DTSTAMP:20260421T005008
CREATED:20251006T183154Z
LAST-MODIFIED:20251006T183157Z
UID:10002216-1762628400-1762635600@sc4.edu
SUMMARY:SC4 Fall Play Production of Over the River and Through the Woods
DESCRIPTION:The SC4 Theatre program presents their Fall Production\, Over the River and Through the Woods by Joe DiPietro\, directed by Jay McCulloch. Admission is free and open to the public. \n\n\n\n \n\n\n\nFor questions\, please contact Cullen Willard\, Theatre and Arts Promotion Coordinator\, at cgwillard@sc4.edu  \n\n\n\nLocation: SC4 Fine Arts Theatre \n\n\n\nAudience: Faculty\, staff\, current students\, alumni\, community and prospective students
URL:https://sc4.edu/event/sc4-fall-play-production-of-over-the-river-and-through-the-woods-2/
LOCATION:SC4 Fine Arts Theatre\, 601 Erie Street\, Port Huron\, MI\, 48060\, United States
CATEGORIES:Arts,Campus life,Theatre
END:VEVENT
END:VCALENDAR